BEGIN:VCALENDAR
VERSION:2.0
PRODID:-//Livable Raleigh - ECPv6.15.20//NONSGML v1.0//EN
CALSCALE:GREGORIAN
METHOD:PUBLISH
X-ORIGINAL-URL:https://livableraleigh.com
X-WR-CALDESC:Events for Livable Raleigh
REFRESH-INTERVAL;VALUE=DURATION:PT1H
X-Robots-Tag:noindex
X-PUBLISHED-TTL:PT1H
BEGIN:VTIMEZONE
TZID:America/New_York
BEGIN:DAYLIGHT
TZOFFSETFROM:-0500
TZOFFSETTO:-0400
TZNAME:EDT
DTSTART:20240310T070000
END:DAYLIGHT
BEGIN:STANDARD
TZOFFSETFROM:-0400
TZOFFSETTO:-0500
TZNAME:EST
DTSTART:20241103T060000
END:STANDARD
BEGIN:DAYLIGHT
TZOFFSETFROM:-0500
TZOFFSETTO:-0400
TZNAME:EDT
DTSTART:20250309T070000
END:DAYLIGHT
BEGIN:STANDARD
TZOFFSETFROM:-0400
TZOFFSETTO:-0500
TZNAME:EST
DTSTART:20251102T060000
END:STANDARD
BEGIN:DAYLIGHT
TZOFFSETFROM:-0500
TZOFFSETTO:-0400
TZNAME:EDT
DTSTART:20260308T070000
END:DAYLIGHT
BEGIN:STANDARD
TZOFFSETFROM:-0400
TZOFFSETTO:-0500
TZNAME:EST
DTSTART:20261101T060000
END:STANDARD
END:VTIMEZONE
BEGIN:VEVENT
DTSTART;TZID=America/New_York:20250701T100000
DTEND;TZID=America/New_York:20250701T113000
DTSTAMP:20260423T224410
CREATED:20250530T032030Z
LAST-MODIFIED:20250530T032030Z
UID:45813-1751364000-1751369400@livableraleigh.com
SUMMARY:Outreach at North Regional Library
DESCRIPTION:July 1\n10 a.m. to 11:30 a.m.\n7009 Harps Mill Road\n\nWant to learn more about City services without the hassle of traveling downtown? Now you can! Raleigh’s Community Engagement Team is visiting neighborhoods across the city\, bringing resources directly to residents. Residents will have the opportunity to: \n\nLearn about projects impacting your community;\nSign up for activities and classes\, including our FREE English Language programs;\nGet assistance navigating our website and services; and\,\nMuch more!\n\nView Community Engagement event calendar
URL:https://livableraleigh.com/event/outreach-at-north-regional-library-3/
LOCATION:North Regional Library\, 7009 Harps Mill Road\, Raleigh\, NC\, 27615
CATEGORIES:Community Engagement
END:VEVENT
BEGIN:VEVENT
DTSTART;TZID=America/New_York:20250701T160000
DTEND;TZID=America/New_York:20250701T180000
DTSTAMP:20260423T224410
CREATED:20250621T012440Z
LAST-MODIFIED:20250621T012440Z
UID:46202-1751385600-1751392800@livableraleigh.com
SUMMARY:Sidewalk Sessions with Raleigh Transportation at Kiwanis Park
DESCRIPTION:Raleigh Transportation is hitting the streets with a new community engagement series called Sidewalk Sessions. This campaign brings our team directly into the community—outside of traditional public meetings—by partnering with local businesses and community spaces across the city. \nJoin our session on Tuesday\, July 1 at Kiwanis Park from 4 to 6 p.m. at the “Red\, White\, and Grandkids” Fourth of July-themed event. Stop by to meet Raleigh Parking staff\, ask questions\, share your ideas\, and learn more about downtown parking projects. It’s a casual\, convenient way to connect and help shape the future of transportation in Raleigh. \nNo speeches\, no presentations—just real conversations about your neighborhood! \n\nRaleigh Parking efficiently manages the City of Raleigh’s parking operations and assets; provides on-street and off-street parking services for residents\, businesses and visitors. Learn more about how we serve the City!
URL:https://livableraleigh.com/event/sidewalk-sessions-with-raleigh-transportation-at-kiwanis-park/
LOCATION:Kiwanis Park\, 2525 Noble Road\, 27608
CATEGORIES:Community Engagement
END:VEVENT
BEGIN:VEVENT
DTSTART;TZID=America/New_York:20250708T140000
DTEND;TZID=America/New_York:20250708T153000
DTSTAMP:20260423T224410
CREATED:20250530T033424Z
LAST-MODIFIED:20250530T033424Z
UID:45835-1751983200-1751988600@livableraleigh.com
SUMMARY:Outreach at Duraleigh Community Library
DESCRIPTION:July 8\n2 p.m. to 3:30 p.m.\n5800 Duraleigh Road\n\nWant to learn more about City services without the hassle of traveling downtown? Now you can! Raleigh’s Community Engagement Team is visiting neighborhoods across the city\, bringing resources directly to residents. Residents will have the opportunity to: \n\nLearn about projects impacting your community;\nSign up for activities and classes\, including our FREE English Language programs;\nGet assistance navigating our website and services; and\,\nMuch more!\n\nView Community Engagement event calendar
URL:https://livableraleigh.com/event/outreach-at-duraleigh-community-library-3/
LOCATION:Duraleigh Road Community Library\, 5800 Duraleigh Road
CATEGORIES:Community Engagement
END:VEVENT
BEGIN:VEVENT
DTSTART;TZID=America/New_York:20250708T160000
DTEND;TZID=America/New_York:20250708T180000
DTSTAMP:20260423T224410
CREATED:20250626T225222Z
LAST-MODIFIED:20250626T225222Z
UID:46266-1751990400-1751997600@livableraleigh.com
SUMMARY:Sidewalk Sessions with Raleigh Transportation at Barwell Road Community Center
DESCRIPTION:Raleigh Transportation is hitting the streets with a new community engagement series called Sidewalk Sessions. This campaign brings our team directly into the community—outside of traditional public meetings—by partnering with local businesses and community spaces across the city. \nJoin us on Tuesday\, July 8 at the Barwell Road Community Center from 4 – 6 p.m. Stop by to meet Raleigh Transportation’s Mobility Strategy & Infrastructure team\, ask questions\, share your ideas\, and learn more about the Active Mobility Plan (AMP)—an update to the City’s bike and pedestrian plans that will shape the future of walking\, biking\, and rolling across Raleigh. \nKey focus areas of the AMP include: \n\ncitywide network recommendations\npolicy and program opportunities\,\nand strategies to prioritize safe\, comfortable mobility options for all.\n\nStop by anytime! It’s a casual\, convenient way to connect and help shape the future of transportation in Raleigh. \nNo speeches\, no presentations—just real conversations about your neighborhood. \n\nLearn more about the Active Mobility Plan and take the survey!
URL:https://livableraleigh.com/event/sidewalk-sessions-with-raleigh-transportation-at-barwell-road-community-center/
LOCATION:Barwell Road Community Center\, 5857 Barwell Park Dr\, Raleigh\, NC\, 27610\, United States
CATEGORIES:Community Engagement
END:VEVENT
BEGIN:VEVENT
DTSTART;TZID=America/New_York:20250709T163000
DTEND;TZID=America/New_York:20250709T183000
DTSTAMP:20260423T224410
CREATED:20250530T033638Z
LAST-MODIFIED:20250530T033638Z
UID:45839-1752078600-1752085800@livableraleigh.com
SUMMARY:Community Engagement Board Meeting
DESCRIPTION:Please join us for the Community Engagement Board meeting. \nDate: Wednesday\, July 9\nTime: 4:30 p.m. \nLocation:\nRaleigh Municipal Building\nRoom 305\n222 W. Hargett Street\nRaleigh\, NC 27601 \nOnline:\nIf you can’t attend in person\, please join virtually. \nFree Parking:\nMunicipal Complex Parking Deck\nThird Level\n201 W. Morgan Street\nRaleigh\, NC 27604
URL:https://livableraleigh.com/event/community-engagement-board-meeting-17/
LOCATION:Raleigh Municipal Building\, 222 W. Hargett St.\, Raleigh\, NC\, 27601\, United States
CATEGORIES:Community Engagement
END:VEVENT
BEGIN:VEVENT
DTSTART;TZID=America/New_York:20250710T180000
DTEND;TZID=America/New_York:20250710T200000
DTSTAMP:20260423T224410
CREATED:20250621T013016Z
LAST-MODIFIED:20250621T013016Z
UID:46208-1752170400-1752177600@livableraleigh.com
SUMMARY:Affordable Housing Summit Recap
DESCRIPTION:Did you miss the Affordable Housing Summit? We’re hosting a special recap event to watch the keynote presentations and share your feedback. Your ideas will help shape Raleigh’s next Comprehensive Plan and future housing strategies. \nDate: July 10\, 6-8 p.m. \nLocation: Iglesia Pacto de Vida Eterna\, 1021 Corporation Parkway \nRegistration is free and open to all. \nLearn. Reflect. Help shape Raleigh’s housing future.
URL:https://livableraleigh.com/event/affordable-housing-summit-recap/
LOCATION:Iglesia Pacto de Vida Eterna\, 1021 Corporation Parkway\, Raleigh\, NC\, 27610
CATEGORIES:Community Engagement
END:VEVENT
BEGIN:VEVENT
DTSTART;TZID=America/New_York:20250712T090000
DTEND;TZID=America/New_York:20250712T100000
DTSTAMP:20260423T224410
CREATED:20250701T141627Z
LAST-MODIFIED:20250701T141627Z
UID:46449-1752310800-1752314400@livableraleigh.com
SUMMARY:Community Engagement Department Coffee and Conversations
DESCRIPTION:Join us for Coffee and Conversations!\nA new partnership between the Community Engagement Department and A Place at the Table \n\nNEWSPublished 6/27/2025Updated 6/27/2025 \n\n\n\n\nWe’re excited to share a new partnership! Starting July 12th\, Raleigh’s Community Engagement Department will team up with A Place at the Table to co-host monthly “Coffee and Conversations.” Our first talk will focus on Disability Pride Month\, with guests from the Alliance of Disability Advocates. \nThese events are meant to be friendly and welcoming\, with open conversations about important topics. There won’t be a set agenda—just a chance to listen\, share\, and learn from each other. \nEvent Details\nJuly 12\, 2025\n9 a.m. to 10 a.m.\nA Place at the Table\n300 W Hargett St Unit 50\, Raleigh\, NC
URL:https://livableraleigh.com/event/community-engagement-department-coffee-and-conversations/
LOCATION:A Place At the Table\, 300 West Hargett Street\, Raleigh
CATEGORIES:Community Engagement,Engagement Filter
END:VEVENT
BEGIN:VEVENT
DTSTART;TZID=America/New_York:20250716T100000
DTEND;TZID=America/New_York:20250716T113000
DTSTAMP:20260423T224410
CREATED:20250530T035908Z
LAST-MODIFIED:20250530T035908Z
UID:45849-1752660000-1752665400@livableraleigh.com
SUMMARY:Outreach at Green Road Community Library
DESCRIPTION:July 16\n10 a.m. to 11:30 a.m.\n4101 Green Road\n\nWant to learn more about City services without the hassle of traveling downtown? Now you can! Raleigh’s Community Engagement Team is visiting neighborhoods across the city\, bringing resources directly to residents. Residents will have the opportunity to: \n\nLearn about projects impacting your community;\nSign up for activities and classes\, including our FREE English Language programs;\nGet assistance navigating our website and services; and\,\nMuch more!\n\nView Community Engagement event calendar
URL:https://livableraleigh.com/event/outreach-at-green-road-community-library-3/
LOCATION:Green Road Community Library\, 4101 Green Road\, Raleigh\, NC\, 27604
CATEGORIES:Community Engagement
END:VEVENT
BEGIN:VEVENT
DTSTART;TZID=America/New_York:20250719T130000
DTEND;TZID=America/New_York:20250719T160000
DTSTAMP:20260423T224410
CREATED:20250607T002505Z
LAST-MODIFIED:20250607T002505Z
UID:46040-1752930000-1752940800@livableraleigh.com
SUMMARY:Disability Pride Month Celebration
DESCRIPTION:Celebrate Disability Pride Month and the 35th Anniversary of the ADA with a powerful showcase honoring the creativity\, resilience\, and contributions of the disability community. \nASL Interpreters\, CART\, and Audio Description will be provided. If you have a different reasonable accommodation request\, please contact ADA@raleighnc.gov by July 7. Every effort will be made to fulfil requests received after this date.
URL:https://livableraleigh.com/event/disability-pride-month-celebration/
LOCATION:Raleigh Convention Center\, 500 South Salisbury Street\, Raleigh\, NC\, 27601
CATEGORIES:Community Engagement
END:VEVENT
BEGIN:VEVENT
DTSTART;TZID=America/New_York:20250719T130000
DTEND;TZID=America/New_York:20250719T160000
DTSTAMP:20260423T224410
CREATED:20250711T211123Z
LAST-MODIFIED:20250711T211123Z
UID:46564-1752930000-1752940800@livableraleigh.com
SUMMARY:Resource Fair: Celebrating 35 Years of the ADA
DESCRIPTION:Celebrate Disability Pride Month and the 35th Anniversary of the ADA with a powerful showcase honoring the creativity\, resilience\, and contributions of the disability community. \n\n\nJoin us to learn more about community resources! Several local organizations will be available to talk about services\, resources\, and provide demonstrations of adaptive equipment and assistive technology. \nView the event schedule and learn more! \nMeet our community resources: \nAdaptive Sled Hockey\, Alliance of Disability Advocates\, Arts Access NC\, Artspace\, ComMotion – Community in Motion\, Disability Rights NC\, GoRaleigh Access\, L’Arch North Carolina\, Low Vision Rehab Solutions\, Marbles\, Miracle League\, NAMI – National Alliance of Mental Illness\, NC ABLE\, NC Assistive Technology Program\, NC Division of Services for the Deaf and Hard of Hearing\, NC State University – Catalyst Program\, Raleigh’s Specialized Recreation & Inclusive Services Program\, Raleigh Tennis Association – Adaptive Tennis Program\, Raleigh-Wake Council of the Blind\, Senior Community Care of NC PACE\, The Arc of NC\, Triangle Disability & Autism Services\, and Triangle Federation of the Blind. \n\n\n\n\n\n\n\n\n\n\n\n\n\n\n \n\n\n\n\n\nThe original Disability Pride flag was created by Ann Magill\, who has cerebral palsy. It was developed to raise awareness and as a symbol of solidarity\, acceptance and pride. In 2021 Magill collaborated with others to update the flag to be more accessible. Each color stripe represents a different group within the disability community: \n\n\nThe diagonal stripes are set on a faded black background to symbolize mourning for those who have experienced neglect\, violence\, and death due to the disability. This flag also represents individuals cutting through darkness and barriers that separate them from society.  \n\n\n\nASL Interpreters\, CART\, Assistive Listening Devices\, and Audio Description will be provided. If you have a different reasonable accommodation request\, please contact ADA@raleighnc.gov by July 7. Every effort will be made to fulfill requests received after this date. To learn more about accessibility at the Raleigh Convention Center\, please visit Accessibility | Raleigh Convention Center
URL:https://livableraleigh.com/event/resource-fair-celebrating-35-years-of-the-ada/
LOCATION:Raleigh Convention Center\, 500 South Salisbury Street\, Raleigh\, NC\, 27601
CATEGORIES:Community Engagement
END:VEVENT
BEGIN:VEVENT
DTSTART;TZID=America/New_York:20250728T130000
DTEND;TZID=America/New_York:20250728T140000
DTSTAMP:20260423T224410
CREATED:20250530T040617Z
LAST-MODIFIED:20250530T040617Z
UID:45859-1753707600-1753711200@livableraleigh.com
SUMMARY:Community Engagement Board - Policy Subcommittee Meeting
DESCRIPTION:Please join us for the Community Engagement Board Policy Subcommittee meeting.
URL:https://livableraleigh.com/event/community-engagement-board-policy-subcommittee-meeting-6/
LOCATION:Raleigh Pathways Center\, 900 S. Wilmington Street
CATEGORIES:Community Engagement
END:VEVENT
BEGIN:VEVENT
DTSTART;TZID=America/New_York:20250728T170000
DTEND;TZID=America/New_York:20250728T183000
DTSTAMP:20260423T224410
CREATED:20250530T040734Z
LAST-MODIFIED:20250530T040734Z
UID:45861-1753722000-1753727400@livableraleigh.com
SUMMARY:Community Engagement Board - Equity Subcommittee Meeting
DESCRIPTION:Please join us for the Community Engagement Board Equity Subcommittee meeting.  This meeting will be held online. \nJoin the meeting virtually
URL:https://livableraleigh.com/event/community-engagement-board-equity-subcommittee-meeting-12/
LOCATION:Virtual Meeting
CATEGORIES:Community Engagement
END:VEVENT
BEGIN:VEVENT
DTSTART;TZID=America/New_York:20250729T120000
DTEND;TZID=America/New_York:20250729T140000
DTSTAMP:20260423T224410
CREATED:20250725T020446Z
LAST-MODIFIED:20250725T020520Z
UID:46905-1753790400-1753797600@livableraleigh.com
SUMMARY:Future Construction Chat at the Boyer-Waldrop Site
DESCRIPTION:Join us as we serve light refreshments (Healthy drinks & baked goods from your local community businesses)\, and we hand out informational materials and answer any questions the community may have. \nDate: Tuesday\, July 29 \nLocation: 1701 Boyer St. Raleigh\, NC \nTime: 12 – 2pm \nWe’ll be sharing updates on: \n\nThe Boyer-Waldrop Redevelopment Site\nThe new Wake Bus Rapid Transit (BRT) Station and New Bern corridor construction.\n\nWe hope to see you there!
URL:https://livableraleigh.com/event/future-construction-chat-at-the-boyer-waldrop-site-2/
LOCATION:Boyer_Waldrop Site\, 1701 Boyer Street\, Raleigh\, NC\, 27610
CATEGORIES:Community Engagement
END:VEVENT
END:VCALENDAR