BEGIN:VCALENDAR
VERSION:2.0
PRODID:-//Livable Raleigh - ECPv6.15.20//NONSGML v1.0//EN
CALSCALE:GREGORIAN
METHOD:PUBLISH
X-ORIGINAL-URL:https://livableraleigh.com
X-WR-CALDESC:Events for Livable Raleigh
REFRESH-INTERVAL;VALUE=DURATION:PT1H
X-Robots-Tag:noindex
X-PUBLISHED-TTL:PT1H
BEGIN:VTIMEZONE
TZID:America/New_York
BEGIN:DAYLIGHT
TZOFFSETFROM:-0500
TZOFFSETTO:-0400
TZNAME:EDT
DTSTART:20240310T070000
END:DAYLIGHT
BEGIN:STANDARD
TZOFFSETFROM:-0400
TZOFFSETTO:-0500
TZNAME:EST
DTSTART:20241103T060000
END:STANDARD
BEGIN:DAYLIGHT
TZOFFSETFROM:-0500
TZOFFSETTO:-0400
TZNAME:EDT
DTSTART:20250309T070000
END:DAYLIGHT
BEGIN:STANDARD
TZOFFSETFROM:-0400
TZOFFSETTO:-0500
TZNAME:EST
DTSTART:20251102T060000
END:STANDARD
BEGIN:DAYLIGHT
TZOFFSETFROM:-0500
TZOFFSETTO:-0400
TZNAME:EDT
DTSTART:20260308T070000
END:DAYLIGHT
BEGIN:STANDARD
TZOFFSETFROM:-0400
TZOFFSETTO:-0500
TZNAME:EST
DTSTART:20261101T060000
END:STANDARD
END:VTIMEZONE
BEGIN:VEVENT
DTSTART;TZID=America/New_York:20250604T100000
DTEND;TZID=America/New_York:20250604T113000
DTSTAMP:20260425T113000
CREATED:20250502T152917Z
LAST-MODIFIED:20250502T152917Z
UID:45074-1749031200-1749036600@livableraleigh.com
SUMMARY:Outreach at North Regional Library
DESCRIPTION:June 4\n10 a.m. to 11:30 a.m.\n7009 Harps Mill Road\n\nWant to learn more about City services without the hassle of traveling downtown? Now you can! Raleigh’s Community Engagement Team is visiting neighborhoods across the city\, bringing resources directly to residents. Residents will have the opportunity to: \n\nLearn about projects impacting your community;\nSign up for activities and classes\, including our FREE English Language programs;\nGet assistance navigating our website and services; and\,\nMuch more!
URL:https://livableraleigh.com/event/outreach-at-north-regional-library-2/
LOCATION:North Regional Library\, 7009 Harps Mill Road\, Raleigh\, NC\, 27615
CATEGORIES:Community Engagement
END:VEVENT
BEGIN:VEVENT
DTSTART;TZID=America/New_York:20250605T180000
DTEND;TZID=America/New_York:20250605T200000
DTSTAMP:20260425T113000
CREATED:20250510T020807Z
LAST-MODIFIED:20250510T020807Z
UID:45326-1749146400-1749153600@livableraleigh.com
SUMMARY:Sustain-A-City: Infrastructure and Services
DESCRIPTION:Join us for Sustain-A-City: Infrastructure and Services\, part of the Reflecting Raleigh Community Conversation series to explore how we can grow equitably and sustainably. Hear from experts on how we can plan for essential water\, housing\, transportation\, and public safety support residents today and tomorrow. Come share your ideas! \n\n  \n\n\nThursday\, June 5 | 6-8 p.m.\nState of the City and Community Conversation\nMcKimmon Center at NC State University\n1101 Gorman Street\n\n\n\n  \n\n\n  \n\n\nRegistration is encouraged but not required. Refreshments will be provided. Let us know if you plan to come! It helps us plan for things like language interpretation and accessibility.
URL:https://livableraleigh.com/event/sustain-a-city-infrastructure-and-services-2/
LOCATION:McKimmon Center\, NCSU McKimmon Center 1101 Gorman Street\, Raleigh\, NC\, 27606\, United States
CATEGORIES:Community Engagement
END:VEVENT
BEGIN:VEVENT
DTSTART;TZID=America/New_York:20250610T100000
DTEND;TZID=America/New_York:20250610T130000
DTSTAMP:20260425T113000
CREATED:20250517T005202Z
LAST-MODIFIED:20250517T005202Z
UID:45515-1749549600-1749560400@livableraleigh.com
SUMMARY:Introducing Sidewalk Sessions: Meeting You Where You Are
DESCRIPTION:Raleigh Transportation is hitting the streets with a new community engagement series called Sidewalk Sessions. This campaign brings our team directly into the community—outside of traditional public meetings—by partnering with local businesses and community spaces across the city. \nJoin us on Tuesday\, June 10 at Pullen Park from 10 a.m. to 1 p.m. Stop by to meet Raleigh Transportation’s Vision Zero staff\, ask questions\, share your ideas\, and learn more about ongoing projects in your area. It’s a casual\, convenient way to connect and help shape the future of transportation in Raleigh. \nNo speeches\, no presentations—just real conversations about your neighborhood! \n\nLearn more about our Vision Zero program! \n\n\n\n\n\n\nShare
URL:https://livableraleigh.com/event/introducing-sidewalk-sessions-meeting-you-where-you-are-2/
LOCATION:Pullen Community Center\, 408 Ashe Ave\, Raleigh\, NC\, 27607
CATEGORIES:Community Engagement
END:VEVENT
BEGIN:VEVENT
DTSTART;TZID=America/New_York:20250610T140000
DTEND;TZID=America/New_York:20250610T153000
DTSTAMP:20260425T113000
CREATED:20250502T155307Z
LAST-MODIFIED:20250502T155307Z
UID:45102-1749564000-1749569400@livableraleigh.com
SUMMARY:Outreach at Duraleigh Community Library
DESCRIPTION:June 10\n2 p.m. to 3:30 p.m.\n5800 Duraleigh Road\n\nWant to learn more about City services without the hassle of traveling downtown? Now you can! Raleigh’s Community Engagement Team is visiting neighborhoods across the city\, bringing resources directly to residents. Residents will have the opportunity to: \n\nLearn about projects impacting your community;\nSign up for activities and classes\, including our FREE English Language programs;\nGet assistance navigating our website and services; and\,\nMuch more!
URL:https://livableraleigh.com/event/outreach-at-duraleigh-community-library-2/
LOCATION:Duraleigh Road Community Library\, 5800 Duraleigh Road
CATEGORIES:Community Engagement
END:VEVENT
BEGIN:VEVENT
DTSTART;TZID=America/New_York:20250613T190000
DTEND;TZID=America/New_York:20250613T220000
DTSTAMP:20260425T113000
CREATED:20250607T000400Z
LAST-MODIFIED:20250607T000400Z
UID:46022-1749841200-1749852000@livableraleigh.com
SUMMARY:Sidewalk Sessions with Raleigh Transportation at Carolina Pines
DESCRIPTION:Raleigh Transportation is hitting the streets with a new community engagement series called Sidewalk Sessions. This campaign brings our team directly into the community—outside of traditional public meetings—by partnering with local businesses and community spaces across the city. \nJoin us on Tuesday\, June 10 at Pullen Park from 10 a.m. to 1 p.m. Stop by to meet Raleigh Transportation’s Vision Zero staff\, ask questions\, share your ideas\, and learn more about ongoing projects in your area. It’s a casual\, convenient way to connect and help shape the future of transportation in Raleigh. \nNo speeches\, no presentations—just real conversations about your neighborhood! \n\nLearn more about our Vision Zero program!
URL:https://livableraleigh.com/event/sidewalk-sessions-with-raleigh-transportation-at-carolina-pines/
LOCATION:Carolina Pines Community Center\, 2305 Lake Wheeler Road\, Raleigh\, NC\, 27603\, United States
CATEGORIES:Community Engagement
END:VEVENT
BEGIN:VEVENT
DTSTART;TZID=America/New_York:20250617T160000
DTEND;TZID=America/New_York:20250617T180000
DTSTAMP:20260425T113000
CREATED:20250607T000559Z
LAST-MODIFIED:20250607T000559Z
UID:46024-1750176000-1750183200@livableraleigh.com
SUMMARY:Sidewalk Sessions with Raleigh Transportation at Eastgate Park
DESCRIPTION:Raleigh Transportation is hitting the streets with a new community engagement series called Sidewalk Sessions. This campaign brings our team directly into the community—outside of traditional public meetings—by partnering with local businesses and community spaces across the city. \nJoin us on Tuesday\, June 17 at Eastgate Park from 4 p.m. to 6 p.m. Stop by to meet Raleigh Transportation’s Mobility & Strategy staff\, ask questions\, share your ideas\, and learn more about the Quail Hollow Drive Green Street Project which aims to improve mobility and connectivity for pedestrians\, bicyclists\, and all active mobility users projects in the area. \nQuail Hollow Drive between Hardimont Road and Millbrook Road has been identified for active mobility improvements\, green stormwater infrastructure (GSI)\, and traffic calming as part of the  2020 Midtown-St. Albans Area Plan\, and speed compliance thresholds met through the Neighborhood Traffic Management Program. \nStop by anytime!  It’s a casual\, convenient way to connect and help shape the future of transportation in Raleigh. \nNo speeches\, no presentations—just real conversations about your neighborhood!
URL:https://livableraleigh.com/event/sidewalk-sessions-with-raleigh-transportation-at-eastgate-park/
LOCATION:Eastgate Park\, 4200 Quail Hollow Dr\,\, Raleigh\, NC\, 27609
CATEGORIES:Community Engagement
END:VEVENT
BEGIN:VEVENT
DTSTART;TZID=America/New_York:20250618T090000
DTEND;TZID=America/New_York:20250618T120000
DTSTAMP:20260425T113000
CREATED:20250510T021617Z
LAST-MODIFIED:20250510T021617Z
UID:45337-1750237200-1750248000@livableraleigh.com
SUMMARY:Introducing Sidewalk Sessions: Meeting You Where You Are
DESCRIPTION:Raleigh Transportation is hitting the streets with a new community engagement series called Sidewalk Sessions. This campaign brings our team directly into the community—outside of traditional public meetings—by partnering with local businesses and community spaces across the city. \nJoin us for our first session on Tuesday\, June 18 at Nash Square Park from 9 a.m. to 12 p.m. Stop by to meet Raleigh Transportation’s Vision Zero staff\, ask questions\, share your ideas\, and learn more about ongoing projects in your area. It’s a casual\, convenient way to connect and help shape the future of transportation in Raleigh. \n\nLearn more about our Vision Zero program!
URL:https://livableraleigh.com/event/introducing-sidewalk-sessions-meeting-you-where-you-are/
LOCATION:Nash Square\, 200 S McDowell St\, Raleigh\, 27601\, United States
CATEGORIES:Community Engagement
END:VEVENT
BEGIN:VEVENT
DTSTART;TZID=America/New_York:20250618T100000
DTEND;TZID=America/New_York:20250618T113000
DTSTAMP:20260425T113000
CREATED:20250502T164624Z
LAST-MODIFIED:20250502T164624Z
UID:45137-1750240800-1750246200@livableraleigh.com
SUMMARY:Outreach at Green Road Community Library
DESCRIPTION:June 18\n10 a.m. to 11:30 a.m.\n4101 Green Road\n\nWant to learn more about City services without the hassle of traveling downtown? Now you can! Raleigh’s Community Engagement Team is visiting neighborhoods across the city\, bringing resources directly to residents. Residents will have the opportunity to: \n\nLearn about projects impacting your community;\nSign up for activities and classes\, including our FREE English Language programs;\nGet assistance navigating our website and services; and\,\nMuch more!\n\nView Community Engagement event calendar
URL:https://livableraleigh.com/event/outreach-at-green-road-community-library-2/
LOCATION:Green Road Community Library\, 4101 Green Road\, Raleigh\, NC\, 27604
CATEGORIES:Community Engagement
END:VEVENT
BEGIN:VEVENT
DTSTART;TZID=America/New_York:20250620T113000
DTEND;TZID=America/New_York:20250620T130000
DTSTAMP:20260425T113000
CREATED:20250517T005904Z
LAST-MODIFIED:20250517T005904Z
UID:45523-1750419000-1750424400@livableraleigh.com
SUMMARY:Fayetteville Street Streetscape Plan: Ask-A-Planner
DESCRIPTION:If you missed the Open House or have additional thoughts\, join us for Ask-A-Planner\, where you can talk one-on-one with Planning staff about the project. \nAsk-A-Planner\nFriday\, June 20 | 11:30 a.m. – 1 p.m.\nCity Plaza \nAsk-A-Planner\nTuesday\, June 24 | 11:30 a.m. – 1 p.m.\nExchange Plaza \n  \nAsk-A-Planner\nThursday\, June 26 | 11:30 a.m. – 1 p.m.\nCity Plaza \nAsk-A-Planner\nMonday\, June 30 | 11:30 a.m. – 1 p.m.\nExchange Plaza
URL:https://livableraleigh.com/event/fayetteville-street-streetscape-plan-ask-a-planner/
LOCATION:City Plaza\, 400 Fayetteville St.\, Raleigh\, NC\, 27610
CATEGORIES:Community Engagement
END:VEVENT
BEGIN:VEVENT
DTSTART;TZID=America/New_York:20250624T110000
DTEND;TZID=America/New_York:20250624T130000
DTSTAMP:20260425T113000
CREATED:20250621T011649Z
LAST-MODIFIED:20250621T011649Z
UID:46191-1750762800-1750770000@livableraleigh.com
SUMMARY:Future Construction Chat at the Boyer-Waldrop Site
DESCRIPTION:Join us as we serve light refreshments (drinks & baked goods)\, and we hand out informational materials and answer any questions the community may have. \nLocation: 1701 Boyer St. \nTime: 11 a.m. – 2 p.m. \nWe’ll be sharing updates on: \n\nThe Boyer-Waldrop Redevelopment Site\nThe new Wake Bus Rapid Transit (BRT) Station and New Bern corridor construction.
URL:https://livableraleigh.com/event/future-construction-chat-at-the-boyer-waldrop-site/
LOCATION:Boyer_Waldrop Site\, 1701 Boyer Street\, Raleigh\, NC\, 27610
CATEGORIES:Community Engagement
END:VEVENT
BEGIN:VEVENT
DTSTART;TZID=America/New_York:20250624T113000
DTEND;TZID=America/New_York:20250624T130000
DTSTAMP:20260425T113000
CREATED:20250517T010129Z
LAST-MODIFIED:20250517T010129Z
UID:45528-1750764600-1750770000@livableraleigh.com
SUMMARY:Fayetteville Street Streetscape Plan: Ask-A-Planner
DESCRIPTION:If you missed the Open House or have additional thoughts\, join us for Ask-A-Planner\, where you can talk one-on-one with Planning staff about the project. \nAsk-A-Planner\nFriday\, June 20 | 11:30 a.m. – 1 p.m.\nCity Plaza \nAsk-A-Planner\nTuesday\, June 24 | 11:30 a.m. – 1 p.m.\nExchange Plaza \n  \nAsk-A-Planner\nThursday\, June 26 | 11:30 a.m. – 1 p.m.\nCity Plaza \nAsk-A-Planner\nMonday\, June 30 | 11:30 a.m. – 1 p.m.\nExchange Plaza
URL:https://livableraleigh.com/event/fayetteville-street-streetscape-plan-ask-a-planner-2/
LOCATION:One Exchange Plaza\, 1 Exchange Plaza\, Raleigh\, NY\, 27601
CATEGORIES:Community Engagement
END:VEVENT
BEGIN:VEVENT
DTSTART;TZID=America/New_York:20250626T113000
DTEND;TZID=America/New_York:20250626T130000
DTSTAMP:20260425T113000
CREATED:20250517T010337Z
LAST-MODIFIED:20250517T010337Z
UID:45530-1750937400-1750942800@livableraleigh.com
SUMMARY:Fayetteville Street Streetscape Plan: Ask-A-Planner
DESCRIPTION:If you missed the Open House or have additional thoughts\, join us for Ask-A-Planner\, where you can talk one-on-one with Planning staff about the project. \nAsk-A-Planner\nFriday\, June 20 | 11:30 a.m. – 1 p.m.\nCity Plaza \nAsk-A-Planner\nTuesday\, June 24 | 11:30 a.m. – 1 p.m.\nExchange Plaza \n  \nAsk-A-Planner\nThursday\, June 26 | 11:30 a.m. – 1 p.m.\nCity Plaza \nAsk-A-Planner\nMonday\, June 30 | 11:30 a.m. – 1 p.m.\nExchange Plaza
URL:https://livableraleigh.com/event/fayetteville-street-streetscape-plan-ask-a-planner-3/
LOCATION:City Plaza\, 400 Fayetteville St.\, Raleigh\, NC\, 27610
CATEGORIES:Community Engagement
END:VEVENT
BEGIN:VEVENT
DTSTART;TZID=America/New_York:20250628T110000
DTEND;TZID=America/New_York:20250628T140000
DTSTAMP:20260425T113000
CREATED:20250523T020647Z
LAST-MODIFIED:20250523T020647Z
UID:45610-1751108400-1751119200@livableraleigh.com
SUMMARY:Rolling Together: A Community Resource Fair at Green Road Park
DESCRIPTION:Discover Raleigh’s mobile services firsthand! We’re bringing together organizations that use mobile vehicles to deliver resources directly to you. From government service to community resources\, explore how we’re rolling together to serve our community better. Interested in showcasing your services? Contact us today to reserve your spot! \nDate: Saturday\, June 28\nTime: 11 a.m. to 2 p.m. \nLocation: Green Road Park\n4201 Green Road\nRaleigh\, NC 27604
URL:https://livableraleigh.com/event/rolling-together-a-community-resource-fair-at-green-road-park-2/
LOCATION:Green Rd Community Center\, 4201 Green Rd\, Raleigh\, NC\, 27604
CATEGORIES:Community Engagement
END:VEVENT
BEGIN:VEVENT
DTSTART;TZID=America/New_York:20250630T113000
DTEND;TZID=America/New_York:20250630T130000
DTSTAMP:20260425T113000
CREATED:20250517T010435Z
LAST-MODIFIED:20250517T010435Z
UID:45532-1751283000-1751288400@livableraleigh.com
SUMMARY:Fayetteville Street Streetscape Plan: Ask-A-Planner
DESCRIPTION:If you missed the Open House or have additional thoughts\, join us for Ask-A-Planner\, where you can talk one-on-one with Planning staff about the project. \nAsk-A-Planner\nFriday\, June 20 | 11:30 a.m. – 1 p.m.\nCity Plaza \nAsk-A-Planner\nTuesday\, June 24 | 11:30 a.m. – 1 p.m.\nExchange Plaza \n  \nAsk-A-Planner\nThursday\, June 26 | 11:30 a.m. – 1 p.m.\nCity Plaza \nAsk-A-Planner\nMonday\, June 30 | 11:30 a.m. – 1 p.m.\nExchange Plaza
URL:https://livableraleigh.com/event/fayetteville-street-streetscape-plan-ask-a-planner-4/
LOCATION:One Exchange Plaza\, 1 Exchange Plaza\, Raleigh\, NY\, 27601
CATEGORIES:Community Engagement
END:VEVENT
END:VCALENDAR