BEGIN:VCALENDAR
VERSION:2.0
PRODID:-//Livable Raleigh - ECPv6.15.20//NONSGML v1.0//EN
CALSCALE:GREGORIAN
METHOD:PUBLISH
X-ORIGINAL-URL:https://livableraleigh.com
X-WR-CALDESC:Events for Livable Raleigh
REFRESH-INTERVAL;VALUE=DURATION:PT1H
X-Robots-Tag:noindex
X-PUBLISHED-TTL:PT1H
BEGIN:VTIMEZONE
TZID:America/New_York
BEGIN:DAYLIGHT
TZOFFSETFROM:-0500
TZOFFSETTO:-0400
TZNAME:EDT
DTSTART:20220313T070000
END:DAYLIGHT
BEGIN:STANDARD
TZOFFSETFROM:-0400
TZOFFSETTO:-0500
TZNAME:EST
DTSTART:20221106T060000
END:STANDARD
BEGIN:DAYLIGHT
TZOFFSETFROM:-0500
TZOFFSETTO:-0400
TZNAME:EDT
DTSTART:20230312T070000
END:DAYLIGHT
BEGIN:STANDARD
TZOFFSETFROM:-0400
TZOFFSETTO:-0500
TZNAME:EST
DTSTART:20231105T060000
END:STANDARD
BEGIN:DAYLIGHT
TZOFFSETFROM:-0500
TZOFFSETTO:-0400
TZNAME:EDT
DTSTART:20240310T070000
END:DAYLIGHT
BEGIN:STANDARD
TZOFFSETFROM:-0400
TZOFFSETTO:-0500
TZNAME:EST
DTSTART:20241103T060000
END:STANDARD
BEGIN:DAYLIGHT
TZOFFSETFROM:-0500
TZOFFSETTO:-0400
TZNAME:EDT
DTSTART:20250309T070000
END:DAYLIGHT
BEGIN:STANDARD
TZOFFSETFROM:-0400
TZOFFSETTO:-0500
TZNAME:EST
DTSTART:20251102T060000
END:STANDARD
END:VTIMEZONE
BEGIN:VEVENT
DTSTART;TZID=America/New_York:20240410T163000
DTEND;TZID=America/New_York:20240410T183000
DTSTAMP:20260421T081633
CREATED:20240309T205119Z
LAST-MODIFIED:20240309T205119Z
UID:37008-1712766600-1712773800@livableraleigh.com
SUMMARY:Community Engagement Board Meeting
DESCRIPTION:The Community Engagement Board will meet April 10 from 4:30 p.m.-6:30 p.m. \nMillbrook Exchange Park1905 Spring Forest RdRaleigh\, NC 27615 \nIf you can’t attend in person\, please register to join us online.
URL:https://livableraleigh.com/event/community-engagement-board-meeting-3/
LOCATION:Millbrook Exchange Park\, 1905 Spring Forest Rd\, Raleigh\, NC\, 27615
CATEGORIES:Community Engagement Board,Engagement Filter
END:VEVENT
BEGIN:VEVENT
DTSTART;TZID=America/New_York:20240326T173000
DTEND;TZID=America/New_York:20240326T190000
DTSTAMP:20260421T081633
CREATED:20240323T000159Z
LAST-MODIFIED:20240323T000159Z
UID:37217-1711474200-1711479600@livableraleigh.com
SUMMARY:Community Engagement Board - Equity Subcommittee Meeting
DESCRIPTION:The Community Engagement Board’s Equity Subcommittee will meet Tuesday\, March 26 from 5:30-6:45 p.m. \nRaleigh Pathways Center900 S. Wilmington St.Raleigh\, NC 27601
URL:https://livableraleigh.com/event/community-engagement-board-equity-subcommittee-meeting-5/
LOCATION:Raleigh Pathways Center\, 900 S. Wilmington Street
CATEGORIES:Community Engagement Board
END:VEVENT
BEGIN:VEVENT
DTSTART;TZID=America/New_York:20240313T183000
DTEND;TZID=America/New_York:20240313T193000
DTSTAMP:20260421T081633
CREATED:20240202T220201Z
LAST-MODIFIED:20240202T220201Z
UID:36186-1710354600-1710358200@livableraleigh.com
SUMMARY:Community Engagement Board - Equity Subcommittee Meeting
DESCRIPTION:The Community Engagement Board’s Equity Subcommittee will meet Wednesday\, March 13 from 6:30-7:30 p.m. \nGreen Road Park4201 Green RoadRaleigh\, NC 27604
URL:https://livableraleigh.com/event/community-engagement-board-equity-subcommittee-meeting-3/
LOCATION:Green Road Community Center
CATEGORIES:Community Engagement Board,Engagement Filter
END:VEVENT
BEGIN:VEVENT
DTSTART;TZID=America/New_York:20240313T163000
DTEND;TZID=America/New_York:20240313T183000
DTSTAMP:20260421T081633
CREATED:20240202T215931Z
LAST-MODIFIED:20240202T215931Z
UID:36182-1710347400-1710354600@livableraleigh.com
SUMMARY:Community Engagement Board Meeting
DESCRIPTION:The Community Engagement Board will meet March 13 from 4:30 p.m.-6:30 p.m. \nGreen Road Park4201 Green RoadRaleigh\, NC 27604 \nIf you can’t attend in person\, please register to join us online.
URL:https://livableraleigh.com/event/community-engagement-board-meeting-2/
LOCATION:Green Road Community Center
CATEGORIES:Community Engagement Board,Engagement Filter
END:VEVENT
BEGIN:VEVENT
DTSTART;TZID=America/New_York:20240214T183000
DTEND;TZID=America/New_York:20240214T193000
DTSTAMP:20260421T081633
CREATED:20240127T000411Z
LAST-MODIFIED:20240127T000411Z
UID:35980-1707935400-1707939000@livableraleigh.com
SUMMARY:Community Engagement Board - Equity Subcommittee Meeting
DESCRIPTION:The Community Engagement Board’s Equity Subcommittee will meet Wednesday\, Feb. 14 from 6:30-7:30 p.m. \nKiwanis Park2525 Noble RoadRaleigh\, NC 27608
URL:https://livableraleigh.com/event/community-engagement-board-equity-subcommittee-meeting-2/
LOCATION:Kiwanis Park\, 2525 Noble Road\, 27608
CATEGORIES:Community Engagement Board,Engagement Filter
END:VEVENT
BEGIN:VEVENT
DTSTART;TZID=America/New_York:20240214T163000
DTEND;TZID=America/New_York:20240214T183000
DTSTAMP:20260421T081633
CREATED:20240202T173413Z
LAST-MODIFIED:20240202T173413Z
UID:36132-1707928200-1707935400@livableraleigh.com
SUMMARY:Community Engagement Board Meeting
DESCRIPTION:The Community Engagement Board will meet Feb. 14 from 4:30 p.m.-6:30 p.m. \nKiwanis Park2525 Noble RoadRaleigh\, NC 27608 \nIf you can’t attend in person\, please register to join us online.
URL:https://livableraleigh.com/event/community-engagement-board-meeting/
LOCATION:Kiwanis Park\, 2525 Noble Road\, 27608
CATEGORIES:Community Engagement Board,Engagement Filter
END:VEVENT
BEGIN:VEVENT
DTSTART;TZID=America/New_York:20240131T130000
DTEND;TZID=America/New_York:20240131T143000
DTSTAMP:20260421T081633
CREATED:20240126T235248Z
LAST-MODIFIED:20240126T235248Z
UID:35968-1706706000-1706711400@livableraleigh.com
SUMMARY:Community Engagement Board - Policy Subcommittee Meeting
DESCRIPTION:The Community Engagement Board’s Policy Subcommittee will meet Wednesday\, Jan. 31 from 1 p.m. – 2:30 \nRaleigh Pathways Center900 S. Wilmington StreetRaleigh\, NC 27601Conference Room #200
URL:https://livableraleigh.com/event/community-engagement-board-policy-subcommittee-meeting/
LOCATION:Raleigh Pathways Center\, 900 S. Wilmington Street
CATEGORIES:Community Engagement Board,Engagement Filter
END:VEVENT
BEGIN:VEVENT
DTSTART;TZID=America/New_York:20240110T163000
DTEND;TZID=America/New_York:20240110T183000
DTSTAMP:20260421T081633
CREATED:20231223T010545Z
LAST-MODIFIED:20231223T010545Z
UID:35091-1704904200-1704911400@livableraleigh.com
SUMMARY:Community Engagement Board
DESCRIPTION:Community Engagement Board will meet on Jan. 10 from 4:30 p.m. to 6:30 p.m. This meeting will be live-streamed for those who cannot attend in person. To view the live-stream\, register online. \nCarolina Pines Community Center2305 Lake Wheeler RoadRaleigh\, NC 27603
URL:https://livableraleigh.com/event/community-engagement-board-3/
LOCATION:Carolina Pines Community Center\, 2305 Lake Wheeler Road\, Raleigh\, NC\, 27603\, United States
CATEGORIES:Community Engagement Board,Engagement Filter
END:VEVENT
BEGIN:VEVENT
DTSTART;TZID=America/New_York:20240108T130000
DTEND;TZID=America/New_York:20240108T143000
DTSTAMP:20260421T081633
CREATED:20240104T200927Z
LAST-MODIFIED:20240104T200927Z
UID:35303-1704718800-1704724200@livableraleigh.com
SUMMARY:Community Engagement Board - Policy Committee Meeting
DESCRIPTION:The Community Engagement Board’s Policy Committee will meet on Jan. 8 from 1 p.m.-2:30 p.m. at Raleigh Pathways Center.
URL:https://livableraleigh.com/event/community-engagement-board-policy-committee-meeting-3/
LOCATION:Raleigh Pathways Center\, 900 S. Wilmington Street
CATEGORIES:Community Engagement Board
END:VEVENT
BEGIN:VEVENT
DTSTART;TZID=America/New_York:20240103T163000
DTEND;TZID=America/New_York:20240103T180000
DTSTAMP:20260421T081633
CREATED:20231222T183225Z
LAST-MODIFIED:20231222T183225Z
UID:35075-1704299400-1704304800@livableraleigh.com
SUMMARY:Community Engagement Board Outreach Subcommittee Meeting
DESCRIPTION:
URL:https://livableraleigh.com/event/community-engagement-board-outreach-subcommittee-meeting-3/
LOCATION:Millbrook Exchange Park\, 1905 Spring Forest Rd\, Raleigh\, NC\, 27615
CATEGORIES:Community Engagement Board
END:VEVENT
BEGIN:VEVENT
DTSTART;TZID=America/New_York:20231213T183000
DTEND;TZID=America/New_York:20231213T193000
DTSTAMP:20260421T081633
CREATED:20231130T021912Z
LAST-MODIFIED:20231130T022005Z
UID:34592-1702492200-1702495800@livableraleigh.com
SUMMARY:Community Engagement Board Equity Committee
DESCRIPTION:The Community Engagement Board Equity Committee will meet Wednesday\, Dec. 13 from 6:30-7:30 p.m. \nBarwell Community Center5857 Barwell Park DriveRaleigh\, NC 27610 \n*Dance room located on lower level (accessible by stairs or elevator) \n\n\n\n\nMore Events in this Series
URL:https://livableraleigh.com/event/community-engagement-board-equity-committee-2/
LOCATION:Barwell Road Community Center\, 5857 Barwell Park Dr\, Raleigh\, NC\, 27610\, United States
CATEGORIES:Community Engagement Board,Engagement Filter
END:VEVENT
BEGIN:VEVENT
DTSTART;TZID=America/New_York:20231213T163000
DTEND;TZID=America/New_York:20231213T183000
DTSTAMP:20260421T081633
CREATED:20231130T021742Z
LAST-MODIFIED:20231130T022102Z
UID:34590-1702485000-1702492200@livableraleigh.com
SUMMARY:Community Engagement Board
DESCRIPTION:The Community Engagement Board will meet Wednesday\, Dec. 13 from 4:30-6:30 p.m. \nBarwell Community Center5857 Barwell Park DriveRaleigh\, NC 27610 \n*Dance room on lower level (accessible by stairs or elevator)
URL:https://livableraleigh.com/event/community-engagement-board-2/
LOCATION:Barwell Road Community Center\, 5857 Barwell Park Dr\, Raleigh\, NC\, 27610\, United States
CATEGORIES:Community Engagement Board,Engagement Filter
END:VEVENT
BEGIN:VEVENT
DTSTART;TZID=America/New_York:20231207T140000
DTEND;TZID=America/New_York:20231207T153000
DTSTAMP:20260421T081633
CREATED:20231130T021400Z
LAST-MODIFIED:20231130T022242Z
UID:34586-1701957600-1701963000@livableraleigh.com
SUMMARY:Community Engagement Board - Policy Committee Meeting
DESCRIPTION:The Community Engagement Board‘s Policy Committee will meet Thursday\, Dec. 7 from 2:00 p.m.-3:30 p.m. at Raleigh Pathways Center.
URL:https://livableraleigh.com/event/community-engagement-board-policy-committee-meeting-2/
LOCATION:Raleigh Pathways Center\, 900 S. Wilmington Street
CATEGORIES:Community Engagement Board,Engagement Filter
END:VEVENT
BEGIN:VEVENT
DTSTART;TZID=America/New_York:20231206T163000
DTEND;TZID=America/New_York:20231206T180000
DTSTAMP:20260421T081633
CREATED:20231202T164143Z
LAST-MODIFIED:20231206T195129Z
UID:34672-1701880200-1701885600@livableraleigh.com
SUMMARY:Community Engagement Board Outreach Committee Meeting -- Cancelled
DESCRIPTION:The Community Engagement Board Outreach Committee will meet Wednesday\, Dec. 6 from 4:30 p.m.-6 p.m. at Abbots Creek Community Center in the multi-purpose room.
URL:https://livableraleigh.com/event/community-engagement-board-outreach-committee-meeting/
LOCATION:Abbotts Creek Community Center\, 9950 Durant Rd\, Raleigh\, NC\, 27614
CATEGORIES:Community Engagement Board,Engagement Filter
END:VEVENT
BEGIN:VEVENT
DTSTART;TZID=America/New_York:20231011T163000
DTEND;TZID=America/New_York:20231011T183000
DTSTAMP:20260421T081633
CREATED:20231011T021108Z
LAST-MODIFIED:20231011T021108Z
UID:33386-1697041800-1697049000@livableraleigh.com
SUMMARY:Community Engagement Board Regular Meeting
DESCRIPTION:One Exchange Plaza – Room 809
URL:https://livableraleigh.com/event/community-engagement-board-regular-meeting-7/
LOCATION:One Exchange Plaza\, 1 Exchange Plaza\, Raleigh\, NY\, 27601
CATEGORIES:Community Engagement Board,Engagement Filter
END:VEVENT
BEGIN:VEVENT
DTSTART;TZID=America/New_York:20231004T163000
DTEND;TZID=America/New_York:20231004T180000
DTSTAMP:20260421T081633
CREATED:20230928T202840Z
LAST-MODIFIED:20230928T202840Z
UID:33070-1696437000-1696442400@livableraleigh.com
SUMMARY:Community Engagement Board Outreach Subcommittee Meeting
DESCRIPTION:
URL:https://livableraleigh.com/event/community-engagement-board-outreach-subcommittee-meeting-2/
LOCATION:Raleigh Pathways Center\, 900 S. Wilmington Street
CATEGORIES:Community Engagement Board,Engagement Filter
END:VEVENT
BEGIN:VEVENT
DTSTART;TZID=America/New_York:20230913T183000
DTEND;TZID=America/New_York:20230913T193000
DTSTAMP:20260421T081633
CREATED:20230906T145003Z
LAST-MODIFIED:20230909T151659Z
UID:32535-1694629800-1694633400@livableraleigh.com
SUMMARY:Community Engagement Board Equity Committee
DESCRIPTION:This meeting will be held at Millbrook Exchange Park Community Center
URL:https://livableraleigh.com/event/community-engagement-board-equity-committee/
LOCATION:Millbrook Exchange Park\, 1905 Spring Forest Rd\, Raleigh\, NC\, 27615
CATEGORIES:Community Engagement Board,Engagement Filter
END:VEVENT
BEGIN:VEVENT
DTSTART;TZID=America/New_York:20230913T163000
DTEND;TZID=America/New_York:20230913T183000
DTSTAMP:20260421T081633
CREATED:20230906T144917Z
LAST-MODIFIED:20230909T151418Z
UID:32533-1694622600-1694629800@livableraleigh.com
SUMMARY:Community Engagement Board
DESCRIPTION:This meeting will be held at Millbrook Exchange Park Community Center – Room 1
URL:https://livableraleigh.com/event/community-engagement-board/
LOCATION:Millbrook Exchange Park\, 1905 Spring Forest Rd\, Raleigh\, NC\, 27615
CATEGORIES:Community Engagement Board,Engagement Filter
END:VEVENT
BEGIN:VEVENT
DTSTART;TZID=America/New_York:20230908T143000
DTEND;TZID=America/New_York:20230908T160000
DTSTAMP:20260421T081633
CREATED:20230902T130413Z
LAST-MODIFIED:20230902T130413Z
UID:32342-1694183400-1694188800@livableraleigh.com
SUMMARY:Community Engagement Board - Policy Committee Meeting
DESCRIPTION:The Community Engagement Board’s Policy Committee will meet on Sept. 8 from 2:30 p.m.-4 p.m. at Raleigh Pathways Center.
URL:https://livableraleigh.com/event/community-engagement-board-policy-committee-meeting/
LOCATION:Pathways Center\, 900 South Wilmington Street\, Raleigh\, 27601
CATEGORIES:Community Engagement Board,Engagement Filter
END:VEVENT
BEGIN:VEVENT
DTSTART;TZID=America/New_York:20230906T163000
DTEND;TZID=America/New_York:20230906T180000
DTSTAMP:20260421T081633
CREATED:20230830T011158Z
LAST-MODIFIED:20230830T011158Z
UID:32305-1694017800-1694023200@livableraleigh.com
SUMMARY:Community Engagement Board Outreach Subcommittee Meeting
DESCRIPTION:
URL:https://livableraleigh.com/event/community-engagement-board-outreach-subcommittee-meeting/
LOCATION:Millbrook Exchange Park\, 1905 Spring Forest Rd\, Raleigh\, NC\, 27615
CATEGORIES:Community Engagement Board,Engagement Filter
END:VEVENT
BEGIN:VEVENT
DTSTART;TZID=America/New_York:20230826T100000
DTEND;TZID=America/New_York:20230826T140000
DTSTAMP:20260421T081633
CREATED:20230818T162821Z
LAST-MODIFIED:20230822T235315Z
UID:31947-1693044000-1693058400@livableraleigh.com
SUMMARY:Community Engagement Board Retreat
DESCRIPTION:Agenda is at https://go.boarddocs.com/nc/raleigh/Board.nsf/files/CUWPL8651961/$file/CEB%20Agenda%20-%20Board%20Retreat%20Aug%2026%202023.pdf
URL:https://livableraleigh.com/event/community-engagement-board-retreat/
LOCATION:Chavis Community Center\, 505 Martin Luther King Jr. Blvd\, Raleigh\, NC\, United States
CATEGORIES:Community Engagement Board,Engagement Filter
END:VEVENT
BEGIN:VEVENT
DTSTART;TZID=America/New_York:20230712T163000
DTEND;TZID=America/New_York:20230712T183000
DTSTAMP:20260421T081633
CREATED:20230708T195702Z
LAST-MODIFIED:20230711T102126Z
UID:31399-1689179400-1689186600@livableraleigh.com
SUMMARY:Community Engagement Board Regular Meeting
DESCRIPTION:Wednesday\, July 12\, 2023\nREGULAR MEETING\nWednesday\, JULY 12\, 2023\n4:30-6:30 PM \nONE EXCHANGE PLAZA\, SUITE 809\nRALEIGH\, NORTH CAROLINA \n\nA. Welcome & Introductions\n\n\n\nB. Approval of Minutes\n\n\n\nC. Public Comment\n\n\n\nD. Staff Updates\n\n1. Open CEB seats \n\n\n2. June 20 Council Presentation Preview \n\n\n3. Board Docs Training \n\n\n\n\n\nE. Old Business\n\n1. Update on Unify Raleigh Event \n\n\n2. Update on CEB Slide Deck \n\n\n\n\n\nF. New Business\n\n1. Committee Discussion \n\n\n2. Next steps on Public Comment Awareness \n\n\n3. Board Retreat planning \n\n\n\n\n\nG. Board Roundtable\n\n1. Individual updates from board members \n\n\n\n\n\nH. ADJOURN\n\n\n\nI. UPCOMING MEETINGS\n\n1. CEB meetings are held the second Wednesday of each month.
URL:https://livableraleigh.com/event/community-engagement-board-regular-meeting-6/
LOCATION:One Exchange Plaza\, 1 Exchange Plaza\, Raleigh\, NY\, 27601
CATEGORIES:Community Engagement Board,Engagement Filter
END:VEVENT
BEGIN:VEVENT
DTSTART;TZID=America/New_York:20230614T163000
DTEND;TZID=America/New_York:20230614T183000
DTSTAMP:20260421T081633
CREATED:20230521T003547Z
LAST-MODIFIED:20230607T101825Z
UID:30143-1686760200-1686767400@livableraleigh.com
SUMMARY:Community Engagement Board Regular Meeting
DESCRIPTION:A. Welcome & Introductions\n\n\n\nB. Approval of Minutes\n\n\n\nC. Public Comment\n\n\n\nD. Staff Updates\n\n1. Open CEB seats \n\n\n2. June 20 Council Presentation Preview \n\n\n3. Board Docs Training \n\n\n\n\n\nE. Old Business\n\n1. Update on Unify Raleigh Event \n\n\n2. Update on CEB Slide Deck \n\n\n\n\n\nF. New Business\n\n1. Committee Discussion \n\n\n2. Next steps on Public Comment Awareness \n\n\n3. Board Retreat planning \n\n\n\n\n\nG. Board Roundtable\n\n1. Individual updates from board members \n\n\n\n\n\nH. ADJOURN\n\n\n\nI. UPCOMING MEETINGS\n\n1. CEB meetings are held the second Wednesday of each month.
URL:https://livableraleigh.com/event/community-engagement-board-regular-meeting-5/
LOCATION:One Exchange Plaza\, 1 Exchange Plaza\, Raleigh\, NY\, 27601
CATEGORIES:Community Engagement Board,Engagement Filter
END:VEVENT
BEGIN:VEVENT
DTSTART;TZID=America/New_York:20230510T163000
DTEND;TZID=America/New_York:20230510T183000
DTSTAMP:20260421T081633
CREATED:20230410T123633Z
LAST-MODIFIED:20230410T123633Z
UID:29148-1683736200-1683743400@livableraleigh.com
SUMMARY:Community Engagement Board Regular Meeting
DESCRIPTION:
URL:https://livableraleigh.com/event/community-engagement-board-regular-meeting-4/
LOCATION:One Exchange Plaza\, 1 Exchange Plaza\, Raleigh\, NY\, 27601
CATEGORIES:Community Engagement Board,Engagement Filter
END:VEVENT
BEGIN:VEVENT
DTSTART;TZID=America/New_York:20230412T163000
DTEND;TZID=America/New_York:20230412T183000
DTSTAMP:20260421T081633
CREATED:20230318T125958Z
LAST-MODIFIED:20230318T125958Z
UID:28757-1681317000-1681324200@livableraleigh.com
SUMMARY:Community Engagement Board Regular Meeting
DESCRIPTION:
URL:https://livableraleigh.com/event/community-engagement-board-regular-meeting-3/
LOCATION:One Exchange Plaza\, 1 Exchange Plaza\, Raleigh\, NY\, 27601
CATEGORIES:Community Engagement Board,Engagement Filter
END:VEVENT
BEGIN:VEVENT
DTSTART;TZID=America/New_York:20230308T163000
DTEND;TZID=America/New_York:20230308T183000
DTSTAMP:20260421T081633
CREATED:20230215T010321Z
LAST-MODIFIED:20230217T221406Z
UID:27503-1678293000-1678300200@livableraleigh.com
SUMMARY:Community Engagement Board Regular Meeting
DESCRIPTION:
URL:https://livableraleigh.com/event/community-engagement-board-regular-meeting-2/
LOCATION:One Exchange Plaza\, 1 Exchange Plaza\, Raleigh\, NY\, 27601
CATEGORIES:Community Engagement Board,Engagement Filter
END:VEVENT
BEGIN:VEVENT
DTSTART;TZID=America/New_York:20230208T163000
DTEND;TZID=America/New_York:20230208T183000
DTSTAMP:20260421T081633
CREATED:20230120T020347Z
LAST-MODIFIED:20230217T233230Z
UID:26902-1675873800-1675881000@livableraleigh.com
SUMMARY:Community Engagement Board Regular Meeting
DESCRIPTION:Regular meeting time: 4:30-6:30pm \nONE EXCHANGE PLAZA\, SUITE 809\nRALEIGH\, NORTH CAROLINA \nCommunity Engagement Board meets the second Wednesday of every month at 4:30pm at One Exchange Plaza\, Suite 809 \n\n\n\n\n\n\nA. TBD\n\n\n1. New Agenda Item \n\n\n\n\n\nB. Welcome & Introductions\n\n\n1. Welcome \n\n\n\n\n\nC. Approval of Minutes\n\n\n\nD. Public Comment\n\n\n1. 2 minute limit \n\n\n\n\n\nE. Presentation\n\n\n1. Presentation from Communications Department \n\n\n\n\n\nF. Old Business\n\n\n1. Community Engagement Background & Office Overview \n\n\n\n2. Leadership Team Nominations and Approvals \n\n\n\n3. Identify Bylaws Committee and Next Steps \n\n\n\n\n\nG. New Business\n\n\n1. Discussion on Work Plan \n\n\n\n\n\nH. ADJOURN\n\n\n\nI. UPCOMING MEETINGS\n\n\n1. CEB meetings are held the second Wednesday of each month. Next meeting will be October 12. \n\n\n\n\n\nJ. New Category
URL:https://livableraleigh.com/event/community-engagement-board-regular-meeting/
LOCATION:One Exchange Plaza\, 1 Exchange Plaza\, Raleigh\, NY\, 27601
CATEGORIES:Community Engagement Board,Engagement Filter
END:VEVENT
BEGIN:VEVENT
DTSTART;TZID=America/New_York:20230203T140000
DTEND;TZID=America/New_York:20230203T160000
DTSTAMP:20260421T081633
CREATED:20230125T185349Z
LAST-MODIFIED:20230217T233329Z
UID:27061-1675432800-1675440000@livableraleigh.com
SUMMARY:Community Engagement Board Work Plan Subcommittee
DESCRIPTION:The Community Engagement Board Work Plan Subcommittee will meet on Friday February 3\, 2023\, at 2 p.m. to continue discussion of the boards’ work plan. \nPathways Center\n900 S. Wilmington St.\nConference Room 200\nRaleigh\, NC 27601
URL:https://livableraleigh.com/event/community-engagement-board-work-plan-subcommittee/
LOCATION:Pathways Center\, 900 South Wilmington Street\, Raleigh\, 27601
CATEGORIES:Community Engagement Board,Engagement Filter
END:VEVENT
END:VCALENDAR