BEGIN:VCALENDAR
VERSION:2.0
PRODID:-//Livable Raleigh - ECPv6.15.20//NONSGML v1.0//EN
CALSCALE:GREGORIAN
METHOD:PUBLISH
X-ORIGINAL-URL:https://livableraleigh.com
X-WR-CALDESC:Events for Livable Raleigh
REFRESH-INTERVAL;VALUE=DURATION:PT1H
X-Robots-Tag:noindex
X-PUBLISHED-TTL:PT1H
BEGIN:VTIMEZONE
TZID:America/New_York
BEGIN:DAYLIGHT
TZOFFSETFROM:-0500
TZOFFSETTO:-0400
TZNAME:EDT
DTSTART:20240310T070000
END:DAYLIGHT
BEGIN:STANDARD
TZOFFSETFROM:-0400
TZOFFSETTO:-0500
TZNAME:EST
DTSTART:20241103T060000
END:STANDARD
BEGIN:DAYLIGHT
TZOFFSETFROM:-0500
TZOFFSETTO:-0400
TZNAME:EDT
DTSTART:20250309T070000
END:DAYLIGHT
BEGIN:STANDARD
TZOFFSETFROM:-0400
TZOFFSETTO:-0500
TZNAME:EST
DTSTART:20251102T060000
END:STANDARD
BEGIN:DAYLIGHT
TZOFFSETFROM:-0500
TZOFFSETTO:-0400
TZNAME:EDT
DTSTART:20260308T070000
END:DAYLIGHT
BEGIN:STANDARD
TZOFFSETFROM:-0400
TZOFFSETTO:-0500
TZNAME:EST
DTSTART:20261101T060000
END:STANDARD
END:VTIMEZONE
BEGIN:VEVENT
DTSTART;TZID=America/New_York:20250918T173000
DTEND;TZID=America/New_York:20250918T193000
DTSTAMP:20260419T114638
CREATED:20250815T183607Z
LAST-MODIFIED:20250815T183607Z
UID:47253-1758216600-1758223800@livableraleigh.com
SUMMARY:Advice About Your Device Drop-In Hours
DESCRIPTION:The City of Raleigh is offering Advice About Your Device Drop-In Hours. Whether you have a simple question about how to work your device or have long-term digital goals\, attend our drop-in hours to get assistance and learn more. \nDrop-in hours will be held March – December at two Raleigh locations. There is no registration required for this FREE resource. \n\nThursday\, Sept. 18\n5:30 p.m. – 7:30 p.m.\nMarsh Creek Community Center; 3050 N. New Hope Rd.\n\nLearn more about the Raleigh Digital Impact programs.
URL:https://livableraleigh.com/event/advice-about-your-device-drop-in-hours-20/
LOCATION:Marsh Creek Community Center\, 3050 N. New Hope Rd.\, Raleigh\, NC\, 27604\, United States
CATEGORIES:Community and Workshops
END:VEVENT
END:VCALENDAR