BEGIN:VCALENDAR
VERSION:2.0
PRODID:-//Livable Raleigh - ECPv6.15.20//NONSGML v1.0//EN
CALSCALE:GREGORIAN
METHOD:PUBLISH
X-WR-CALNAME:Livable Raleigh
X-ORIGINAL-URL:https://livableraleigh.com
X-WR-CALDESC:Events for Livable Raleigh
REFRESH-INTERVAL;VALUE=DURATION:PT1H
X-Robots-Tag:noindex
X-PUBLISHED-TTL:PT1H
BEGIN:VTIMEZONE
TZID:America/New_York
BEGIN:DAYLIGHT
TZOFFSETFROM:-0500
TZOFFSETTO:-0400
TZNAME:EDT
DTSTART:20240310T070000
END:DAYLIGHT
BEGIN:STANDARD
TZOFFSETFROM:-0400
TZOFFSETTO:-0500
TZNAME:EST
DTSTART:20241103T060000
END:STANDARD
BEGIN:DAYLIGHT
TZOFFSETFROM:-0500
TZOFFSETTO:-0400
TZNAME:EDT
DTSTART:20250309T070000
END:DAYLIGHT
BEGIN:STANDARD
TZOFFSETFROM:-0400
TZOFFSETTO:-0500
TZNAME:EST
DTSTART:20251102T060000
END:STANDARD
BEGIN:DAYLIGHT
TZOFFSETFROM:-0500
TZOFFSETTO:-0400
TZNAME:EDT
DTSTART:20260308T070000
END:DAYLIGHT
BEGIN:STANDARD
TZOFFSETFROM:-0400
TZOFFSETTO:-0500
TZNAME:EST
DTSTART:20261101T060000
END:STANDARD
END:VTIMEZONE
BEGIN:VEVENT
DTSTART;TZID=America/New_York:20250913T090000
DTEND;TZID=America/New_York:20250913T143000
DTSTAMP:20260419T215836
CREATED:20250726T164630Z
LAST-MODIFIED:20250726T164630Z
UID:46962-1757754000-1757773800@livableraleigh.com
SUMMARY:Engage Raleigh: Community and Neighborhood Expo
DESCRIPTION:The Engage Raleigh Community and Neighborhood Expo is a FREE event that aims to connect residents\, neighborhoods\, community groups\, and local government. \nJoin us to learn why community engagement matters\, and how you can make a difference. Explore exciting ways to participate in local decision-making in your community.  \nDate: Saturday\, Sept. 13 \nTime: 9 a.m. – 2:30 p.m. \nLocation: McKimmon Center \n1101 Gorman Street\, Raleigh\, NC 27606 \nRegister online beginning Aug. 4.
URL:https://livableraleigh.com/event/engage-raleigh-community-and-neighborhood-expo-2/
LOCATION:McKimmon Center\, NCSU McKimmon Center 1101 Gorman Street\, Raleigh\, NC\, 27606\, United States
CATEGORIES:Community and Workshops,Community Engagement
END:VEVENT
END:VCALENDAR