BEGIN:VCALENDAR
VERSION:2.0
PRODID:-//Livable Raleigh - ECPv6.15.20//NONSGML v1.0//EN
CALSCALE:GREGORIAN
METHOD:PUBLISH
X-WR-CALNAME:Livable Raleigh
X-ORIGINAL-URL:https://livableraleigh.com
X-WR-CALDESC:Events for Livable Raleigh
REFRESH-INTERVAL;VALUE=DURATION:PT1H
X-Robots-Tag:noindex
X-PUBLISHED-TTL:PT1H
BEGIN:VTIMEZONE
TZID:America/New_York
BEGIN:DAYLIGHT
TZOFFSETFROM:-0500
TZOFFSETTO:-0400
TZNAME:EDT
DTSTART:20240310T070000
END:DAYLIGHT
BEGIN:STANDARD
TZOFFSETFROM:-0400
TZOFFSETTO:-0500
TZNAME:EST
DTSTART:20241103T060000
END:STANDARD
BEGIN:DAYLIGHT
TZOFFSETFROM:-0500
TZOFFSETTO:-0400
TZNAME:EDT
DTSTART:20250309T070000
END:DAYLIGHT
BEGIN:STANDARD
TZOFFSETFROM:-0400
TZOFFSETTO:-0500
TZNAME:EST
DTSTART:20251102T060000
END:STANDARD
BEGIN:DAYLIGHT
TZOFFSETFROM:-0500
TZOFFSETTO:-0400
TZNAME:EDT
DTSTART:20260308T070000
END:DAYLIGHT
BEGIN:STANDARD
TZOFFSETFROM:-0400
TZOFFSETTO:-0500
TZNAME:EST
DTSTART:20261101T060000
END:STANDARD
END:VTIMEZONE
BEGIN:VEVENT
DTSTART;TZID=America/New_York:20250911T140000
DTEND;TZID=America/New_York:20250911T160000
DTSTAMP:20260419T114311
CREATED:20250815T175918Z
LAST-MODIFIED:20250815T175918Z
UID:47234-1757599200-1757606400@livableraleigh.com
SUMMARY:Doing Business with the City of Raleigh (Spanish only)
DESCRIPTION:En español \nWant to do business with the City of Raleigh? Join our Spanish-only class for small businesses. You will learn how to register as a City supplier\, hear about contracting opportunities\, join programs that can help your business\, and benefit from working with the City. \nRegister today on Eventbrite! \nDate: September 11\, 2025\nTime: 2 p.m.-4 p.m.\nLocation: Walnut Creek Wetland Center\n950 Peterson St\nRaleigh\, NC 27610 \nFor more information\, visit Business Engagement and Opportunities Program.
URL:https://livableraleigh.com/event/doing-business-with-the-city-of-raleigh-spanish-only/
LOCATION:Walnut Creek Wetland Center\, 950 Peterson St\, Raleigh\, NC\, 27610
CATEGORIES:Community and Workshops
END:VEVENT
END:VCALENDAR