BEGIN:VCALENDAR
VERSION:2.0
PRODID:-//Livable Raleigh - ECPv6.15.20//NONSGML v1.0//EN
CALSCALE:GREGORIAN
METHOD:PUBLISH
X-WR-CALNAME:Livable Raleigh
X-ORIGINAL-URL:https://livableraleigh.com
X-WR-CALDESC:Events for Livable Raleigh
REFRESH-INTERVAL;VALUE=DURATION:PT1H
X-Robots-Tag:noindex
X-PUBLISHED-TTL:PT1H
BEGIN:VTIMEZONE
TZID:America/New_York
BEGIN:DAYLIGHT
TZOFFSETFROM:-0500
TZOFFSETTO:-0400
TZNAME:EDT
DTSTART:20220313T070000
END:DAYLIGHT
BEGIN:STANDARD
TZOFFSETFROM:-0400
TZOFFSETTO:-0500
TZNAME:EST
DTSTART:20221106T060000
END:STANDARD
BEGIN:DAYLIGHT
TZOFFSETFROM:-0500
TZOFFSETTO:-0400
TZNAME:EDT
DTSTART:20230312T070000
END:DAYLIGHT
BEGIN:STANDARD
TZOFFSETFROM:-0400
TZOFFSETTO:-0500
TZNAME:EST
DTSTART:20231105T060000
END:STANDARD
BEGIN:DAYLIGHT
TZOFFSETFROM:-0500
TZOFFSETTO:-0400
TZNAME:EDT
DTSTART:20240310T070000
END:DAYLIGHT
BEGIN:STANDARD
TZOFFSETFROM:-0400
TZOFFSETTO:-0500
TZNAME:EST
DTSTART:20241103T060000
END:STANDARD
END:VTIMEZONE
BEGIN:VEVENT
DTSTART;TZID=America/New_York:20230313T190000
DTEND;TZID=America/New_York:20230313T210000
DTSTAMP:20260423T204235
CREATED:20230308T191315Z
LAST-MODIFIED:20230308T191315Z
UID:28265-1678734000-1678741200@livableraleigh.com
SUMMARY:Southwest Raleigh Community Engagement Meeting
DESCRIPTION:Join us Monday night\, March 13th at 7PM for our regularly scheduled Southwest Raleigh Community Engagement Meeting we will be meeting on Zoom. \n\nGreeting to Friends and Neighbors\nCity of Raleigh Inspections Report – Inspector Doug Lilly.\nCity of Raleigh Monthly Report and Update – Captain Wood\, Captain Howard.\nOur March meeting will follow our established Open Discussion format – Community comments and discussion are welcome. Tell us all what you believe we need to know. How about the numerous development cases that we are seeing? How about streets\, traffic\, and the horrible litter is thrown on the side of our streets?\nChanges in Community Group Meetings – Comments and updates our community leaders and residents.\nWe plan to broadcast the meeting on Facebook if you would prefer to watch it and not participate.\n\nOur next meeting is scheduled for April 10th. Current plans are to invite City Staff to tell us about a program to improve pedestrian safety. In addition\, we are asking for information on how streets can be made safer. \nIf you have a particular interest and suggestions for topics please let us know.\n\n\n\n\n\n\n\n\n\n\n\n\n\n\n\n\n\n\n\n\n\n\n\n\n\n\n\n\n\n\n\n\n\n\n\n\n\n\n\n\n\nClick to Join the Meeting
URL:https://livableraleigh.com/event/southwest-raleigh-community-engagement-meeting/
LOCATION:NC
CATEGORIES:CAC,Engagement Filter
END:VEVENT
BEGIN:VEVENT
DTSTART;TZID=America/New_York:20230313T190000
DTEND;TZID=America/New_York:20230313T200000
DTSTAMP:20260423T204235
CREATED:20230305T153941Z
LAST-MODIFIED:20230311T180944Z
UID:28181-1678734000-1678737600@livableraleigh.com
SUMMARY:Five Points CAC
DESCRIPTION:Please join us on Monday\, March 13th\, for an hour to hear about city programs that benefit the Five Points community and more!\n\n\n\n\n\n\n\n\n\nThis meeting will include discussion of the Five Points Streetscape and Safety Study and this year’s plans for the Fall for Five Points festival.\n\nOur meetings are open to the public!\n\n\nEdie\n\nHere’s the agenda and Zoom link:\n\n\n\nFive Points CAC Meeting\nAgenda\nMarch 13\, 2023\n7-8pm\n\nZoom Meeting link:\nhttps://us06web.zoom.us/j/84111555416\n\n1. Police Report – Officer Kevin Taylor\n\n2. Five Points Streetscape and Safety Study – brief update – Jason Myers\n\n3. Fairview Road and Bickett Place rezoning case (Z-50-21) – brief update – Carole Meyre\n\n4. Fall for Five Points 2023 – Keith Stewart\n\n5. Other Five Points news – Edie\n\n6. If there is time\, quick updates on the development cases in and around Five Points – Edie\n\nDetailed Zoom information:\n\nJoin Zoom Meeting\nhttps://us06web.zoom.us/j/84111555416\n\nMeeting ID: 841 1155 5416\nOne tap mobile\n+16465588656\,\,84111555416# US (New York)\n+16469313860\,\,84111555416# US\n\nDial by your location\n        +1 646 558 8656 US (New York)\n        +1 646 931 3860 US\n        +1 301 715 8592 US (Washington DC)\n        +1 305 224 1968 US\n        +1 309 205 3325 US\n        +1 312 626 6799 US (Chicago)\n        +1 346 248 7799 US (Houston)\n        +1 360 209 5623 US\n        +1 386 347 5053 US\n        +1 507 473 4847 US\n        +1 564 217 2000 US\n        +1 669 444 9171 US\n        +1 689 278 1000 US\n        +1 719 359 4580 US\n        +1 720 707 2699 US (Denver)\n        +1 253 205 0468 US\n        +1 253 215 8782 US (Tacoma)\nMeeting ID: 841 1155 5416\nFind your local number: https://us06web.zoom.us/u/kkRQKPcjS
URL:https://livableraleigh.com/event/five-points-cac/
LOCATION:NC
CATEGORIES:CAC,Engagement Filter
END:VEVENT
BEGIN:VEVENT
DTSTART;TZID=America/New_York:20230309T190000
DTEND;TZID=America/New_York:20230309T203000
DTSTAMP:20260423T204235
CREATED:20230306T115116Z
LAST-MODIFIED:20230306T115116Z
UID:28183-1678388400-1678393800@livableraleigh.com
SUMMARY:Southeast Citizen Advisory Council (SECAC)Community meeting
DESCRIPTION:ULYSSES LANE VMD is inviting you to a scheduled Community Zoom meeting. \nPlease share with Southeast Raleigh Residents \nTopic: Southeast Citizen Advisory Council (SECAC)Community meeting \nTime: Mar 9\, 2023\, 07:00 PM Eastern Time (US and Canada) \nSee Agena Below- \nJoin Zoom Meeting \nhttps://us02web.zoom.us/j/89558034473?pwd=aTdqY2M5SUFvMERUSWJpWE5jZURwZz09 \nMeeting ID: 895 5803 4473 \nPasscode: F!U2H%9 \nOne tap mobile \n+13052241968\,\,89558034473#\,\,\,\,*8964524# US \n+13092053325\,\,89558034473#\,\,\,\,*8964524# US \nDial by your location \n        +1 305 224 1968 US \n        +1 309 205 3325 US \n        +1 312 626 6799 US (Chicago) \n        +1 646 558 8656 US (New York) \n        +1 646 931 3860 US \n        +1 301 715 8592 US (Washington DC) \n\nMeeting ID: 895 5803 4473 \nPasscode: 8964524 \nFind your local number: https://us02web.zoom.us/u/kcSZB7upsS \n\n Welcome & Introductions\n\n2.Parks\, Recreations\, Cultural Resources Update \n A-Barwell Road Community Center- Leon Kennon\, Director \n   1Community Event Update \n   2-Barwell Road Park Community Garden Project-Emma Lilies \n B -Worthdale Community Center- Troy Smith\, Director \n 3- Public Safety Reports \nA-   Raleigh Police Department-Officer Martin \nB-   Raleigh Community watch program -Officer Lee \n  C- Wake County Sheriff Department-Deputy Doxsie \n4.Community Wellness Check In\,  \nSouthlight Healthcare –Karen Cook \n5.Rezoning case # Z-1-23\, (District C)550 Rock Quarry Road\, \n Molly Stuart\, Morningstar Law Group\, Raleigh Planning staff ? \n5.Did You Know?? \n6.Open Discussions \n7.Community Announcements \n  Meeting Adjourned \n-Follow SECAC on Facebook: https://www.facebook.com/SERALEIGHCAC \nHave a say in decisions affecting your community by participating in your CAC \nUlysses J Lane VMD \nSECAC Chair \n “Excellence is to do a common thing in an uncommon way”by Booker T. Washington
URL:https://livableraleigh.com/event/southeast-citizen-advisory-council-secaccommunity-meeting/
LOCATION:NC
CATEGORIES:CAC,Engagement Filter
END:VEVENT
BEGIN:VEVENT
DTSTART;TZID=America/New_York:20230228T190000
DTEND;TZID=America/New_York:20230228T210000
DTSTAMP:20260423T204235
CREATED:20230215T202430Z
LAST-MODIFIED:20230217T221851Z
UID:27601-1677610800-1677618000@livableraleigh.com
SUMMARY:Hillsborough-Wade CAC meeting
DESCRIPTION:Hi Hillsborough-Wade CAC friends\, \nPlease put our monthly Hillsborough-Wade CAC meeting on your calendar for Tuesday\, February 28th at 7:00 PM. The Zoom link invitation is at the bottom of this email. Also\, please forward this email to your neighborhood listserv (if your neighborhood has one). \nOur main presentation and discussion will be about “Missing Middle” housing in Raleigh and the corresponding text changes (TC-5-20 and TC-20-21) in Raleigh’s Unified Development Ordinance (UDO). Patrick Young and other Planning Department staff will do a 30 minute presentation with visuals\, and then we’ll have a Q&A session. This will be your opportunity to better understand these text changes\, ask questions\, and give feedback to Raleigh’s Planning & Development Department. \nNOTE: As you know\, we were going to have this missing middle in housing presentation at our January meeting\, but a special session of the City Council was called for that evening and Patrick Young had to attend that meeting instead of our CAC meeting. He will join us at our February meeting. \nBetween now and February 28th\, if you would like to do some homework and become more familiar with this subject\, go to: FAQ: Raleigh’s Missing Middle and What is the Missing Middle? \nAs some of you may recall\, we had a Missing Middle presentation by Charles Dillard and Jason Hardin at our August 2021 H-W CAC meeting that was very informative; but that was before text change TC-20-21\, so they could only address text change TC-5-20 and its impact on Raleigh’s missing middle in housing. Click here to see that presentation. Since then TC-20-21 was approved\, and both text changes became a campaign issue in the last election. As our beautiful City continues to grow\, these issues are only going to get more complex for Raleigh residents. Please join us so you can understand what’s happening now and what the future may look like. \nCurrent Agenda:\n• Police report by Office Kevin Taylor\n• Update from the Hillsborough Street Community Service Corporation\n• Missing Middle Housing presentation by Patrick Young\, Planning and Development Director for Raleigh\n• H-W CAC Business Issues (if time permits) \nSee you on Tuesday February 26th\, \nMike Lindsay\nChair of the Hillsborough-Wade CAC \nPhone:919-828-0619\nMobile: 919-429-0177\ninform@nc.rr.com \nTopic: Hillsborough-Wade CAC February Meeting \nTime: Feb 28\, 2023 07:00 PM Eastern Time (US and Canada) \nJoin Zoom Meeting \nhttps://us02web.zoom.us/j/86997046720?pwd=d1RBcW5jVnNSNzVjOG1zK0VCK2gzQT09 \nMeeting ID: 869 9704 6720 \nPasscode: 294774 \nOne tap mobile \n+13092053325\,\,86997046720#\,\,\,\,*294774# US \n+13126266799\,\,86997046720#\,\,\,\,*294774# US (Chicago) \nDial by your location \n        +1 309 205 3325 US \n        +1 312 626 6799 US (Chicago) \n        +1 646 558 8656 US (New York) \n        +1 646 931 3860 US \n        +1 301 715 8592 US (Washington DC) \n        +1 305 224 1968 US \n        +1 719 359 4580 US \n        +1 253 205 0468 US \n        +1 253 215 8782 US (Tacoma) \n        +1 346 248 7799 US (Houston) \n        +1 360 209 5623 US \n        +1 386 347 5053 US \n        +1 507 473 4847 US \n        +1 564 217 2000 US \n        +1 669 444 9171 US \n        +1 669 900 9128 US (San Jose) \n        +1 689 278 1000 US \nMeeting ID: 869 9704 6720 \nPasscode: 294774 \nFind your local number: https://us02web.zoom.us/u/kdlZ2rHNes \n 
URL:https://livableraleigh.com/event/hillsborough-wade-cac-meeting/
LOCATION:NC
CATEGORIES:CAC,Engagement Filter
END:VEVENT
BEGIN:VEVENT
DTSTART;TZID=America/New_York:20230227T190000
DTEND;TZID=America/New_York:20230227T210000
DTSTAMP:20260423T204235
CREATED:20230217T113017Z
LAST-MODIFIED:20230218T002948Z
UID:27679-1677524400-1677531600@livableraleigh.com
SUMMARY:Virtual Midtown CAC Meeting
DESCRIPTION:We have an exciting agenda for February. As special guests\, we will have Patrick Young and Bynum Walter from Raleigh Planning as our special guests. If you have any concerns or questions on both present and future planning for the City of Raleigh\, please don’t miss this meeting.\n\nPlease note the change in the Zoom connection link included with the agenda:\n\nhttps://us02web.zoom.us/j/86172852122?pwd=cS92NjVIQng4TWRYUXBHSUpYc3hZUT09\n\n\n\n\n\n\n\nMidtown Citizens Advisory Council Meeting Monday\, February 27\, 2023 7:00-9:00 pm \n7 — Call to Order and Welcome to Midtown CAC Attendee Introductions \n7:05 — Review of minutes of MCAC meeting of November 22\, 2022 Discussion on Minutes\, Followed by Amendment / Vote \n7:10 — RPD officers Priest and Tomczak\, \nActivity and Crime Stat Report for Midtown Question and Answer \n7:30 — Raleigh Planning: Today and Tomorrow \nPatrick O. Young\, AICP\,\nRaleigh Director of Planning and Development \nBynum Walter \nRaleigh Senior Planner \n\n\n\n\nAgenda \n\n\n\n\nPossible Discussion Topics:\n– Housing needs (further definition of need by housing type: single family\, duplex\, apartment\, condo\, townhome\, etc.) In other words\, besides the obvious affordable housing issue and loss of NOAH\, what are folks moving here looking for?\n– Current design of commercial buildings in suburban areas – it is obvious that new construction is moving buildings closer to the roadway with minimal setbacks. The concern of this trend is loss of open space for future roadway expansion and green space. This is a significant change to the current landscape of Raleigh with larger roadway setbacks and taller established tree scapes\n– Integration of “Missing Middle” into established neighborhoods – what fits and what doesn’t especially with reduced side yard setbacks (tight density).\n– Possible outcome of public input sessions from outreach on Missing Middle? \nQuestion and Answer – Planning staff / MCAC residents \n8:45 Old / New Business\, Announcements\, Remarks 7) 9:00 Adjournment \n\n\n\n\n\n\n\n\nZoom Meeting Link: \n\n\n\n\nJoin Zoom Meeting https://us02web.zoom.us/j/86172852122?pwd=cS92NjVIQng4TWRYUXBHSUpYc3hZUT09 \nMeeting ID: 861 7285 2122\nPasscode: 347661\nOne tap mobile +16468769923\,\,86172852122#\,\,\,\,*347661# US (New York) +16469313860\,\,86172852122#\,\,\,\,*347661# US \nVisit our Midtown CAC Facebook page: \nhttps://www.facebook.com/MidtownCAC \n\n\n \n\n\n\n\nOther events of note:\n\n\nMidtown CAC Community Announcements\, February 17\, 2023 : \nUrgent – Karen Solari resigning from being chairman of Nominating committee \nThank you for your years of service \nStill seeking volunteer for chairman or committee participation \nCouncilor for District A Mary Black Community Get Together \nBiggby Coffee\, Saturday\, February 18\, 2023 at 12 pm to 2 pm \nColony Shopping Center \n5424 Six Forks Rd \nRaleigh\, NC 27609 \nCity events and conversations: \nTake our Midtown Bridge Survey!(link is external)\nSurvey closes on Feb. 28 \nCity Council Public Comments Survey \nThe poll is posted on Engage Raleigh (Public Input) and will be pushed out via our social media channels. It was also shared via our email system (gov delivery). You may have already received it. \nLink: https://publicinput.com/x1266 \n\n\n\nIf you have any questions\, please contact me.\nLarry Helfant\n919-880-7692
URL:https://livableraleigh.com/event/virtual-midtown-cac-meeting-monday-february-27-700-900-pm/
LOCATION:Virtual Meeting
CATEGORIES:CAC,Engagement Filter
END:VEVENT
BEGIN:VEVENT
DTSTART;TZID=America/New_York:20230125T190000
DTEND;TZID=America/New_York:20230125T210000
DTSTAMP:20260423T204235
CREATED:20230121T145513Z
LAST-MODIFIED:20230217T233801Z
UID:27003-1674673200-1674680400@livableraleigh.com
SUMMARY:West Raleigh CAC
DESCRIPTION:Wednesday January 25th at 7:00pm\nWe are looking forward to having you join us for our next monthly meeting after a lovely holiday break! Here is our agenda: \n-Community Updates (Peyote Perryman) \n-Blue Ridge Corridor Alliance (Stuart Levin) \n-Rezoning Z-34-22 (Worth Mills\, Longleaf Law) \nUpcoming Community Events (All) \nZoom meeting info below. \nJoin Zoom Meeting\nhttps://us02web.zoom.us/j/83981292620 \nMeeting ID: 839 8129 2620\nOne tap mobile\n+16469313860\,\,83981292620# US\n+19292056099\,\,83981292620# US (New York)
URL:https://livableraleigh.com/event/west-raleigh-cac/
LOCATION:NC
CATEGORIES:CAC,Engagement Filter
END:VEVENT
BEGIN:VEVENT
DTSTART;TZID=America/New_York:20230124T190000
DTEND;TZID=America/New_York:20230124T210000
DTSTAMP:20260423T204235
CREATED:20230120T204849Z
LAST-MODIFIED:20230217T233813Z
UID:26960-1674586800-1674594000@livableraleigh.com
SUMMARY:Hillsborough-Wade CAC
DESCRIPTION:Hi Hillsborough-Wade CAC friends\, \nPlease put our monthly Hillsborough-Wade CAC meeting on your calendar for Tuesday\, January 24th at 7:00 PM. The Zoom link invitation is at the bottom of this email. \nDue to a City Council Special Session being called for next Tuesday\, Patrick Young will not be able to do a presentation to our CAC that same evening on “Missing Middle Housing” in Raleigh. Our new January agenda has Kris Nikfar giving us an update on Raleigh Greenway closures and other greenway projects. \nNew Agenda:\n• Police report by Officer Kevin Taylor\n• Update from the Hillsborough Street Community Service Corporation by Shannon Johnson\n• Update on Raleigh Greenway Closures by Kris Nikfar\, Parks and Recreation\n• Discussion on H-W CAC Status\, Programming and Future Plans \nSee you on Tuesday January 24th\, \nMike Lindsay\nChair of the Hillsborough-Wade CAC \nPhone:919-828-0619\nMobile: 919-429-0177\ninform@nc.rr.com \nJoin Zoom Meeting \nhttps://us02web.zoom.us/j/83684031870?pwd=TEluck5xQ3BVdlV2RFVzNVNVSG9uUT09 \nMeeting ID: 836 8403 1870 \nPasscode: 542961 \nOne tap mobile \n+13017158592\,\,83684031870#\,\,\,\,*542961# US (Washington DC) \n+13052241968\,\,83684031870#\,\,\,\,*542961# US \nDial by your location \n+1 301 715 8592 US (Washington DC) \n+1 305 224 1968 US \n+1 309 205 3325 US \n+1 312 626 6799 US (Chicago) \n+1 646 558 8656 US (New York) \n+1 646 931 3860 US \n+1 253 215 8782 US (Tacoma) \n+1 346 248 7799 US (Houston) \n+1 360 209 5623 US \n+1 386 347 5053 US \n+1 507 473 4847 US \n+1 564 217 2000 US \n+1 669 444 9171 US \n+1 669 900 9128 US (San Jose) \n+1 689 278 1000 US \n+1 719 359 4580 US \n+1 253 205 0468 US \nMeeting ID: 836 8403 1870 \nPasscode: 542961 \nFind your local number: https://us02web.zoom.us/u/kyRdVI1M4
URL:https://livableraleigh.com/event/hillsborough-wade-cac/
LOCATION:Virtual Meeting
CATEGORIES:CAC,Engagement Filter
END:VEVENT
BEGIN:VEVENT
DTSTART;TZID=America/New_York:20230123T190000
DTEND;TZID=America/New_York:20230123T210000
DTSTAMP:20260423T204235
CREATED:20230120T204715Z
LAST-MODIFIED:20230217T233826Z
UID:26958-1674500400-1674507600@livableraleigh.com
SUMMARY:Midtown CAC Virtual Meeting
DESCRIPTION:Midtown Citizens Advisory Council Meeting Monday\, January 23\, 2023 7:00-9:00 pm \nJoin Zoom Meeting\nhttps://us02web.zoom.us/j/82142289722\n\nMeeting ID: 821 4228 9722\nOne tap mobile\n+16469313860\,\,82142289722# US\n+19292056099\,\,82142289722# US (New York)\n\nAgenda\nCall to Order and Welcome to Midtown CAC\nAttendee Introductions\nReview of minutes of MCAC meeting of November 22\, 2022 \n– Discussion on Minutes\, Followed by Amendment / Vote RPD officers Priest and Tomczak\, \nActivity and Crime Stat Report for Midtown Question and Answer \nUpdate on Raleigh Bus Services\, Contracts and Driver Issues \nDavid Walker\nRaleigh Transportation Supervisor Department of Transportation/Transit \nUpdate on Midtown Multimodal Bridge\, Navaho Drive to Wake Towne Drive \nBrief Overview of Street Plan\,Transportation Funding Cycle Question and Answer – Transportation staff / MCAC residents \nAnne Conlon\, PE\nSenior Transportation Engineer Raleigh Transportation Department \nOld / New Business\, Announcements\, Remarks \nAdjournment
URL:https://livableraleigh.com/event/midtown-cac-virtual-meeting/
LOCATION:Virtual Meeting
CATEGORIES:CAC,Engagement Filter
END:VEVENT
END:VCALENDAR