BEGIN:VCALENDAR
VERSION:2.0
PRODID:-//Livable Raleigh - ECPv6.15.20//NONSGML v1.0//EN
CALSCALE:GREGORIAN
METHOD:PUBLISH
X-ORIGINAL-URL:https://livableraleigh.com
X-WR-CALDESC:Events for Livable Raleigh
REFRESH-INTERVAL;VALUE=DURATION:PT1H
X-Robots-Tag:noindex
X-PUBLISHED-TTL:PT1H
BEGIN:VTIMEZONE
TZID:America/New_York
BEGIN:DAYLIGHT
TZOFFSETFROM:-0500
TZOFFSETTO:-0400
TZNAME:EDT
DTSTART:20250309T070000
END:DAYLIGHT
BEGIN:STANDARD
TZOFFSETFROM:-0400
TZOFFSETTO:-0500
TZNAME:EST
DTSTART:20251102T060000
END:STANDARD
BEGIN:DAYLIGHT
TZOFFSETFROM:-0500
TZOFFSETTO:-0400
TZNAME:EDT
DTSTART:20260308T070000
END:DAYLIGHT
BEGIN:STANDARD
TZOFFSETFROM:-0400
TZOFFSETTO:-0500
TZNAME:EST
DTSTART:20261101T060000
END:STANDARD
BEGIN:DAYLIGHT
TZOFFSETFROM:-0500
TZOFFSETTO:-0400
TZNAME:EDT
DTSTART:20270314T070000
END:DAYLIGHT
BEGIN:STANDARD
TZOFFSETFROM:-0400
TZOFFSETTO:-0500
TZNAME:EST
DTSTART:20271107T060000
END:STANDARD
END:VTIMEZONE
BEGIN:VEVENT
DTSTART;TZID=America/New_York:20260108T190000
DTEND;TZID=America/New_York:20260108T203000
DTSTAMP:20260419T122049
CREATED:20251210T150006Z
LAST-MODIFIED:20260106T160954Z
UID:49799-1767898800-1767904200@livableraleigh.com
SUMMARY:SECAC (Southeast CAC) Meeting
DESCRIPTION:Please plan to have a representative from your registered neighborhood attend this meeting.\n\nSECAC Community Meeting\n\nWhen: January 8 \,2026\nWhere\, Barwell Community Center\nTime; 7:00 pm- 8:30 pm\n\n\nSoutheast CAC Community Meeting\nJanuary 8\,2026\, 7:00 PM Barwell Road Community Center\n\nNote:Important Update on request to reinstate the SouthCAC\nAgenda:\n1. Welcome/Introductions – Dr Ulysses J Lane\, SECAC Chair\n-CAC Overview Video\n2. Parks and Recreation Cultural Resources\na. Barwell Road Community Center\, Director Colleen Toomey\nb. Barwell Road Community Garden\n3. Public Safety Community Reports\na. Wake County Sheriff Office\, Deputy Ryne Doxsie\nb. Raleigh Police Department | Officer Lee Rodrick\n4. Managing Holiday Stress\, Southlight-Bongo Manley\n5.Widening of Barwell Road and Pearl Road Realignment Update.\nBenjamin Possiel and Jaykumar Shah Manager\, Raliegh   Engineering Service Department\n6.South CAC reinstatement request to RCAC.\n7. Community Announcements\n– SER Registered Neighborhoods\nMeeting Adjourned!\nFollow SECAC on Facebook:     https://www.facebook.com/SERALEIGHCAC11-7-2025111\n\n\n\n\nIf you are receiving this e-mail\, it’s because you have attended one or more SECAC meetings in the past. If you wish to unsubscribe\, please e-mail me at ulane6@nc.rr.com.  Thanks.
URL:https://livableraleigh.com/event/secac-meeting/
LOCATION:Barwell Road Community Center\, 5857 Barwell Park Dr\, Raleigh\, NC\, 27610\, United States
CATEGORIES:CAC,Engagement Filter
END:VEVENT
END:VCALENDAR