BEGIN:VCALENDAR
VERSION:2.0
PRODID:-//Livable Raleigh - ECPv6.15.20//NONSGML v1.0//EN
CALSCALE:GREGORIAN
METHOD:PUBLISH
X-ORIGINAL-URL:https://livableraleigh.com
X-WR-CALDESC:Events for Livable Raleigh
REFRESH-INTERVAL;VALUE=DURATION:PT1H
X-Robots-Tag:noindex
X-PUBLISHED-TTL:PT1H
BEGIN:VTIMEZONE
TZID:America/New_York
BEGIN:DAYLIGHT
TZOFFSETFROM:-0500
TZOFFSETTO:-0400
TZNAME:EDT
DTSTART:20240310T070000
END:DAYLIGHT
BEGIN:STANDARD
TZOFFSETFROM:-0400
TZOFFSETTO:-0500
TZNAME:EST
DTSTART:20241103T060000
END:STANDARD
BEGIN:DAYLIGHT
TZOFFSETFROM:-0500
TZOFFSETTO:-0400
TZNAME:EDT
DTSTART:20250309T070000
END:DAYLIGHT
BEGIN:STANDARD
TZOFFSETFROM:-0400
TZOFFSETTO:-0500
TZNAME:EST
DTSTART:20251102T060000
END:STANDARD
BEGIN:DAYLIGHT
TZOFFSETFROM:-0500
TZOFFSETTO:-0400
TZNAME:EDT
DTSTART:20260308T070000
END:DAYLIGHT
BEGIN:STANDARD
TZOFFSETFROM:-0400
TZOFFSETTO:-0500
TZNAME:EST
DTSTART:20261101T060000
END:STANDARD
END:VTIMEZONE
BEGIN:VEVENT
DTSTART;TZID=America/New_York:20251210T173000
DTEND;TZID=America/New_York:20251210T193000
DTSTAMP:20260419T135200
CREATED:20251125T145140Z
LAST-MODIFIED:20251125T145140Z
UID:49510-1765387800-1765395000@livableraleigh.com
SUMMARY:West Raleigh CAC Holiday Gathering
DESCRIPTION:TIME\nWednesday December 10th 5:30pm – 7:30pm\n\nLOCATION\nWestern Blvd Presbyterian Church\n4900 Kaplan Drive\n(lower entrance on north side of the building)\nIt’s our annual Holiday gathering and we hope you can attend!\n\nWestern Blvd Presbyterian Church has opened the doors to their fellowship hall and we will have refreshments and snacks available. Bring your favorite holiday sweets to share with the group!\n\nWe will also be collecting suitcases and medical supplies for the non profit “Not Just Tourists” Visit www.njt.net to find out more about the mission of the organization. You can also email raleigh@njt.net for more information.\n\nWe hope you can attend this in person meeting. There are no items on the agenda but we will reflect on the ways we have had a positive impact on our community this year.\n\n\n—\nWest Raleigh Community Advocacy Council (CAC)\nhttps://www.facebook.com/WestRalCAC\nChair Peyote Perryman
URL:https://livableraleigh.com/event/west-raleigh-cac-holiday-gathering/
LOCATION:Western Boulevard Presbyterian Church\, 4900 Kaplan Drive\, Raleigh\, 27606
CATEGORIES:CAC,Engagement Filter
END:VEVENT
END:VCALENDAR