BEGIN:VCALENDAR
VERSION:2.0
PRODID:-//Livable Raleigh - ECPv6.15.20//NONSGML v1.0//EN
CALSCALE:GREGORIAN
METHOD:PUBLISH
X-ORIGINAL-URL:https://livableraleigh.com
X-WR-CALDESC:Events for Livable Raleigh
REFRESH-INTERVAL;VALUE=DURATION:PT1H
X-Robots-Tag:noindex
X-PUBLISHED-TTL:PT1H
BEGIN:VTIMEZONE
TZID:America/New_York
BEGIN:DAYLIGHT
TZOFFSETFROM:-0500
TZOFFSETTO:-0400
TZNAME:EDT
DTSTART:20240310T070000
END:DAYLIGHT
BEGIN:STANDARD
TZOFFSETFROM:-0400
TZOFFSETTO:-0500
TZNAME:EST
DTSTART:20241103T060000
END:STANDARD
BEGIN:DAYLIGHT
TZOFFSETFROM:-0500
TZOFFSETTO:-0400
TZNAME:EDT
DTSTART:20250309T070000
END:DAYLIGHT
BEGIN:STANDARD
TZOFFSETFROM:-0400
TZOFFSETTO:-0500
TZNAME:EST
DTSTART:20251102T060000
END:STANDARD
BEGIN:DAYLIGHT
TZOFFSETFROM:-0500
TZOFFSETTO:-0400
TZNAME:EDT
DTSTART:20260308T070000
END:DAYLIGHT
BEGIN:STANDARD
TZOFFSETFROM:-0400
TZOFFSETTO:-0500
TZNAME:EST
DTSTART:20261101T060000
END:STANDARD
END:VTIMEZONE
BEGIN:VEVENT
DTSTART;TZID=America/New_York:20251022T190000
DTEND;TZID=America/New_York:20251022T203000
DTSTAMP:20260419T170910
CREATED:20251018T171907Z
LAST-MODIFIED:20251018T171907Z
UID:49047-1761159600-1761165000@livableraleigh.com
SUMMARY:West Raleigh CAC Virtual Meeting
DESCRIPTION:Meeting Wednesday October 22nd at 7pm\n\nIt’s time to meet and talk about what’s going on in West Raleigh!\nThe change in the air doesn’t just mean the annual State Fair is in full swing\, it also means that treasured places in West Raleigh will see an abundance of fall color.\nOur area continues to attract interest for infill developments and we are going to hear from two applicants for projects along Trailwood Drive.\n\nWe will discuss these and several other items of interest to our members and hope you can join us via zoom on Wednesday evening at 7pm. Zoom Link follows the agenda\n\n\n*Agenda*\nHillsborough Street Improvements\nTrailwood Rezoning Z-38-25 – Floresta\nTrailwood Rezoning (unfiled) – LDG Development\nCommunity Updates\n\n\nJoin Zoom Meeting\nhttps://us02web.zoom.us/j/83981292620\nMeeting ID: 839 8129 2620\nOne tap mobile\n+16469313860\,\,83981292620# US\n+19292056099\,\,83981292620# US (New York)\n\n—
URL:https://livableraleigh.com/event/west-raleigh-cac-virtual-meeting-5/
LOCATION:NC
CATEGORIES:CAC,Engagement Filter
END:VEVENT
END:VCALENDAR