BEGIN:VCALENDAR
VERSION:2.0
PRODID:-//Livable Raleigh - ECPv6.15.20//NONSGML v1.0//EN
CALSCALE:GREGORIAN
METHOD:PUBLISH
X-ORIGINAL-URL:https://livableraleigh.com
X-WR-CALDESC:Events for Livable Raleigh
REFRESH-INTERVAL;VALUE=DURATION:PT1H
X-Robots-Tag:noindex
X-PUBLISHED-TTL:PT1H
BEGIN:VTIMEZONE
TZID:America/New_York
BEGIN:DAYLIGHT
TZOFFSETFROM:-0500
TZOFFSETTO:-0400
TZNAME:EDT
DTSTART:20240310T070000
END:DAYLIGHT
BEGIN:STANDARD
TZOFFSETFROM:-0400
TZOFFSETTO:-0500
TZNAME:EST
DTSTART:20241103T060000
END:STANDARD
BEGIN:DAYLIGHT
TZOFFSETFROM:-0500
TZOFFSETTO:-0400
TZNAME:EDT
DTSTART:20250309T070000
END:DAYLIGHT
BEGIN:STANDARD
TZOFFSETFROM:-0400
TZOFFSETTO:-0500
TZNAME:EST
DTSTART:20251102T060000
END:STANDARD
BEGIN:DAYLIGHT
TZOFFSETFROM:-0500
TZOFFSETTO:-0400
TZNAME:EDT
DTSTART:20260308T070000
END:DAYLIGHT
BEGIN:STANDARD
TZOFFSETFROM:-0400
TZOFFSETTO:-0500
TZNAME:EST
DTSTART:20261101T060000
END:STANDARD
END:VTIMEZONE
BEGIN:VEVENT
DTSTART;TZID=America/New_York:20251013T190000
DTEND;TZID=America/New_York:20251013T203000
DTSTAMP:20260419T170900
CREATED:20251009T201308Z
LAST-MODIFIED:20251009T201308Z
UID:48909-1760382000-1760387400@livableraleigh.com
SUMMARY:Southwest Raleigh Community Engagement Virtual Meeting
DESCRIPTION:Join us Monday night\, October 13th at 7 PM for our regularly scheduled Southwest Raleigh Community Engagement Meeting. This will be a virtual meeting using Zoom. \n\nGreetings to Friends and Neighbors\nCity of Raleigh Inspections Report – City Inspector David Johnson will tell us what is changing this season with property upkeep.\nCity of Raleigh Monthly Report and Update – Captain Manson (SW-Southwest). Captain Nieters (SE-Southeast)\, Captain Van Antwerp (DT-Downtown). Our SW area is part of three different Raleigh Police Districts. Popular subjects are vandalism and Porch Pirates. (Always report porch pirates to Raleigh Police Dept)\nCarolina Pines Community Center Projects and Updates – Playgrounds and tennis courts are being modified.\nCarolina Pines Ave Improvement Project – Extending from Lake Wheeler Rd. to South Saunders St. Construction has started with alternating single lane traffic much of the day. This is going to be a complex project. Suggest avoiding the area if you don’t live there.\nRaleigh Golf Association (RGA) – Land Sale and Rezoning – RGA property north of Tryon Rd. is in the process of being sold. A rezoning case that will allow “Affordable 60% AMI” apartments being built there was approved on October 7th. The number of units planned is currently about 370. Planned improvements to Fairway Drive along with a signal light at Tryon Rd will affect us all.\nLake Wheeler Road Construction at Dix Park – The section of Lake Wheeler Road from South Saunders south to the railroad crossing is about to begin significant construction. Traffic in the area will be severely limited. Avoid or plan well in advance.\nCommunity Safety – We all need to discuss any ideas about how we can make our neighborhoods safer. Incidents occur. How we come together matters a lot. Comments and updates from our community leaders and residents.\nOur November 10th meeting will be Virtual using Zoom. Agenda is open at this time.\nFor December 8th we will be back to our in-person Holiday Social. We are scheduled at our traditional home Carolina Pines Community Center\, 2305 Lake Wheeler Rd. for our In Person Community Meeting at 7:00pm.\n\n\n\n\n\n\n\n\n\n\n\n\n\n\n\n\n\n\n\n\n\n\n\n\n\n\n\n\n\n\n\n\n\n\n\n\n\n\n\n\n\n\n\nJoin the Zoom Meeting
URL:https://livableraleigh.com/event/southwest-raleigh-community-engagement-virtual-meeting-5/
LOCATION:NC
CATEGORIES:CAC,Engagement Filter
END:VEVENT
END:VCALENDAR