BEGIN:VCALENDAR
VERSION:2.0
PRODID:-//Livable Raleigh - ECPv6.15.20//NONSGML v1.0//EN
CALSCALE:GREGORIAN
METHOD:PUBLISH
X-WR-CALNAME:Livable Raleigh
X-ORIGINAL-URL:https://livableraleigh.com
X-WR-CALDESC:Events for Livable Raleigh
REFRESH-INTERVAL;VALUE=DURATION:PT1H
X-Robots-Tag:noindex
X-PUBLISHED-TTL:PT1H
BEGIN:VTIMEZONE
TZID:America/New_York
BEGIN:DAYLIGHT
TZOFFSETFROM:-0500
TZOFFSETTO:-0400
TZNAME:EDT
DTSTART:20240310T070000
END:DAYLIGHT
BEGIN:STANDARD
TZOFFSETFROM:-0400
TZOFFSETTO:-0500
TZNAME:EST
DTSTART:20241103T060000
END:STANDARD
BEGIN:DAYLIGHT
TZOFFSETFROM:-0500
TZOFFSETTO:-0400
TZNAME:EDT
DTSTART:20250309T070000
END:DAYLIGHT
BEGIN:STANDARD
TZOFFSETFROM:-0400
TZOFFSETTO:-0500
TZNAME:EST
DTSTART:20251102T060000
END:STANDARD
BEGIN:DAYLIGHT
TZOFFSETFROM:-0500
TZOFFSETTO:-0400
TZNAME:EDT
DTSTART:20260308T070000
END:DAYLIGHT
BEGIN:STANDARD
TZOFFSETFROM:-0400
TZOFFSETTO:-0500
TZNAME:EST
DTSTART:20261101T060000
END:STANDARD
END:VTIMEZONE
BEGIN:VEVENT
DTSTART;TZID=America/New_York:20250923T190000
DTEND;TZID=America/New_York:20250923T203000
DTSTAMP:20260419T182844
CREATED:20250826T151039Z
LAST-MODIFIED:20250910T180538Z
UID:47482-1758654000-1758659400@livableraleigh.com
SUMMARY:Hillsborough-Wade CAC
DESCRIPTION:Hi CAC neighbors\, \nWe have our next Hillsborough-Wade CAC meeting on Tuesday\, September 23 at 7:00 PM. The Zoom link is at the bottom of this email. \nINFORMATION UPDATES: \n\nOne of our agenda items is a presentation about a possible text change regarding outdoor advertising and digital signage in Raleigh. At the Tuesday\, September 2nd City Council meeting this topic was discussed. Click here for the minutes and a video of the digital signage discussion. While looking at the minutes you can click on the video\, which should start at the beginning of this particular Council discussion.\nAs I understand the text change\, they are not asking for an increase in the number of billboards in Raleigh. They are seeking the ability to make many of them digital signs\, and the ability to relocate signs to other locations. Also an increase in size and height of signs. At the bottom of this email are maps of current locations and areas for future relocations. Attached is a PDF of the Digital Billboards presentation made to the Safe\, Vibrant & Healthy Community Committee on August 26.\nWe also have major changes to how Raleigh conducts City Council elections\, including the introduction of a primary for the 2026 election. This will all be explained at our meeting.\nWe will have an update about rezoning case Z-12-25. The last image at the bottom of this email shows the context of this 30-story rezoning request.\n\nAgenda\n• Police report\n• Presentation about a future request to City Council for a text modification to change the City’s policy regarding Digital Signage in Raleigh. These are digital billboards that change images every 8 seconds or so. The presentation will cover the requested change and potential community benefits.\n• Presentation about Raleigh’s new voting rules that will include a primary for the 2026 elections.\n• Update on rezoning case Z-12-25 at the corner of Peace and West Streets. \nSee you on the 23rd\, \nMike \n\nMichael Lindsay\nChair of the Hillsborough-Wade CAC\nMobile: 919-429-0177\ninform@nc.rr.com \nHillsborough-Wade CAC September Meeting \nTime: Sep 23\, 2025 07:00 PM Eastern Time (US and Canada) \nJoin Zoom Meeting \nhttps://us02web.zoom.us/j/82899402290?pwd=bjfswbPV6ijOsWcr3I09JJ9k1OxwaL.1 \nMeeting ID: 828 9940 2290 \nPasscode: 344753 \n— \nOne tap mobile \n+16465588656\,\,82899402290#\,\,\,\,*344753# US (New York) \n+16469313860\,\,82899402290#\,\,\,\,*344753# US \nJoin instructions \nhttps://us02web.zoom.us/meetings/82899402290/invitations?signature=ncZeCwDBKdyiy-nLz5lMjQ3VfrJqIE0BAEGgyFt8sYw \n \n \n \n 
URL:https://livableraleigh.com/event/hillsborough-wade-cac-9/
LOCATION:NC
CATEGORIES:CAC,Engagement Filter
END:VEVENT
END:VCALENDAR