BEGIN:VCALENDAR
VERSION:2.0
PRODID:-//Livable Raleigh - ECPv6.15.20//NONSGML v1.0//EN
CALSCALE:GREGORIAN
METHOD:PUBLISH
X-ORIGINAL-URL:https://livableraleigh.com
X-WR-CALDESC:Events for Livable Raleigh
REFRESH-INTERVAL;VALUE=DURATION:PT1H
X-Robots-Tag:noindex
X-PUBLISHED-TTL:PT1H
BEGIN:VTIMEZONE
TZID:America/New_York
BEGIN:DAYLIGHT
TZOFFSETFROM:-0500
TZOFFSETTO:-0400
TZNAME:EDT
DTSTART:20240310T070000
END:DAYLIGHT
BEGIN:STANDARD
TZOFFSETFROM:-0400
TZOFFSETTO:-0500
TZNAME:EST
DTSTART:20241103T060000
END:STANDARD
BEGIN:DAYLIGHT
TZOFFSETFROM:-0500
TZOFFSETTO:-0400
TZNAME:EDT
DTSTART:20250309T070000
END:DAYLIGHT
BEGIN:STANDARD
TZOFFSETFROM:-0400
TZOFFSETTO:-0500
TZNAME:EST
DTSTART:20251102T060000
END:STANDARD
BEGIN:DAYLIGHT
TZOFFSETFROM:-0500
TZOFFSETTO:-0400
TZNAME:EDT
DTSTART:20260308T070000
END:DAYLIGHT
BEGIN:STANDARD
TZOFFSETFROM:-0400
TZOFFSETTO:-0500
TZNAME:EST
DTSTART:20261101T060000
END:STANDARD
END:VTIMEZONE
BEGIN:VEVENT
DTSTART;TZID=America/New_York:20250918T190000
DTEND;TZID=America/New_York:20250918T200000
DTSTAMP:20260419T183107
CREATED:20250915T194427Z
LAST-MODIFIED:20250915T194427Z
UID:48265-1758222000-1758225600@livableraleigh.com
SUMMARY:Mordecai CAC Hybrid Meeting
DESCRIPTION:Community Meeting:\nThursday\, September 18\n7-8pm\n1426 Wake Forest Road\nPlease join the MCAC this THURSDAY\, September 18 at 7pm as we kick off our meeting year. We have a new meeting day\, time\, and location!  This will be a hybrid meeting so you can join in person\, on Zoom\, or view on Facebook.Agenda: \n\nAnnouncements\nWords from District C City Council Member Corey Branch\nPolice Update\nCommittee updates\n\nFeatured Topics: \n\nRaleigh City Stormwater Presentation (keynote)\nCreeks (Athena Wollen):  Brookside Drive/Cemetery Branch Environmental Stewardship\nDigital Signs (CS Hollis & Associates): Proposal on digital billboards in Raleigh\n\nZoom: \nregister in advance for this meeting:https://us06web.zoom.us/meeting/register/ySSD87_3TaKWy26fyrYjOgLocation:Old Christ the King Church\, at 1426 Wake Forest Rd. Please park in the back lot\, and follow the signs for the CAC meeting. We will be using this location for at least the remainder of the calendar year.New Meeting Dates:Meetings will be held on the 3rd Thursday of the month\, at 7:00 PM. This is a shift from our previous meeting schedule of the 2nd Tuesday.
URL:https://livableraleigh.com/event/mordecai-cac-hybrid-meeting-2/
LOCATION:Old Christ the King Church\, 1426 Wake Forest Road
CATEGORIES:CAC,Engagement Filter
END:VEVENT
END:VCALENDAR