BEGIN:VCALENDAR
VERSION:2.0
PRODID:-//Livable Raleigh - ECPv6.15.20//NONSGML v1.0//EN
CALSCALE:GREGORIAN
METHOD:PUBLISH
X-WR-CALNAME:Livable Raleigh
X-ORIGINAL-URL:https://livableraleigh.com
X-WR-CALDESC:Events for Livable Raleigh
REFRESH-INTERVAL;VALUE=DURATION:PT1H
X-Robots-Tag:noindex
X-PUBLISHED-TTL:PT1H
BEGIN:VTIMEZONE
TZID:America/New_York
BEGIN:DAYLIGHT
TZOFFSETFROM:-0500
TZOFFSETTO:-0400
TZNAME:EDT
DTSTART:20240310T070000
END:DAYLIGHT
BEGIN:STANDARD
TZOFFSETFROM:-0400
TZOFFSETTO:-0500
TZNAME:EST
DTSTART:20241103T060000
END:STANDARD
BEGIN:DAYLIGHT
TZOFFSETFROM:-0500
TZOFFSETTO:-0400
TZNAME:EDT
DTSTART:20250309T070000
END:DAYLIGHT
BEGIN:STANDARD
TZOFFSETFROM:-0400
TZOFFSETTO:-0500
TZNAME:EST
DTSTART:20251102T060000
END:STANDARD
BEGIN:DAYLIGHT
TZOFFSETFROM:-0500
TZOFFSETTO:-0400
TZNAME:EDT
DTSTART:20260308T070000
END:DAYLIGHT
BEGIN:STANDARD
TZOFFSETFROM:-0400
TZOFFSETTO:-0500
TZNAME:EST
DTSTART:20261101T060000
END:STANDARD
END:VTIMEZONE
BEGIN:VEVENT
DTSTART;TZID=America/New_York:20250916T130000
DTEND;TZID=America/New_York:20250916T140000
DTSTAMP:20260419T182846
CREATED:20250907T140229Z
LAST-MODIFIED:20250907T140229Z
UID:47923-1758027600-1758031200@livableraleigh.com
SUMMARY:Special Meeting of West Raleigh CAC
DESCRIPTION:Special Meeting of West Raleigh CAC\nWe are holding a special in person meeting on Tuesday September 16th at 1:00pmto meet with a reporter from the News and Observer. Larry King who lives next to the affordable housing development called Lorimer Springs that is to be built this year will also be in attendance. This is an in person meeting only\, there will be no zoom link or recordings made of the meeting. There will be a photographer from the N&O. \nThe density allowed along the Frequent Transit Area (FTA) or Transit Overlay District (TOD) is of concern to Larry and other neighbors. The West Raleigh CAC is offering the space for concerned residents to meet. This is in addition to the two meetings that were held earlier this year to discuss this issue. This is an open meeting and will last one hour. \nAt this time\, there is no indication that Lorimer Springs will modify it’s proposed density of 60 units in a three story building. A site plan has been filed with the City that meets the zoning conditions of the FTA. \nTime: \nTuesday September 16th at 1:00pm \nLocation: \nPowell Drive Park Neighborhood Center \n740 Powell Drive
URL:https://livableraleigh.com/event/special-meeting-of-west-raleigh-cac/
LOCATION:Powell Drive Park\, 740 Powell Drive\, 27606
CATEGORIES:CAC,Engagement Filter
END:VEVENT
END:VCALENDAR