BEGIN:VCALENDAR
VERSION:2.0
PRODID:-//Livable Raleigh - ECPv6.15.20//NONSGML v1.0//EN
CALSCALE:GREGORIAN
METHOD:PUBLISH
X-WR-CALNAME:Livable Raleigh
X-ORIGINAL-URL:https://livableraleigh.com
X-WR-CALDESC:Events for Livable Raleigh
REFRESH-INTERVAL;VALUE=DURATION:PT1H
X-Robots-Tag:noindex
X-PUBLISHED-TTL:PT1H
BEGIN:VTIMEZONE
TZID:America/New_York
BEGIN:DAYLIGHT
TZOFFSETFROM:-0500
TZOFFSETTO:-0400
TZNAME:EDT
DTSTART:20240310T070000
END:DAYLIGHT
BEGIN:STANDARD
TZOFFSETFROM:-0400
TZOFFSETTO:-0500
TZNAME:EST
DTSTART:20241103T060000
END:STANDARD
BEGIN:DAYLIGHT
TZOFFSETFROM:-0500
TZOFFSETTO:-0400
TZNAME:EDT
DTSTART:20250309T070000
END:DAYLIGHT
BEGIN:STANDARD
TZOFFSETFROM:-0400
TZOFFSETTO:-0500
TZNAME:EST
DTSTART:20251102T060000
END:STANDARD
BEGIN:DAYLIGHT
TZOFFSETFROM:-0500
TZOFFSETTO:-0400
TZNAME:EDT
DTSTART:20260308T070000
END:DAYLIGHT
BEGIN:STANDARD
TZOFFSETFROM:-0400
TZOFFSETTO:-0500
TZNAME:EST
DTSTART:20261101T060000
END:STANDARD
END:VTIMEZONE
BEGIN:VEVENT
DTSTART;TZID=America/New_York:20250908T190000
DTEND;TZID=America/New_York:20250908T203000
DTSTAMP:20260419T183910
CREATED:20250903T141848Z
LAST-MODIFIED:20250903T144225Z
UID:47777-1757358000-1757363400@livableraleigh.com
SUMMARY:Southwest Raleigh Community Engagement Meeting
DESCRIPTION:Friends and neighbors\,SW Community Meeting at the Carolina Pines Community Center (2305 Lake Wheeler Rd.). We will meet in person\, without streaming\, next Monday evening\, September 8th\, at 7:00 pm. \n\nThere will be reports from Raleigh Police Officers and City Inspections.\nWe plan to have a special update from Lisa Genschel with the Dix Park Conservancy about a program to join in supporting Dorothea Dix Park Conservancy.\nJeff Murison of The Hillsborough Street Community Service Corporation (Live it Up) will update us on programs for their included three mile long area and programs that focus on community success.\nWe need your help!  –  I have been told that we can use the Center’s freezer. Therefore\, I will\, as previously promised\, donate ice cream. Please come and help with the ice cream. Since I have no idea as to how many will attend I don’t need to be left with melting cartons and no freezer space. Please bring help. Kids welcome.\nThis meeting is intended to be focused on sharing interests\, and concerns and just acquainting ourselves with our neighbors. Please join this gathering if you can. Hopefully\, we will have a good turnout. I plan to schedule in-person meetings four times a year (next one in June) the others will continue to use Zoom.\n\n\nChair set-up in our traditional room at Carolina Pines Center will start at about 6:45 pm. Our next meeting in October will resume the popular Zoom/Streaming format.
URL:https://livableraleigh.com/event/southwest-raleigh-community-engagement-meeting-12/
LOCATION:Carolina Pines Community Center\, 2305 Lake Wheeler Road\, Raleigh\, NC\, 27603\, United States
CATEGORIES:CAC,Engagement Filter
END:VEVENT
END:VCALENDAR