BEGIN:VCALENDAR
VERSION:2.0
PRODID:-//Livable Raleigh - ECPv6.15.20//NONSGML v1.0//EN
CALSCALE:GREGORIAN
METHOD:PUBLISH
X-WR-CALNAME:Livable Raleigh
X-ORIGINAL-URL:https://livableraleigh.com
X-WR-CALDESC:Events for Livable Raleigh
REFRESH-INTERVAL;VALUE=DURATION:PT1H
X-Robots-Tag:noindex
X-PUBLISHED-TTL:PT1H
BEGIN:VTIMEZONE
TZID:America/New_York
BEGIN:DAYLIGHT
TZOFFSETFROM:-0500
TZOFFSETTO:-0400
TZNAME:EDT
DTSTART:20240310T070000
END:DAYLIGHT
BEGIN:STANDARD
TZOFFSETFROM:-0400
TZOFFSETTO:-0500
TZNAME:EST
DTSTART:20241103T060000
END:STANDARD
BEGIN:DAYLIGHT
TZOFFSETFROM:-0500
TZOFFSETTO:-0400
TZNAME:EDT
DTSTART:20250309T070000
END:DAYLIGHT
BEGIN:STANDARD
TZOFFSETFROM:-0400
TZOFFSETTO:-0500
TZNAME:EST
DTSTART:20251102T060000
END:STANDARD
BEGIN:DAYLIGHT
TZOFFSETFROM:-0500
TZOFFSETTO:-0400
TZNAME:EDT
DTSTART:20260308T070000
END:DAYLIGHT
BEGIN:STANDARD
TZOFFSETFROM:-0400
TZOFFSETTO:-0500
TZNAME:EST
DTSTART:20261101T060000
END:STANDARD
END:VTIMEZONE
BEGIN:VEVENT
DTSTART;TZID=America/New_York:20250827T190000
DTEND;TZID=America/New_York:20250827T203000
DTSTAMP:20260419T200452
CREATED:20250824T112228Z
LAST-MODIFIED:20250824T112228Z
UID:47446-1756321200-1756326600@livableraleigh.com
SUMMARY:West Raleigh CAC
DESCRIPTION:Meeting Wednesday August 27th at 7pm\nIt’s time to meet and talk about what’s going on in West Raleigh! \nThis month is an open agenda. It’s a good time to bring your questions\, ideas and thoughts about how we want to keep West Raleigh a vibrant and healthy part of town. \nWe hope you can join us via zoom on Wednesday evening at 7pm. \nOpen Agenda \nJoin Zoom Meeting \nhttps://us02web.zoom.us/j/83981292620 \nMeeting ID: 839 8129 2620 \nOne tap mobile \n+16469313860\,\,83981292620# US \n+19292056099\,\,83981292620# US (New York)
URL:https://livableraleigh.com/event/west-raleigh-cac-20/
LOCATION:NC
CATEGORIES:CAC,Engagement Filter
END:VEVENT
END:VCALENDAR