BEGIN:VCALENDAR
VERSION:2.0
PRODID:-//Livable Raleigh - ECPv6.15.20//NONSGML v1.0//EN
CALSCALE:GREGORIAN
METHOD:PUBLISH
X-WR-CALNAME:Livable Raleigh
X-ORIGINAL-URL:https://livableraleigh.com
X-WR-CALDESC:Events for Livable Raleigh
REFRESH-INTERVAL;VALUE=DURATION:PT1H
X-Robots-Tag:noindex
X-PUBLISHED-TTL:PT1H
BEGIN:VTIMEZONE
TZID:America/New_York
BEGIN:DAYLIGHT
TZOFFSETFROM:-0500
TZOFFSETTO:-0400
TZNAME:EDT
DTSTART:20240310T070000
END:DAYLIGHT
BEGIN:STANDARD
TZOFFSETFROM:-0400
TZOFFSETTO:-0500
TZNAME:EST
DTSTART:20241103T060000
END:STANDARD
BEGIN:DAYLIGHT
TZOFFSETFROM:-0500
TZOFFSETTO:-0400
TZNAME:EDT
DTSTART:20250309T070000
END:DAYLIGHT
BEGIN:STANDARD
TZOFFSETFROM:-0400
TZOFFSETTO:-0500
TZNAME:EST
DTSTART:20251102T060000
END:STANDARD
BEGIN:DAYLIGHT
TZOFFSETFROM:-0500
TZOFFSETTO:-0400
TZNAME:EDT
DTSTART:20260308T070000
END:DAYLIGHT
BEGIN:STANDARD
TZOFFSETFROM:-0400
TZOFFSETTO:-0500
TZNAME:EST
DTSTART:20261101T060000
END:STANDARD
END:VTIMEZONE
BEGIN:VEVENT
DTSTART;TZID=America/New_York:20250811T190000
DTEND;TZID=America/New_York:20250811T203000
DTSTAMP:20260419T200453
CREATED:20250807T112527Z
LAST-MODIFIED:20250807T112642Z
UID:47125-1754938800-1754944200@livableraleigh.com
SUMMARY:SW Raleigh Community Engagement
DESCRIPTION:Join us on Monday\, July 11th at 7PM for our regularly scheduled Southwest Raleigh Community Engagement Meeting we will be meeting on Zoom. \n\nGreeting to Friends and Neighbors\nCity of Raleigh Inspections Report – David Johnson\nCity of Raleigh Monthly Report and Update – Captain Wood\, Captain Howard & Sr. Officer Winkle\nCity of Raleigh FY2022-2023 Approved Operating and Capital Budget Presentation. Nick Sadler\, City Staff\nCommunity Interaction with Planning and Zoning Actions. Karen Ray\, Assistant Director\, City of Raleigh\, Planning and Development Department\, Continuous Improvement and Customer Service Division\n\nWe plan to broadcast the meeting on Facebook if you would prefer to watch and not participate.The next meeting is scheduled for August 8th. If you have a particular interest and suggestions for topics please let us know. \nZOOM LINK HERE: https://us02web.zoom.us/j/87875855393?pwd=alJTaEtydXdIdVNvZ1RwdzdCek5BUT09#success \n 
URL:https://livableraleigh.com/event/sw-raleigh-community-engagement-2/
LOCATION:Virtual Meeting
CATEGORIES:CAC,Community Engagement
END:VEVENT
END:VCALENDAR