BEGIN:VCALENDAR
VERSION:2.0
PRODID:-//Livable Raleigh - ECPv6.15.20//NONSGML v1.0//EN
CALSCALE:GREGORIAN
METHOD:PUBLISH
X-ORIGINAL-URL:https://livableraleigh.com
X-WR-CALDESC:Events for Livable Raleigh
REFRESH-INTERVAL;VALUE=DURATION:PT1H
X-Robots-Tag:noindex
X-PUBLISHED-TTL:PT1H
BEGIN:VTIMEZONE
TZID:America/New_York
BEGIN:DAYLIGHT
TZOFFSETFROM:-0500
TZOFFSETTO:-0400
TZNAME:EDT
DTSTART:20240310T070000
END:DAYLIGHT
BEGIN:STANDARD
TZOFFSETFROM:-0400
TZOFFSETTO:-0500
TZNAME:EST
DTSTART:20241103T060000
END:STANDARD
BEGIN:DAYLIGHT
TZOFFSETFROM:-0500
TZOFFSETTO:-0400
TZNAME:EDT
DTSTART:20250309T070000
END:DAYLIGHT
BEGIN:STANDARD
TZOFFSETFROM:-0400
TZOFFSETTO:-0500
TZNAME:EST
DTSTART:20251102T060000
END:STANDARD
BEGIN:DAYLIGHT
TZOFFSETFROM:-0500
TZOFFSETTO:-0400
TZNAME:EDT
DTSTART:20260308T070000
END:DAYLIGHT
BEGIN:STANDARD
TZOFFSETFROM:-0400
TZOFFSETTO:-0500
TZNAME:EST
DTSTART:20261101T060000
END:STANDARD
END:VTIMEZONE
BEGIN:VEVENT
DTSTART;TZID=America/New_York:20250508T190000
DTEND;TZID=America/New_York:20250508T203000
DTSTAMP:20260420T015509
CREATED:20250501T202753Z
LAST-MODIFIED:20250501T202753Z
UID:45044-1746730800-1746736200@livableraleigh.com
SUMMARY:SECAC (Southeast CAC) Community Meeting
DESCRIPTION:Please share the attached for the May 8.2025 SECAC Community meeting.\n\n Some agenda topics are as follows:\n 1. Wake County Sheriff Department\,\n       -Sheriff Willie Rowe\n  2.HOST Program Introduction-Libby Stephens\, Coordinator\n  3.City of Raleigh\, Engineering Services Department\n    Updates: -Pearl Road alinement with Barwell Road\, Barwell Road widening project\,\n            Pool Road widening project and Kelly McChesney” Street Art “\n  4.District C Update. – Councilman Corey Branch\n\nFollow SECAC on Facebook: https://www.facebook.com/SERALEIGHCAC
URL:https://livableraleigh.com/event/secac-southeast-cac-community-meeting-2/
LOCATION:Barwell Road Community Center\, 5857 Barwell Park Dr\, Raleigh\, NC\, 27610\, United States
CATEGORIES:CAC,Engagement Filter
END:VEVENT
END:VCALENDAR