BEGIN:VCALENDAR
VERSION:2.0
PRODID:-//Livable Raleigh - ECPv6.15.20//NONSGML v1.0//EN
CALSCALE:GREGORIAN
METHOD:PUBLISH
X-WR-CALNAME:Livable Raleigh
X-ORIGINAL-URL:https://livableraleigh.com
X-WR-CALDESC:Events for Livable Raleigh
REFRESH-INTERVAL;VALUE=DURATION:PT1H
X-Robots-Tag:noindex
X-PUBLISHED-TTL:PT1H
BEGIN:VTIMEZONE
TZID:America/New_York
BEGIN:DAYLIGHT
TZOFFSETFROM:-0500
TZOFFSETTO:-0400
TZNAME:EDT
DTSTART:20240310T070000
END:DAYLIGHT
BEGIN:STANDARD
TZOFFSETFROM:-0400
TZOFFSETTO:-0500
TZNAME:EST
DTSTART:20241103T060000
END:STANDARD
BEGIN:DAYLIGHT
TZOFFSETFROM:-0500
TZOFFSETTO:-0400
TZNAME:EDT
DTSTART:20250309T070000
END:DAYLIGHT
BEGIN:STANDARD
TZOFFSETFROM:-0400
TZOFFSETTO:-0500
TZNAME:EST
DTSTART:20251102T060000
END:STANDARD
BEGIN:DAYLIGHT
TZOFFSETFROM:-0500
TZOFFSETTO:-0400
TZNAME:EDT
DTSTART:20260308T070000
END:DAYLIGHT
BEGIN:STANDARD
TZOFFSETFROM:-0400
TZOFFSETTO:-0500
TZNAME:EST
DTSTART:20261101T060000
END:STANDARD
END:VTIMEZONE
BEGIN:VEVENT
DTSTART;TZID=America/New_York:20250423T190000
DTEND;TZID=America/New_York:20250423T200000
DTSTAMP:20260420T031133
CREATED:20250421T162643Z
LAST-MODIFIED:20250421T162643Z
UID:44832-1745434800-1745438400@livableraleigh.com
SUMMARY:West Raleigh CAC Virtual meeting
DESCRIPTION:Meeting Wednesday April 23rd at 7pm\n\nA warm Spring greetings to our West Raleigh neighbors!\nOur monthly Meeting is this week and we have a few items on the agenda. Please forward this email to anyone who might be interested in attending a CAC meeting.\n\n\n*Agenda*\nDDNA Recap – Biophilic Cities\nBackyard Mosquitos and how to deal with them\nLorimer Springs discussion\nAthens Drive Community Library Discussion\nJuly In Person meeting planning\nBRCA Art Contest\nHillsborough Street Updates\n\nJoin Zoom Meeting\nhttps://us02web.zoom.us/j/83981292620\nMeeting ID: 839 8129 2620\n\nOne Tap mobile\n+16469313860\,\,83981292620# US\n+19292056099\,\,83981292620# US (New York)
URL:https://livableraleigh.com/event/west-raleigh-cac-virtual-meeting-3/
LOCATION:NC
CATEGORIES:CAC,Engagement Filter
END:VEVENT
END:VCALENDAR