BEGIN:VCALENDAR
VERSION:2.0
PRODID:-//Livable Raleigh - ECPv6.15.20//NONSGML v1.0//EN
CALSCALE:GREGORIAN
METHOD:PUBLISH
X-WR-CALNAME:Livable Raleigh
X-ORIGINAL-URL:https://livableraleigh.com
X-WR-CALDESC:Events for Livable Raleigh
REFRESH-INTERVAL;VALUE=DURATION:PT1H
X-Robots-Tag:noindex
X-PUBLISHED-TTL:PT1H
BEGIN:VTIMEZONE
TZID:America/New_York
BEGIN:DAYLIGHT
TZOFFSETFROM:-0500
TZOFFSETTO:-0400
TZNAME:EDT
DTSTART:20240310T070000
END:DAYLIGHT
BEGIN:STANDARD
TZOFFSETFROM:-0400
TZOFFSETTO:-0500
TZNAME:EST
DTSTART:20241103T060000
END:STANDARD
BEGIN:DAYLIGHT
TZOFFSETFROM:-0500
TZOFFSETTO:-0400
TZNAME:EDT
DTSTART:20250309T070000
END:DAYLIGHT
BEGIN:STANDARD
TZOFFSETFROM:-0400
TZOFFSETTO:-0500
TZNAME:EST
DTSTART:20251102T060000
END:STANDARD
BEGIN:DAYLIGHT
TZOFFSETFROM:-0500
TZOFFSETTO:-0400
TZNAME:EDT
DTSTART:20260308T070000
END:DAYLIGHT
BEGIN:STANDARD
TZOFFSETFROM:-0400
TZOFFSETTO:-0500
TZNAME:EST
DTSTART:20261101T060000
END:STANDARD
END:VTIMEZONE
BEGIN:VEVENT
DTSTART;TZID=America/New_York:20250421T190000
DTEND;TZID=America/New_York:20250421T200000
DTSTAMP:20260420T031159
CREATED:20250415T233648Z
LAST-MODIFIED:20250415T233648Z
UID:44792-1745262000-1745265600@livableraleigh.com
SUMMARY:East CAC
DESCRIPTION:Hi Neighbors\, \n\nPlease join us for our special Earth Day meeting on April 21 at 7pm at the Lion’s Park Community Center. (Technically the day before Earth Day.) We have a few very special guests lined up.\n\nZack Manor\, the city’s Urban Forester will be talking to us about Raleigh’s trees- how to maintain our tree canopy and how to increase it in areas.\n\nThen we’ll have neighbors Adam Daland and Jordyne Krumroy with Trees for the Triangle talk to us about their private efforts!\n\nAnd of course there will be time to share your thoughts. You can also watch live or later on our Facebook. \nhttps://www.facebook.com/share/16JaqTC6bE/?mibextid=wwXIfr\n\n\n\n\n\n\n\nI’ll be bringing some milkweed seeds to share for the butterflies. 🦋\n\nBest\,\nJean Mosher\nEast CAC Chair
URL:https://livableraleigh.com/event/east-cac-7/
LOCATION:Lions Park Community Center\, 516 Dennis Avenue\, Raleigh\, 27604
CATEGORIES:CAC,Engagement Filter
END:VEVENT
BEGIN:VEVENT
DTSTART;TZID=America/New_York:20250421T190000
DTEND;TZID=America/New_York:20250421T203000
DTSTAMP:20260420T031159
CREATED:20250415T142554Z
LAST-MODIFIED:20250415T142554Z
UID:44784-1745262000-1745267400@livableraleigh.com
SUMMARY:North CAC
DESCRIPTION:
URL:https://livableraleigh.com/event/north-cac-19/
LOCATION:Abbotts Creek Community Center\, 9950 Durant Rd\, Raleigh\, NC\, 27614
CATEGORIES:CAC
END:VEVENT
END:VCALENDAR