BEGIN:VCALENDAR
VERSION:2.0
PRODID:-//Livable Raleigh - ECPv6.15.20//NONSGML v1.0//EN
CALSCALE:GREGORIAN
METHOD:PUBLISH
X-WR-CALNAME:Livable Raleigh
X-ORIGINAL-URL:https://livableraleigh.com
X-WR-CALDESC:Events for Livable Raleigh
REFRESH-INTERVAL;VALUE=DURATION:PT1H
X-Robots-Tag:noindex
X-PUBLISHED-TTL:PT1H
BEGIN:VTIMEZONE
TZID:America/New_York
BEGIN:DAYLIGHT
TZOFFSETFROM:-0500
TZOFFSETTO:-0400
TZNAME:EDT
DTSTART:20240310T070000
END:DAYLIGHT
BEGIN:STANDARD
TZOFFSETFROM:-0400
TZOFFSETTO:-0500
TZNAME:EST
DTSTART:20241103T060000
END:STANDARD
BEGIN:DAYLIGHT
TZOFFSETFROM:-0500
TZOFFSETTO:-0400
TZNAME:EDT
DTSTART:20250309T070000
END:DAYLIGHT
BEGIN:STANDARD
TZOFFSETFROM:-0400
TZOFFSETTO:-0500
TZNAME:EST
DTSTART:20251102T060000
END:STANDARD
BEGIN:DAYLIGHT
TZOFFSETFROM:-0500
TZOFFSETTO:-0400
TZNAME:EDT
DTSTART:20260308T070000
END:DAYLIGHT
BEGIN:STANDARD
TZOFFSETFROM:-0400
TZOFFSETTO:-0500
TZNAME:EST
DTSTART:20261101T060000
END:STANDARD
END:VTIMEZONE
BEGIN:VEVENT
DTSTART;TZID=America/New_York:20250414T190000
DTEND;TZID=America/New_York:20250414T203000
DTSTAMP:20260420T031202
CREATED:20250409T150725Z
LAST-MODIFIED:20250409T150725Z
UID:44710-1744657200-1744662600@livableraleigh.com
SUMMARY:SW Raleigh Community Engagement (SWRCE) Virtual Meeting
DESCRIPTION:Please join us Monday evening (April 14th) at 7:00 PM for our monthly SW Raleigh Community Engagement (SWRCE) meeting using Zoom. The link for joining the virtual meeting is below. \nFollowing our Inspections and Police Reports\, we will be getting an update on the coming opening of the Gipson Play Plaza at Dorothea Dix Park. Carolina Pines Avenue improvement project has been approved and fully funded. We are close to an announcement about construction starting and plans for detours. \nRaleigh Golf Association is also in the process of selling some property that is seeking rezoning for affordable apartments at 60% AMI. We will spend some time discussing community inputs. \nIf you have opinions\, concerns\, or just general comments that you want to share\, this is the time. \nBob\nSW Raleigh Community Engagement\n(Formerly SWCAC)\n\n\n\n\n\n\n\n\n\n\n\n\n\n\n\n\n\n\n\n\n\n\n\n\n\n\n\n\n\n\n\n\n\n\n\n\n\n\n\n\n\n\n\n\n\nJoin us Monday night\, April 14th at 7 PM for our regularly scheduled Southwest Raleigh Community Engagement Meeting. This will be a virtual meeting using Zoom. \n\nGreetings to Friends and Neighbors\nCity of Raleigh Inspections Report – Inspector David Johnson.\nCity of Raleigh Monthly Report and Update – Captain Manson (SW-Southwest). Captain Notch (SE-Southeast)\, Captain Van Antwerp (DT-Downtown). Our SW area is now part of three Raleigh Police Districts.\nGipson Play Plaza Opening This Spring at Dix Park – Kate Pearce\, Director of Dorothy Dix Park will update us on how the Gipson Paly Plaza is beginning to come together for a great opening in late Spring. Bringing all of the plans together for the opening is complicated due to the anticipated popularity of the Play Plaza.\nCarolina Pines Ave Improvement Project – Raleigh City Council recently provided final approval for the Street and sidewalk project that will extend from Lake Wheeler Rd. to South Saunders St. After several years we are close to a Contractor and Construction schedule meeting. We will update with what we see happening.\nRaleigh Golf Association (RGA) – Land Sale and Rezoning – RGA property north of Tryon Rd. is in the process of being sold. There is a rezoning case that will allow “Affordable 60% AMI” apartments being built there. The original number of units was 500. There should be a second Community Meeting happening later on this month. This is where we need to speak up and be heard because it affects the entire area.\nCommunity Safety – We all meed to discuss any ideas about how we can make our neighborhoods safer. Incidents occur. How we come together matters alot.\n\nComments and updates from our community leaders and residents. \nFor May 12th we will be meeting Virtual using Zoom. In June we are scheduled at our traditional home Carolina Pines Community Center\, 2305 Lake Wheeler Rd. (June 9th) for our Spring In Person Community Meeting.\n\n\n\n\n\n\n\n\n\n\n\n\n\n\n\n\n\n\n\n\n\n\n\n\n\n\n\n\n\n\n\n\n\n\n\n\n\n\n\n\n\n\n\n\n\n\n\n\n\n\n\n\n\n\n\n\n\n\n\n\n\n\n\n\n\n\n\n\n\n\n\n\n\n\n\n\n\n\n\nJoin the Zoom Meeting
URL:https://livableraleigh.com/event/sw-raleigh-community-engagement-swrce-virtual-meeting/
LOCATION:NC
CATEGORIES:CAC,Engagement Filter
END:VEVENT
END:VCALENDAR