BEGIN:VCALENDAR
VERSION:2.0
PRODID:-//Livable Raleigh - ECPv6.15.20//NONSGML v1.0//EN
CALSCALE:GREGORIAN
METHOD:PUBLISH
X-ORIGINAL-URL:https://livableraleigh.com
X-WR-CALDESC:Events for Livable Raleigh
REFRESH-INTERVAL;VALUE=DURATION:PT1H
X-Robots-Tag:noindex
X-PUBLISHED-TTL:PT1H
BEGIN:VTIMEZONE
TZID:America/New_York
BEGIN:DAYLIGHT
TZOFFSETFROM:-0500
TZOFFSETTO:-0400
TZNAME:EDT
DTSTART:20240310T070000
END:DAYLIGHT
BEGIN:STANDARD
TZOFFSETFROM:-0400
TZOFFSETTO:-0500
TZNAME:EST
DTSTART:20241103T060000
END:STANDARD
BEGIN:DAYLIGHT
TZOFFSETFROM:-0500
TZOFFSETTO:-0400
TZNAME:EDT
DTSTART:20250309T070000
END:DAYLIGHT
BEGIN:STANDARD
TZOFFSETFROM:-0400
TZOFFSETTO:-0500
TZNAME:EST
DTSTART:20251102T060000
END:STANDARD
BEGIN:DAYLIGHT
TZOFFSETFROM:-0500
TZOFFSETTO:-0400
TZNAME:EDT
DTSTART:20260308T070000
END:DAYLIGHT
BEGIN:STANDARD
TZOFFSETFROM:-0400
TZOFFSETTO:-0500
TZNAME:EST
DTSTART:20261101T060000
END:STANDARD
END:VTIMEZONE
BEGIN:VEVENT
DTSTART;TZID=America/New_York:20250408T173000
DTEND;TZID=America/New_York:20250408T183000
DTSTAMP:20260420T031345
CREATED:20250405T224653Z
LAST-MODIFIED:20250405T224653Z
UID:44644-1744133400-1744137000@livableraleigh.com
SUMMARY:Mordecai CAC hybrid meeting
DESCRIPTION:Mordecai CAC\nthe key to strong community\n\n\n\n\n\n\n\n\n\n\n\n\n\n\n\n\n\n\n\n\n\n\n\n\n\n\n\n\nThe Mordecai CAC has some events coming up on April 8\, April 26\, May 13\, and June 1. We hope that you will join and participate! \nApril Community Meeting Tuesday\, April 8\, 5:30pm at the old Christ the King Church space (the “smaller church” beside Temple Baptist/CTK) at 1426 Wake Forest Rd. \nThis is a hybrid meeting. Join in person OR Zoom: https://us06web.zoom.us/meeting/register/fniwLyGxRcaxjxZ0QMPwGw \nAgenda: \n\nWelcome\nAnnouncements\n\nUpdate on future meeting location for in person CAC meeting\nUpdates on Vision Zero and RRFB installations on Wake Forest Rd\nUpcoming Events: Yard Sale Day (4/26\, 8-12)\, Bluegrass on the Lawn (6/1)\n\n\nPolice Report\nMain Topics:\n\nRaleigh City Department of Community Engagement Presentation\, Dan Bagley\, Division Manager of Neighborhood Services and Youth Services\nFuture of the MCAC: Call for volunteers
URL:https://livableraleigh.com/event/mordecai-cac-hybrid-meeting/
LOCATION:Christ the King Church\, 1426 Wake Forest Rd.\, Raleigh
CATEGORIES:CAC,Engagement Filter
END:VEVENT
END:VCALENDAR