BEGIN:VCALENDAR
VERSION:2.0
PRODID:-//Livable Raleigh - ECPv6.15.20//NONSGML v1.0//EN
CALSCALE:GREGORIAN
METHOD:PUBLISH
X-WR-CALNAME:Livable Raleigh
X-ORIGINAL-URL:https://livableraleigh.com
X-WR-CALDESC:Events for Livable Raleigh
REFRESH-INTERVAL;VALUE=DURATION:PT1H
X-Robots-Tag:noindex
X-PUBLISHED-TTL:PT1H
BEGIN:VTIMEZONE
TZID:America/New_York
BEGIN:DAYLIGHT
TZOFFSETFROM:-0500
TZOFFSETTO:-0400
TZNAME:EDT
DTSTART:20240310T070000
END:DAYLIGHT
BEGIN:STANDARD
TZOFFSETFROM:-0400
TZOFFSETTO:-0500
TZNAME:EST
DTSTART:20241103T060000
END:STANDARD
BEGIN:DAYLIGHT
TZOFFSETFROM:-0500
TZOFFSETTO:-0400
TZNAME:EDT
DTSTART:20250309T070000
END:DAYLIGHT
BEGIN:STANDARD
TZOFFSETFROM:-0400
TZOFFSETTO:-0500
TZNAME:EST
DTSTART:20251102T060000
END:STANDARD
BEGIN:DAYLIGHT
TZOFFSETFROM:-0500
TZOFFSETTO:-0400
TZNAME:EDT
DTSTART:20260308T070000
END:DAYLIGHT
BEGIN:STANDARD
TZOFFSETFROM:-0400
TZOFFSETTO:-0500
TZNAME:EST
DTSTART:20261101T060000
END:STANDARD
END:VTIMEZONE
BEGIN:VEVENT
DTSTART;TZID=America/New_York:20250326T190000
DTEND;TZID=America/New_York:20250326T200000
DTSTAMP:20260422T154320
CREATED:20250304T154357Z
LAST-MODIFIED:20250323T142805Z
UID:43989-1743015600-1743019200@livableraleigh.com
SUMMARY:West Raleigh CAC (Virtual)
DESCRIPTION:Meeting Wednesday\nMarch 26th at 7pm\nIt’s time to meet and talk about what’s going on in West Raleigh!\n\nWe will be meeting about an hour after the Mayor gives her State of the City address and if anyone watches it online\, we can discuss.\n\nThere are no presentations on our agenda this month but we will discuss anything of concern or good news worth sharing!\n\nWe hope you can join us via zoom on Wednesday evening at 7pm.\nZoom Link follows the agenda\n\n \n*Agenda*\nCommunity Discussion\n\nJoin Zoom Meeting\nhttps://us02web.zoom.us/j/83981292620\nMeeting ID: 839 8129 2620\n\nOne tap mobile\n+16469313860\,\,83981292620# US\n+19292056099\,\,83981292620# US (New York)\nWest Raleigh CAC: Wednesday\, March 26th at 7 pm
URL:https://livableraleigh.com/event/west-raleigh-cac-17/
CATEGORIES:CAC,Engagement Filter
END:VEVENT
END:VCALENDAR