BEGIN:VCALENDAR
VERSION:2.0
PRODID:-//Livable Raleigh - ECPv6.15.20//NONSGML v1.0//EN
CALSCALE:GREGORIAN
METHOD:PUBLISH
X-WR-CALNAME:Livable Raleigh
X-ORIGINAL-URL:https://livableraleigh.com
X-WR-CALDESC:Events for Livable Raleigh
REFRESH-INTERVAL;VALUE=DURATION:PT1H
X-Robots-Tag:noindex
X-PUBLISHED-TTL:PT1H
BEGIN:VTIMEZONE
TZID:America/New_York
BEGIN:DAYLIGHT
TZOFFSETFROM:-0500
TZOFFSETTO:-0400
TZNAME:EDT
DTSTART:20240310T070000
END:DAYLIGHT
BEGIN:STANDARD
TZOFFSETFROM:-0400
TZOFFSETTO:-0500
TZNAME:EST
DTSTART:20241103T060000
END:STANDARD
BEGIN:DAYLIGHT
TZOFFSETFROM:-0500
TZOFFSETTO:-0400
TZNAME:EDT
DTSTART:20250309T070000
END:DAYLIGHT
BEGIN:STANDARD
TZOFFSETFROM:-0400
TZOFFSETTO:-0500
TZNAME:EST
DTSTART:20251102T060000
END:STANDARD
BEGIN:DAYLIGHT
TZOFFSETFROM:-0500
TZOFFSETTO:-0400
TZNAME:EDT
DTSTART:20260308T070000
END:DAYLIGHT
BEGIN:STANDARD
TZOFFSETFROM:-0400
TZOFFSETTO:-0500
TZNAME:EST
DTSTART:20261101T060000
END:STANDARD
END:VTIMEZONE
BEGIN:VEVENT
DTSTART;TZID=America/New_York:20251110T190000
DTEND;TZID=America/New_York:20251110T200000
DTSTAMP:20260419T134919
CREATED:20251102T171422Z
LAST-MODIFIED:20251102T171422Z
UID:49240-1762801200-1762804800@livableraleigh.com
SUMMARY:Five Points CAC Hybrid Meeting
DESCRIPTION:Please join us for the November Five Points CAC Zoom meeting on Monday evening\, November 10th\, 7-8pm. \n \nIt will be a hybrid meeting at the Kiwanis Park Neighborhood Center and on Zoom (virtual).\n \nZoom link:\n \nhttps://us06web.zoom.us/j/84111555416 \n \nKiwanis Park Neighborhood Center:\n \nhttps://raleighnc.gov/parks-and-recreation/places/kiwanis-park \n\n \nWe will have some very interesting presentations!\n \nCaptain J.R. Manson will give us a police report for the Five Points area.\n \nThen Representatives from CS Hollis & Associates will talk with us about the possibility of digital signage in Raleigh.\n \nPatrick Young\, the Director of Planning and Development for the City of Raleigh\, will have a conversation with us about managing the costs of growth in Raleigh. \n \nAnd Council Member Jones will wrap up the meeting with updates from the City Council and Q&A.\n \nHope you will be able to attend either at the Kiwanis Park Center or on Zoom!\n \nEdie
URL:https://livableraleigh.com/event/five-points-cac-hybrid-meeting/
LOCATION:Kiwanis Park\, 2525 Noble Road\, 27608
CATEGORIES:CAC,Engagement Filter
END:VEVENT
BEGIN:VEVENT
DTSTART;TZID=America/New_York:20251113T190000
DTEND;TZID=America/New_York:20251113T200000
DTSTAMP:20260419T134919
CREATED:20251014T105900Z
LAST-MODIFIED:20251014T105900Z
UID:48948-1763060400-1763064000@livableraleigh.com
SUMMARY:SECAC (Southeast CAC) Community Meeting
DESCRIPTION:SECAC Community Meeting\n\nWhen: November 13\,2025\nWhere\, Barwell Community Center\nTime; 7:00 pm- 8:30 pm
URL:https://livableraleigh.com/event/secac-southeast-cac-community-meeting-3/
LOCATION:Barwell Road Community Center\, 5857 Barwell Park Dr\, Raleigh\, NC\, 27610\, United States
CATEGORIES:CAC,Engagement Filter
END:VEVENT
BEGIN:VEVENT
DTSTART;TZID=America/New_York:20251117T190000
DTEND;TZID=America/New_York:20251117T200000
DTSTAMP:20260419T134919
CREATED:20251017T223540Z
LAST-MODIFIED:20251108T144129Z
UID:49045-1763406000-1763409600@livableraleigh.com
SUMMARY:East CAC
DESCRIPTION:
URL:https://livableraleigh.com/event/east-cac-9/
LOCATION:NC
CATEGORIES:CAC,Engagement Filter
END:VEVENT
BEGIN:VEVENT
DTSTART;TZID=America/New_York:20251117T190000
DTEND;TZID=America/New_York:20251117T203000
DTSTAMP:20260419T134919
CREATED:20251110T210046Z
LAST-MODIFIED:20251110T210046Z
UID:49301-1763406000-1763411400@livableraleigh.com
SUMMARY:Raleigh North CAC Meeting
DESCRIPTION:Call to Order – Whitney Hill \nMeeting Minutes – Barbara Harris (5 Minutes) \nRaleigh Prevention Report – Sergeant Garcia\, Raleigh Police Department (20 minutes) \nRaleigh Water Customer Care Portal – Shakera Vaughan\, Community Engagement Department (25 minutes) \nCity Council Report – Mitchell Silver\, Raleigh City Council District A (15 minutes) \nChair Message and Discussion – Whitney Hill (10 minutes) \nUpcoming Events – Barbara Harris (5 minutes) \nVenue = Abbotts Creek Community Center \nhttps://www.facebook.com/events/2248179379012843/
URL:https://livableraleigh.com/event/raleigh-north-cac-meeting/
LOCATION:Abbotts Creek Community Center\, 9950 Durant Rd\, Raleigh\, NC\, 27614
CATEGORIES:CAC,Engagement Filter
END:VEVENT
BEGIN:VEVENT
DTSTART;TZID=America/New_York:20251117T190000
DTEND;TZID=America/New_York:20251117T210000
DTSTAMP:20260419T134919
CREATED:20251016T105016Z
LAST-MODIFIED:20251111T113429Z
UID:49010-1763406000-1763413200@livableraleigh.com
SUMMARY:Midtown CAC Meeting
DESCRIPTION:Agenda \n\n\n\n\n\nHybrid Midtown Citizens Advisory Council Meeting \n\n\nMonday\, November 17\, 2025\, 7:00-9:00 pm \n\n\nEastgate Park Community Center \n\n\n4200 Quail Hollow Drive \n\n\n  \n\n\n\n\n\n1)   7:00     Call to Order and Welcome to Midtown CAC \n\n\n\n\n\n2)   7:05     Review and Approval of October 2025 Minutes\n \n\n\n3)   7:10     Sergeant Garcia\, Raleigh Police Department \n\n\n                  Activity and Crime Stats Report for Midtown \n\n\n                  Question and Answer \n\n\n\n\n\n4)   7:30     Northern Corridor BRT Updates \n\n\n                  Het Patel\, Assistant Transit Director \n\n\n                  City of Raleigh Transportation Department \n\n\n\n\n\n5)   8:00     New Raleigh Water billing portal Update \n\n\n                  Shakera Vaughan\, Community Engagement Strategist \n\n\n                  Ed Buchan\, City of Raleigh Water Department \n\n\n\n\n\n6)  8:30      City Council Updates \n\n\n                  Mitchell Silver\, District A \n\n\n                  Christina Jones\, District E \n\n\n\n\n\n7)   8:45     Old / New Business\, Announcements\, Remarks \n\n\n\n\n\n8)   9:00     Adjournment \n\n\n\n\n\nIn Person Location: \n\n\n                  Eastgate Park Community Center \n\n\n                  4200 Quail Hollow Drive\, Raleigh\, NC 27609 \n\n\n\n\n\nZoom Meeting Link: \n\n\nAvailable by Request \n\n\n\n\n\nVisit our Midtown CAC Facebook page: \n\n\n https://www.facebook.com/MidtownCAC
URL:https://livableraleigh.com/event/midtown-cac-meeting/
LOCATION:Eastgate Park\, 4200 Quail Hollow Dr\,\, Raleigh\, NC\, 27609
CATEGORIES:CAC,Engagement Filter
END:VEVENT
BEGIN:VEVENT
DTSTART;TZID=America/New_York:20251119T190000
DTEND;TZID=America/New_York:20251119T203000
DTSTAMP:20260419T134919
CREATED:20251026T154556Z
LAST-MODIFIED:20251115T150105Z
UID:49114-1763578800-1763584200@livableraleigh.com
SUMMARY:West Raleigh CAC
DESCRIPTION:Meeting Wednesday November 19th at 7pm\nIt’s time to meet and talk about what’s going on in West Raleigh! \nWe will discuss several items of interest to our members and hope you can join us via zoom on Wednesday evening at 7pm. Zoom Link follows the agenda \n*Agenda* \nNot Just Tourists – Non Profit group \nZ-9-25 4500 Western Blvd (old K Mart site) \nHoliday Social date and time update \nJoin Zoom Meeting \nhttps://us02web.zoom.us/j/83981292620 \nMeeting ID: 839 8129 2620 \nOne tap mobile \n+16469313860\,\,83981292620# US \n+19292056099\,\,83981292620# US (New York) \n*Next Meeting is Wednesday November 19th* \nAt our October meeting we discussed and decided to move our next CAC meeting up a week to avoid any Thanksgiving holiday conflicts.We will still meet on Zoom for this meeting and are working on the agenda.
URL:https://livableraleigh.com/event/west-raleigh-cac-21/
LOCATION:NC
CATEGORIES:CAC,Engagement Filter
END:VEVENT
BEGIN:VEVENT
DTSTART;TZID=America/New_York:20251120T190000
DTEND;TZID=America/New_York:20251120T200000
DTSTAMP:20260419T134919
CREATED:20251118T204147Z
LAST-MODIFIED:20251118T204147Z
UID:49446-1763665200-1763668800@livableraleigh.com
SUMMARY:Mordecai CAC Hybrid meeting
DESCRIPTION:Community Meeting:\nThursday\, November 20\n7-8pm\n1426 Wake Forest Road\nPlease join the MCAC this THURSDAY\, November 20 at 7pm.  This will be a hybrid meeting so you can join in person\, on Zoom\, or view on Facebook.Agenda: \n\nPolice Report (Officer AC Greene)\nShort update on The Gables\nCAC Updates:\n\nWinter Social update\nRequest for officers\nRRFB (beacon installation status update for Wake Forest Rd)\n\n\nUpdates from Carpenter Development projects in the CAC (Kate Charland)\n\nRezoning timeline for the Funeral Home property\, case Z-040-25\nhttps://cityofraleigh0drupal.blob.core.usgovcloudapi.net/drupal-prod/COR22/Z-040-25.pdf\n\n\nSeaboard Station Sip-n-Stroll District and holiday events (Mosiah Lloyd\, Hoffman Development)\nRaleigh City Water Customer Care Portal information (Shakera Vaughan)\n\nZoom: \nRegister here: MordecaiCAC meeting registrationLocation:Old Christ the King Church\, at 1426 Wake Forest Rd. Please park in the back lot\, and follow the signs for the CAC meeting. New Meeting Dates:Meetings will be held on the 3rd Thursday of the month\, at 7:00 PM. This is a shift from our previous meeting schedule of the 2nd Tuesday.
URL:https://livableraleigh.com/event/mordecai-cac-hybrid-meeting-3/
LOCATION:Old Christ the King Church\, 1426 Wake Forest Road
CATEGORIES:CAC,Engagement Filter
END:VEVENT
END:VCALENDAR