BEGIN:VCALENDAR
VERSION:2.0
PRODID:-//Livable Raleigh - ECPv6.15.20//NONSGML v1.0//EN
CALSCALE:GREGORIAN
METHOD:PUBLISH
X-ORIGINAL-URL:https://livableraleigh.com
X-WR-CALDESC:Events for Livable Raleigh
REFRESH-INTERVAL;VALUE=DURATION:PT1H
X-Robots-Tag:noindex
X-PUBLISHED-TTL:PT1H
BEGIN:VTIMEZONE
TZID:America/New_York
BEGIN:DAYLIGHT
TZOFFSETFROM:-0500
TZOFFSETTO:-0400
TZNAME:EDT
DTSTART:20240310T070000
END:DAYLIGHT
BEGIN:STANDARD
TZOFFSETFROM:-0400
TZOFFSETTO:-0500
TZNAME:EST
DTSTART:20241103T060000
END:STANDARD
BEGIN:DAYLIGHT
TZOFFSETFROM:-0500
TZOFFSETTO:-0400
TZNAME:EDT
DTSTART:20250309T070000
END:DAYLIGHT
BEGIN:STANDARD
TZOFFSETFROM:-0400
TZOFFSETTO:-0500
TZNAME:EST
DTSTART:20251102T060000
END:STANDARD
BEGIN:DAYLIGHT
TZOFFSETFROM:-0500
TZOFFSETTO:-0400
TZNAME:EDT
DTSTART:20260308T070000
END:DAYLIGHT
BEGIN:STANDARD
TZOFFSETFROM:-0400
TZOFFSETTO:-0500
TZNAME:EST
DTSTART:20261101T060000
END:STANDARD
END:VTIMEZONE
BEGIN:VEVENT
DTSTART;TZID=America/New_York:20250601T163000
DTEND;TZID=America/New_York:20250601T183000
DTSTAMP:20260419T212512
CREATED:20250513T233438Z
LAST-MODIFIED:20250513T233438Z
UID:45444-1748795400-1748802600@livableraleigh.com
SUMMARY:Mordecai CAC
DESCRIPTION:Mordecai CAC\nthe key to strong community\n\n\n\n\n\n\n\n\n\n\n\n\n\n\n\n\n\n\n\n\n\n\n\n\n\n\n\nThe Mordecai CAC is not meeting in May\, but we hope you are planning to join us for our annual Lawn Party on Sunday\, June 1. It’s going to be a great event! \nThis year we will have more food and drink options\, as well as fun games and art activities for the kids. Bring your chairs or blankets to sit on.  Kids and dogs are welcome. \n Live Music: The Kudzu Ramblers (Bluegrass favorites all afternoon!)\n Eats & Treats: Vic’s Pizza • Moe’s BBQ • Doo Wop Desserts & Coffee • Sunset Slush Italian Ice\n Drinks: BYOB • Limited Beverages Sponsored by Trophy Brewing\n Family Fun: Kids Art Station • Face Painting • Games for All Ages • Adult Lawn Games \nIf you have questions or would like to get involved with this event please email Kate Charland at picnic@mordecaicac.org.
URL:https://livableraleigh.com/event/mordecai-cac-7/
LOCATION:Mordecai Historic Park\, 1 Mimosa St\, Raleigh\, NC\, 27604
CATEGORIES:CAC,Engagement Filter
END:VEVENT
BEGIN:VEVENT
DTSTART;TZID=America/New_York:20250609T190000
DTEND;TZID=America/New_York:20250609T203000
DTSTAMP:20260419T212512
CREATED:20250605T012711Z
LAST-MODIFIED:20250605T012711Z
UID:45936-1749495600-1749501000@livableraleigh.com
SUMMARY:Southwest Raleigh Community Engagement -- In-Person Meeting
DESCRIPTION:SW Community Meeting at the Carolina Pines Community Center (2305 Lake Wheeler Rd.). We will meet in person\, without streaming\, next Monday evening\, June 9th\, at 7:00 pm.  \n\nThere will be reports from Raleigh Police Officers and City Inspections.\nWe plan to have a special update from Lisa Genschel\, of the Dix Park Conservancy who will tell us about a new way to participate in and support Dix Park activities. The official opening of the beautiful new Gipson Play Plaza at Dorothea Dix Park is scheduled this coming weekend (June 6-8).\n\n Carolina Pines Improvement Project – With the contract for construction along the entire length of Carolina Pines Avenue having been awarded we should be seeing a Pre-Construction meeting with our neighborhood in the coming weeks. That meeting for Community with the City Engineering Services and Contractor will be at Carolina Pines Community Center. Date and time TBD.\nI have been told that we can use the Center’s freezer. Therefore\, I will\, as previously promised\, donate ice cream. Please come and help with the ice cream.  Since I have no idea as to how many will attend I don’t need to be left with melting cartons and no freezer space. Please bring help. Kids welcome.\n\nThis meeting is intended to be focused on sharing interests\, and concerns and just acquainting ourselves with our neighbors. Please join this gathering if you can. Hopefully\, we will have a good turnout. I plan to schedule in-person meetings four times a year (next one in September) the others will continue to use Zoom.\n\nChair set-up in our traditional room at Carolina Pines Center will start at about 6:45 pm. Our next meeting in July will resume the popular Zoom/Streaming format.
URL:https://livableraleigh.com/event/southwest-raleigh-community-engagement-in-person-meeting/
LOCATION:Carolina Pines Community Center\, 2305 Lake Wheeler Road\, Raleigh\, NC\, 27603\, United States
CATEGORIES:CAC,Engagement Filter
END:VEVENT
BEGIN:VEVENT
DTSTART;TZID=America/New_York:20250616T190000
DTEND;TZID=America/New_York:20250616T203000
DTSTAMP:20260419T212512
CREATED:20250606T015922Z
LAST-MODIFIED:20250606T015922Z
UID:45991-1750100400-1750105800@livableraleigh.com
SUMMARY:North CAC
DESCRIPTION:
URL:https://livableraleigh.com/event/north-cac-20/
LOCATION:Abbotts Creek Community Center\, 9950 Durant Rd\, Raleigh\, NC\, 27614
CATEGORIES:CAC
END:VEVENT
BEGIN:VEVENT
DTSTART;TZID=America/New_York:20250623T190000
DTEND;TZID=America/New_York:20250623T210000
DTSTAMP:20260419T212512
CREATED:20250610T100714Z
LAST-MODIFIED:20250610T100714Z
UID:46054-1750705200-1750712400@livableraleigh.com
SUMMARY:Hybrid Midtown Citizens Advisory Council Meeting
DESCRIPTION:Agenda \n\n\n\n\n\nHybrid Midtown Citizens Advisory Council Meeting \n\n\nMonday\, June 23\, 2025\, 7:00-9:00 pm \n\n\nEastgate Park Community Center \n\n\n4200 Quail Hollow Drive \n\n\n  \n\n\n\n\n\n1)   7:00     Call to Order and Welcome to Midtown CAC \n\n\n\n\n\n2)   7:05     Review and Approval of May 2025 Minutes\n \n\n\n3)   7:10     Sergeant Garcia\, Raleigh Police Department \n\n\n                  Activity and Crime Stats Report for Midtown \n\n\n                  Question and Answer \n\n\n\n\n\n4)   7:30     Update on Ask Raleigh\, the proposed replacement for SeeClikFix. \n\n\n                  Karen Ray\, Raleigh Customer Experience Manager \n\n\n                  Office of the City Manager \n\n\n\n\n\n5)   8:00     Quail Hollow Green Street Improvements \n\n\n                  Barbara Godwin\, Bicycle + Pedestrian Program Manager \n\n\n                  Raleigh Transportation Department \n\n\n\n\n\n6)   8:30     City Council Updates \n\n\n                  Mitchell Silver\, District A \n\n\n                  Christina Jones\, District E \n\n\n\n\n\n7)   8:50     Old / New Business\, Announcements\, Remarks \n\n\n\n\n\n8)   9:00     Adjournment \n\n\n\n\n\nIn Person Location: \n\n\n                  Eastgate Park Community Center \n\n\n                  4200 Quail Hollow Drive \n\n\n                  Raleigh\, NC 27609 \n\n\n\n\n\nZoom Meeting Link: \n\n\nAvailable by Request \n\n\n\n\n\nVisit our Midtown CAC Facebook page: \n\n\n https://www.facebook.com/MidtownCAC
URL:https://livableraleigh.com/event/hybrid-midtown-citizens-advisory-council-meeting-6/
LOCATION:Eastgate Park\, 4200 Quail Hollow Dr\,\, Raleigh\, NC\, 27609
CATEGORIES:CAC,Engagement Filter
END:VEVENT
BEGIN:VEVENT
DTSTART;TZID=America/New_York:20250624T190000
DTEND;TZID=America/New_York:20250624T203000
DTSTAMP:20260419T212512
CREATED:20250521T213226Z
LAST-MODIFIED:20250521T213226Z
UID:45585-1750791600-1750797000@livableraleigh.com
SUMMARY:Hillsborough-Wade CAC
DESCRIPTION:Hi CAC neighbors\, \nAs you should have seen in previous emails\, we will have no May meeting next week. \nThe Hillsborough-Wade CAC will meet in June (on our usual 4th Tuesday of the month). We will meet Tuesday\, June 24 at 7:00 PM on Zoom. The Zoom invitation is below\, please add it to your calendar. \nWe have two great agenda items so far…\n• Presentation on the City of Raleigh’s Office of Sustainability\n• Presentation about Raleigh’s Rainwater Rewards Program \nIf you are interested in handling rain-water runoff in an environmentally friendly way\, your home and yard may qualify for a 75% reimbursement or 90% reimbursement of the project costs depending on where you live in our CAC. Please click on the above link to find out more and attend our meeting in June. \nWe may have a police report and rezoning case updates added to the agenda. If you have any subjects you would like addressed at this meeting or future meetings\, please let me know. \nStay tuned for more updates about our June meeting\, \nMike \n\nMichael Lindsay\nChair of the Hillsborough-Wade CAC\nMobile: 919-429-0177\ninform@nc.rr.com \nHillsborough-Wade CAC June meeting \nhttps://us02web.zoom.us/j/86370210096?pwd=lXbk7jN5q6baSIyPzqbP6b1pbHrYDe.1 \nMeeting ID: 863 7021 0096 \nPasscode: 773668 \n— \nOne tap mobile \n+13017158592\,\,86370210096#\,\,\,\,*773668# US (Washington DC) \n+13052241968\,\,86370210096#\,\,\,\,*773668# US \n— \nDial by your location \n• +1 301 715 8592 US (Washington DC) \n• +1 305 224 1968 US \n• +1 309 205 3325 US \n• +1 312 626 6799 US (Chicago) \n• +1 646 558 8656 US (New York) \n• +1 646 931 3860 US \n• +1 564 217 2000 US \n• +1 669 444 9171 US \n• +1 669 900 9128 US (San Jose) \n• +1 689 278 1000 US \n• +1 719 359 4580 US \n• +1 253 205 0468 US \n• +1 253 215 8782 US (Tacoma) \n• +1 346 248 7799 US (Houston) \n• +1 360 209 5623 US \n• +1 386 347 5053 US \n• +1 507 473 4847 US \nMeeting ID: 863 7021 0096 \nPasscode: 773668 \nFind your local number: https://us02web.zoom.us/u/kDT2CI5u2
URL:https://livableraleigh.com/event/hillsborough-wade-cac-8/
LOCATION:NC
CATEGORIES:CAC,Engagement Filter
END:VEVENT
BEGIN:VEVENT
DTSTART;TZID=America/New_York:20250625T190000
DTEND;TZID=America/New_York:20250625T203000
DTSTAMP:20260419T212512
CREATED:20250616T133607Z
LAST-MODIFIED:20250616T133607Z
UID:46141-1750878000-1750883400@livableraleigh.com
SUMMARY:West Raleigh CAC
DESCRIPTION:Meeting Wednesday June 25th at 7pm\n\nIt’s time to meet and talk about what’s going on in West Raleigh!\n\n\n\nWe have a rezoning that our group will be interested in learning more about. The “Well Fed Garden” on Athens Drive has been growing fresh fruit and vegetables for over 10 years and the owners\, Arthur and Anya Gordon are seeking a rezoning to transform the aprox 2.6 acres into a multi use property that would include apartments and possibly retail uses. They have a second public Hearing before Raleigh City Council on July 1st and this is an opportunity to hear from them and ask questions as they will join us for this meeting.  We will also have someone from Raleigh Planning to discuss the land uses and how the rezoning affects the neighborhood.\n\nWe hope you can join us via zoom on Wednesday evening at 7pm. Zoom Link follows the agenda\n\n\n*Agenda*\nAthens Drive Rezoning Z-43-24 “Well Fed Garden”\nJuly 8th In Person Meeting at Powell Park\nCommunity Updates\n\n\nJoin Zoom Meeting\nhttps://us02web.zoom.us/j/83981292620\nMeeting ID: 839 8129 2620\nOne tap mobile\n+16469313860\,\,83981292620# US\n+19292056099\,\,83981292620# US (New York)\n\n\n— \n \n\nWest Raleigh Community Advocacy Council (CAC) \nhttps://www.facebook.com/WestRalCAC\nChair Peyote Perryman
URL:https://livableraleigh.com/event/west-raleigh-cac-19/
LOCATION:NC
CATEGORIES:CAC,Engagement Filter
END:VEVENT
END:VCALENDAR