BEGIN:VCALENDAR
VERSION:2.0
PRODID:-//Livable Raleigh - ECPv6.15.20//NONSGML v1.0//EN
CALSCALE:GREGORIAN
METHOD:PUBLISH
X-WR-CALNAME:Livable Raleigh
X-ORIGINAL-URL:https://livableraleigh.com
X-WR-CALDESC:Events for Livable Raleigh
REFRESH-INTERVAL;VALUE=DURATION:PT1H
X-Robots-Tag:noindex
X-PUBLISHED-TTL:PT1H
BEGIN:VTIMEZONE
TZID:America/New_York
BEGIN:DAYLIGHT
TZOFFSETFROM:-0500
TZOFFSETTO:-0400
TZNAME:EDT
DTSTART:20240310T070000
END:DAYLIGHT
BEGIN:STANDARD
TZOFFSETFROM:-0400
TZOFFSETTO:-0500
TZNAME:EST
DTSTART:20241103T060000
END:STANDARD
BEGIN:DAYLIGHT
TZOFFSETFROM:-0500
TZOFFSETTO:-0400
TZNAME:EDT
DTSTART:20250309T070000
END:DAYLIGHT
BEGIN:STANDARD
TZOFFSETFROM:-0400
TZOFFSETTO:-0500
TZNAME:EST
DTSTART:20251102T060000
END:STANDARD
BEGIN:DAYLIGHT
TZOFFSETFROM:-0500
TZOFFSETTO:-0400
TZNAME:EDT
DTSTART:20260308T070000
END:DAYLIGHT
BEGIN:STANDARD
TZOFFSETFROM:-0400
TZOFFSETTO:-0500
TZNAME:EST
DTSTART:20261101T060000
END:STANDARD
BEGIN:DAYLIGHT
TZOFFSETFROM:-0500
TZOFFSETTO:-0400
TZNAME:EDT
DTSTART:20270314T070000
END:DAYLIGHT
BEGIN:STANDARD
TZOFFSETFROM:-0400
TZOFFSETTO:-0500
TZNAME:EST
DTSTART:20271107T060000
END:STANDARD
END:VTIMEZONE
BEGIN:VEVENT
DTSTART;TZID=America/New_York:20251016T180000
DTEND;TZID=America/New_York:20251016T193000
DTSTAMP:20260424T105126
CREATED:20250919T190920Z
LAST-MODIFIED:20250919T231226Z
UID:48355-1760637600-1760643000@livableraleigh.com
SUMMARY:Budget and Brews - City Budget Listening Session
DESCRIPTION:The City is seeking input from residents about priorities for the next City budget. The Budget and Management Services Department (BMS) will host listening sessions between October 1 and 16\, and a budget priorities survey will be available between October 1 and November 30. Resident input is critical in creating a representative City budget. \nThere will be six opportunities for in-person engagement\, in addition to a virtual session. \nVirtual Session\nThe virtual listening session will be held via Zoom. Residents who choose the virtual session must pre-register and will receive the Zoom link the day before the session. \nWednesday\, October 15\, 6-7:30 p.m. \nIn-Person Sessions\nIn person sessions will kick off on October 1 and run through October 16. They will be held at community centers in each district. \n• registration is not required to attend an in-person session\, however residents that would like an email reminder\, free childcare\, or free interpretation services should register using this link\n– childcare is available at all in-person sessions\, except Budget and Brews\, if                   requested at least three days in advance\n– interpretation services (for any language) are available at all sessions if requested         at least three days in advance\n• to ensure that all voices are heard\, residents are asked to attend only one listening session \nResidents may attend any session\, regardless of what district they live in. If you’re not sure what district you live in\, visit the Services web page and enter your address. \nSchedule for in-person sessions: \nWednesday\, October 1\, 6-7:30 p.m. – District C – Chavis Community Center\, 505 Martin Luther King Jr. Blvd. \nThursday\, October 2\, 6-7:30 p.m. – District A – Green Road Community Center\, 4201 Green Rd. \nTuesday\, October 7\, 6-7:30 p.m. – District B – Abbots Creek Community Center\, 9950 Durant Rd. \nMonday\, October 13\, 6-7:30 p.m. – District D - Jaycee Community Center\, 2405 Wade Ave. \nTuesday\, October 14\, 6-7:30 p.m. – District E – Laurel Hills Community Center\, 3808 Edwards Mill Rd. \nBudget and Brews\nBudget and Brews is the final in-person listening session. There\, residents can share their thoughts about the City budget with free pizza provided! \nThursday\, October 16\, 6-7:30 p.m. – State of Beer\, 401 Hillsborough St.\, Suite B \nBudget Survey\nA budget priorities survey will be available from October 1 through November 30. Residents may attend a session and/or share their thoughts via the online survey! The survey link will be added to the web on October 1. \nFor more information\, visit RaleighNC.gov and search “budget input”. BMS is also available to answer questions by phone at 919-996-4270\, or email at budget@raleighnc.gov.
URL:https://livableraleigh.com/event/city-budget-listening-sessions-7/
LOCATION:State of Beer\, 401 Hillsborough Street\, Suite B
CATEGORIES:Budget,Engagement Filter
END:VEVENT
BEGIN:VEVENT
DTSTART;TZID=America/New_York:20260216T160000
DTEND;TZID=America/New_York:20260216T170000
DTSTAMP:20260424T105126
CREATED:20251231T220616Z
LAST-MODIFIED:20260212T213748Z
UID:50040-1771257600-1771261200@livableraleigh.com
SUMMARY:City Council Pre-Budget Work Session
DESCRIPTION:A.\n\nMEETING CALLED TO ORDER BY THE MAYOR\n\n\n\n\n\n\n\n\n\n\n\n\n\n\n\n\n\n\n\n\n\n\n\nB.\n\nAGENDA\n\n\n\n\n\n\n\n\n\n\n\n\n\n\n\n\n\n\n\n\n\n\n\nB.1\n\nFY2027 Budget Engagement Recap\n\n\n\n\n \n\n\n\n\n\n\n\n\n\n\n\n\n\n\n\n\n\n\n\nSadia Sattar\, Budget and Management Services \nThe Budget and Management Services Department (BMS) in the City of Raleigh is tasked each year to ensure the involvement of resident voices as part of the City’s budget development process. In support of this task\, BMS engaged directly with the community as part of the FY2027 Proposed Budget development process. \nThis work session outlines steps taking by BMS as part of the City’s annual budget engagement work\, which commenced in October 2025 and concluded in November 2025. \nResident feedback from this critical work will help shape the City Manager’s Proposed FY2027 budget\, which will be presented to City Council on May 19\, 2026. \n\n\n\n\n\n\n\n\n—\nRecommended Action: No action needed at this time.\n\n\n\n\n\n\n\n\nB.2\n\nTargeted Staffing Study Update\n\n\n\n\n \n\n\n\n\n\n\n\n\n\n\n\n\n\n\n\n\n\n\n\nRyan Bergman\, City Manager’s Office \nDuring the work session\, Matrix Consulting Group will provide Council an overview of the Targeted Staffing Study. The study evaluated current workload demands\, assessed future service needs based on projected geographic growth\, and identified opportunities for operational improvements based on industry best practices for select departments across the City. Departments included in the study are Emergency Communications Center\, Raleigh Police Department\, Solid Waste Services\, Engineering Services (Fleet Management)\, Housing & Neighborhoods (Code Enforcement)\, Planning & Development (Building Safety)\, Raleigh Fire Department (Office of the Fire Marshal)\, and Transportation (Street Maintenance and Traffic Engineering). The presentation will include recommendations for sustainable staffing models and strategies to meet service demands as Raleigh continues to grow. \n\n\n\n\n\n\n\n\n—\nRecommended Action: Receive as information.\n\n\n\n\n\n\n\n\nB.3\n\nHuman Resources Update\n\n\n\n\n \n\n\n\n\n\n\n\n\n\n\n\n\n\n\n\n\n\n\n\nSharnell Jones\, Human Resources \nDuring the work session\, Human Resources staff will present employee benefits and compensation information and updates for City Council’s consideration as part of the FY2027 budget development process. \n\n\n\n\n\n\n\n\n—\nRecommended Action: Receive as information.\n\n\n\n\n\n\n\n\n\n\nC.\n\nADJOURNMENT\n\n\n\n\n\n\n\n\nThe Raleigh City Council will meet for a budget work session. \n\nWatch Council Meeting Live Stream\nView agendas and past minutes\nVisit our City Council page to find your council member and other council services.
URL:https://livableraleigh.com/event/city-council-pre-budget-work-session/
LOCATION:Raleigh Municipal Building\, 222 W. Hargett St.\, Raleigh\, NC\, 27601\, United States
CATEGORIES:Budget,City Council,Virtual
END:VEVENT
BEGIN:VEVENT
DTSTART;TZID=America/New_York:20260309T160000
DTEND;TZID=America/New_York:20260309T170000
DTSTAMP:20260424T105126
CREATED:20260130T012340Z
LAST-MODIFIED:20260306T182424Z
UID:51050-1773072000-1773075600@livableraleigh.com
SUMMARY:City Council Pre-Budget Work Session
DESCRIPTION:A.\n\nMEETING CALLED TO ORDER BY THE MAYOR\n\n\n\n\n\n\n\n\n\n\n\n\n\n\n\n\n\n\n\n\n\n\n\nB.\n\nAGENDA\n\n\n\n\n\n\n\n\n\n\n\n\n\n\n\n\n\n\n\n\n\n\n\nB.1\n\nParking Enterprise Update\n\n\n\n\n \n\n\n\n\n\n\n\n\n\n\n\n\n\n\n\n\n\n\nCaitlyn Parker\, Transportation\n.\nInformation will be provided regarding the financial state of the parking enterprise as well as rate considerations needed to support the enterprise. This will build on information shared at the Council Retreat on January 24. For reference\, the January 24 Council Retreat presentation is attached to this item.\n.\nA presentation will be shared during the meeting.\n\n\n\n\n\n\n\n—\n\n\n\n\n\n\n\n\n\nB.2\n\nRaleigh Stormwater Enterprise FY2027 Proposed Budget\n\n\n\n\n\n\n\n\n\n\n\n\n\n\n\n\n\n\n\n\n\n\n\nWayne Miles\, Engineering Services / Stormwater Management\n.\nStaff will provide Council with an overview of the FY2027 proposed operating and capital improvement program budgets for Raleigh Stormwater as well as proposed adjustments to the Stormwater Utility Fee Rate and Stormwater Development Fees to support the proposed level of service.\n\n\n\n\n\n\n\n\n—\nRecommended Action: Staff will seek Council input on the proposed rate adjustments.\n\n\n\n\n\n\n\n\nB.3\n\nRaleigh Water Enterprise\n\n\n\n\n\n\n\n\n\n\n\n\n\n\n\n\n\n\n\n\n\n\nWhit Wheeler\, Raleigh Water\n.\nStaff will provide Council with an overview of the FY2027 proposed operating and capital budgets for Raleigh Water as well as an overview of the financial performance of the enterprise.\n\n\n\n\n\n\n\n—\nRecommended Action: Staff seek City Council input on the proposed FY2027 rate adjustments.\n\n\n\n\n\n\n\n\n\n\nC.\n\nADJOURNMENT\n\n\n\n\n\n\n\n\nThe Raleigh City Council will meet for a budget work session. \n\nWatch Council Meeting Live Stream\nView agendas and past minutes\nVisit our City Council page to find your council member and other council services.
URL:https://livableraleigh.com/event/city-council-pre-budget-work-session-2/
LOCATION:Raleigh Municipal Building\, 222 W. Hargett St.\, Raleigh\, NC\, 27601\, United States
CATEGORIES:Budget,City Council,Council Committee,Virtual
END:VEVENT
BEGIN:VEVENT
DTSTART;TZID=America/New_York:20260406T160000
DTEND;TZID=America/New_York:20260406T170000
DTSTAMP:20260424T105126
CREATED:20260228T224319Z
LAST-MODIFIED:20260402T195440Z
UID:51973-1775491200-1775494800@livableraleigh.com
SUMMARY:City Council Pre-Budget Work Session
DESCRIPTION:https://pub-raleighnc.escribemeetings.com/Meeting.aspx?Id=377bbdf4-30ef-4cdb-b198-c2546684c77a&Agenda=Agenda&lang=English \nThe Raleigh City Council will meet for a budget work session. \n\nWatch Council Meeting Live Stream\nMeeting agendas are posted the Thursday before the scheduled meeting.\nVisit our City Council page to find your council member and other council services.
URL:https://livableraleigh.com/event/city-council-pre-budget-work-session-3/
LOCATION:Raleigh Municipal Building\, 222 W. Hargett St.\, Raleigh\, NC\, 27601\, United States
CATEGORIES:Budget,City Council,Virtual
END:VEVENT
END:VCALENDAR