BEGIN:VCALENDAR
VERSION:2.0
PRODID:-//Livable Raleigh - ECPv6.15.20//NONSGML v1.0//EN
CALSCALE:GREGORIAN
METHOD:PUBLISH
X-ORIGINAL-URL:https://livableraleigh.com
X-WR-CALDESC:Events for Livable Raleigh
REFRESH-INTERVAL;VALUE=DURATION:PT1H
X-Robots-Tag:noindex
X-PUBLISHED-TTL:PT1H
BEGIN:VTIMEZONE
TZID:America/New_York
BEGIN:DAYLIGHT
TZOFFSETFROM:-0500
TZOFFSETTO:-0400
TZNAME:EDT
DTSTART:20230312T070000
END:DAYLIGHT
BEGIN:STANDARD
TZOFFSETFROM:-0400
TZOFFSETTO:-0500
TZNAME:EST
DTSTART:20231105T060000
END:STANDARD
BEGIN:DAYLIGHT
TZOFFSETFROM:-0500
TZOFFSETTO:-0400
TZNAME:EDT
DTSTART:20240310T070000
END:DAYLIGHT
BEGIN:STANDARD
TZOFFSETFROM:-0400
TZOFFSETTO:-0500
TZNAME:EST
DTSTART:20241103T060000
END:STANDARD
BEGIN:DAYLIGHT
TZOFFSETFROM:-0500
TZOFFSETTO:-0400
TZNAME:EDT
DTSTART:20250309T070000
END:DAYLIGHT
BEGIN:STANDARD
TZOFFSETFROM:-0400
TZOFFSETTO:-0500
TZNAME:EST
DTSTART:20251102T060000
END:STANDARD
END:VTIMEZONE
BEGIN:VEVENT
DTSTART;TZID=America/New_York:20240603T160000
DTEND;TZID=America/New_York:20240603T180000
DTSTAMP:20260423T172004
CREATED:20240427T132555Z
LAST-MODIFIED:20240602T102125Z
UID:37775-1717430400-1717437600@livableraleigh.com
SUMMARY:City Council Budget Work Session
DESCRIPTION:A. MEETING CALLED TO ORDER BY THE MAYOR\n\n\n\nB. AGENDA\n\n\n1. Proposed Budget Documents\n\n\n2. FY2025 Budget Notes\n\n\n\nThe Raleigh City Council will meet for a budget work session. \n\nWatch Council Meeting Live Stream\nView agendas and past minutes\nVisit our City Council page to find your council member and other council services.
URL:https://livableraleigh.com/event/city-council-budget-work-session-9/
LOCATION:Raleigh Municipal Building\, 222 W. Hargett St.\, Raleigh\, NC\, 27601\, United States
CATEGORIES:Budget,City Council
END:VEVENT
BEGIN:VEVENT
DTSTART;TZID=America/New_York:20240610T160000
DTEND;TZID=America/New_York:20240610T180000
DTSTAMP:20260423T172004
CREATED:20240427T225702Z
LAST-MODIFIED:20240427T225702Z
UID:37806-1718035200-1718042400@livableraleigh.com
SUMMARY:City Council Budget Work Session
DESCRIPTION:The Raleigh City Council will meet for a budget work session. \n\nWatch Council Meeting Live Stream\nView agendas and past minutes\nVisit our City Council page to find your council member and other council services.
URL:https://livableraleigh.com/event/city-council-budget-work-session-10/
LOCATION:Raleigh Municipal Building\, 222 W. Hargett St.\, Raleigh\, NC\, 27601\, United States
CATEGORIES:Budget,City Council
END:VEVENT
END:VCALENDAR