BEGIN:VCALENDAR
VERSION:2.0
PRODID:-//Livable Raleigh - ECPv6.15.20//NONSGML v1.0//EN
CALSCALE:GREGORIAN
METHOD:PUBLISH
X-ORIGINAL-URL:https://livableraleigh.com
X-WR-CALDESC:Events for Livable Raleigh
REFRESH-INTERVAL;VALUE=DURATION:PT1H
X-Robots-Tag:noindex
X-PUBLISHED-TTL:PT1H
BEGIN:VTIMEZONE
TZID:America/New_York
BEGIN:DAYLIGHT
TZOFFSETFROM:-0500
TZOFFSETTO:-0400
TZNAME:EDT
DTSTART:20220313T070000
END:DAYLIGHT
BEGIN:STANDARD
TZOFFSETFROM:-0400
TZOFFSETTO:-0500
TZNAME:EST
DTSTART:20221106T060000
END:STANDARD
BEGIN:DAYLIGHT
TZOFFSETFROM:-0500
TZOFFSETTO:-0400
TZNAME:EDT
DTSTART:20230312T070000
END:DAYLIGHT
BEGIN:STANDARD
TZOFFSETFROM:-0400
TZOFFSETTO:-0500
TZNAME:EST
DTSTART:20231105T060000
END:STANDARD
BEGIN:DAYLIGHT
TZOFFSETFROM:-0500
TZOFFSETTO:-0400
TZNAME:EDT
DTSTART:20240310T070000
END:DAYLIGHT
BEGIN:STANDARD
TZOFFSETFROM:-0400
TZOFFSETTO:-0500
TZNAME:EST
DTSTART:20241103T060000
END:STANDARD
END:VTIMEZONE
BEGIN:VEVENT
DTSTART;TZID=America/New_York:20230803T120000
DTEND;TZID=America/New_York:20230803T130000
DTSTAMP:20260420T094238
CREATED:20230625T123328Z
LAST-MODIFIED:20230625T123328Z
UID:31047-1691064000-1691067600@livableraleigh.com
SUMMARY:Art\, Education\, and Collections Committee
DESCRIPTION:Meetings are held virtually on the first Thursday of each month from noon to 1 p.m. For more information about how to join the meeting please contact Raleigh Arts at 919-996-3610.
URL:https://livableraleigh.com/event/art-education-and-collections-committee-7/
LOCATION:Virtual Meeting
CATEGORIES:Arts Commission,Boards and Commissions
END:VEVENT
BEGIN:VEVENT
DTSTART;TZID=America/New_York:20230802T163000
DTEND;TZID=America/New_York:20230802T173000
DTSTAMP:20260420T094238
CREATED:20230625T123202Z
LAST-MODIFIED:20230625T123202Z
UID:31045-1690993800-1690997400@livableraleigh.com
SUMMARY:Sustainability\, Wildlife\, and Urban Trees Committee
DESCRIPTION:The Sustainability Wildlife and Urban Trees Committee a standing committee of the Parks\, Recreation and Greenway Advisory Board will meet in the Raleigh Municipal Building\, 222 W. Hargett Street\, Conference Room 303 at 4:30 p.m. on the first Wednesday of each month.
URL:https://livableraleigh.com/event/sustainability-wildlife-and-urban-trees-committee-8/
LOCATION:Raleigh Municipal Building\, 222 W. Hargett St.\, Raleigh\, NC\, 27601\, United States
CATEGORIES:Boards and Commissions
END:VEVENT
BEGIN:VEVENT
DTSTART;TZID=America/New_York:20230725T163000
DTEND;TZID=America/New_York:20230725T180000
DTSTAMP:20260420T094238
CREATED:20230617T010506Z
LAST-MODIFIED:20230617T010506Z
UID:30773-1690302600-1690308000@livableraleigh.com
SUMMARY:Public Art and Design Board
DESCRIPTION:The Public Art and Design Board promotes and facilitates the inclusion of art into Raleigh’s public realm by establishing processes that create a connection between artists\, partners\, and communities to enhance the City’s vitality. The Public Art and Design Board serves as an advisory board for the public art program. \nLearn more about the Public Art and Design Board \nMeeting Details\nThe Public Art and Design Board will meet in person at the John Chavis Memorial Park Community Center located at 505 Martin Luther King Jr. Boulevard\, Raleigh NC 27601. Contact Raleigh Arts to request an item for the agenda. \nView agenda and past meeting minutes on BoardDocs
URL:https://livableraleigh.com/event/public-art-and-design-board-6/
LOCATION:John Chavis Community Center\, 505 Martin Luther King Jr. Blvd.\, Raleigh\, NC\, 27601\, United States
CATEGORIES:Boards and Commissions
END:VEVENT
BEGIN:VEVENT
DTSTART;TZID=America/New_York:20230725T090000
DTEND;TZID=America/New_York:20230725T110000
DTSTAMP:20260420T094238
CREATED:20230617T010310Z
LAST-MODIFIED:20230617T010310Z
UID:30771-1690275600-1690282800@livableraleigh.com
SUMMARY:Dorothea Dix Park Leadership Committee
DESCRIPTION:The Dix Park Leadership Committee exists to provide guidance to City staff\, the Conservancy\, and other partners on the implementation of the Dorothea Dix Park Master Plan. \nThe Dix Park Leadership Committee meeting will be held in-person at the Greg Poole\, Jr. All Faiths Chapel at Dix Park\, located at 1030 Richardson Drive\, Raleigh NC 27603. \nView Meeting Agendas and Minutes using the City’s paperless system.
URL:https://livableraleigh.com/event/dorothea-dix-park-leadership-committee-6/
LOCATION:All Faith’s Chapel at Dix Park\, 1030 Richardson Drive\, Raleigh\, NC\, 27603
CATEGORIES:Boards and Commissions
END:VEVENT
BEGIN:VEVENT
DTSTART;TZID=America/New_York:20230714T120000
DTEND;TZID=America/New_York:20230714T130000
DTSTAMP:20260420T094238
CREATED:20230605T004849Z
LAST-MODIFIED:20230605T004849Z
UID:30471-1689336000-1689339600@livableraleigh.com
SUMMARY:Art\, Education\, and Collections Committee
DESCRIPTION:
URL:https://livableraleigh.com/event/art-education-and-collections-committee-6/
LOCATION:Virtual Meeting
CATEGORIES:Boards and Commissions
END:VEVENT
BEGIN:VEVENT
DTSTART;TZID=America/New_York:20230627T163000
DTEND;TZID=America/New_York:20230627T180000
DTSTAMP:20260420T094238
CREATED:20230521T013125Z
LAST-MODIFIED:20230521T013125Z
UID:30179-1687883400-1687888800@livableraleigh.com
SUMMARY:Public Art and Design Board
DESCRIPTION:The Public Art and Design Board promotes and facilitates the inclusion of art into Raleigh’s public realm by establishing processes that create a connection between artists\, partners\, and communities to enhance the City’s vitality. The Public Art and Design Board serves as an advisory board for the public art program. \nLearn more about the Public Art and Design Board \nMeeting Details\nThe Public Art and Design Board will meet in person at the John Chavis Memorial Park Community Center located at 505 Martin Luther King Jr. Boulevard\, Raleigh NC 27601. Contact Raleigh Arts to request an item for the agenda. \nView agenda and past meeting minutes on BoardDocs
URL:https://livableraleigh.com/event/public-art-and-design-board-5/
LOCATION:John Chavis Community Center\, 505 Martin Luther King Jr. Blvd.\, Raleigh\, NC\, 27601\, United States
CATEGORIES:Boards and Commissions
END:VEVENT
BEGIN:VEVENT
DTSTART;TZID=America/New_York:20230627T090000
DTEND;TZID=America/New_York:20230627T110000
DTSTAMP:20260420T094238
CREATED:20230521T012843Z
LAST-MODIFIED:20230521T012843Z
UID:30175-1687856400-1687863600@livableraleigh.com
SUMMARY:Dorothea Dix Park Leadership Committee
DESCRIPTION:The Dix Park Leadership Committee exists to provide guidance to City staff\, the Conservancy\, and other partners on the implementation of the Dorothea Dix Park Master Plan. \nThe Dix Park Leadership Committee meeting will be held in-person at the Greg Poole\, Jr. All Faiths Chapel at Dix Park\, located at 1030 Richardson Drive\, Raleigh NC 27603. \nView Meeting Agendas and Minutes using the City’s paperless system.
URL:https://livableraleigh.com/event/dorothea-dix-park-leadership-committee-5/
LOCATION:All Faith’s Chapel at Dix Park\, 1030 Richardson Drive\, Raleigh\, NC\, 27603
CATEGORIES:Boards and Commissions
END:VEVENT
BEGIN:VEVENT
DTSTART;TZID=America/New_York:20230608T170000
DTEND;TZID=America/New_York:20230608T190000
DTSTAMP:20260420T094238
CREATED:20230520T131412Z
LAST-MODIFIED:20230520T131412Z
UID:30120-1686243600-1686250800@livableraleigh.com
SUMMARY:Environmental Advisory Board Meeting
DESCRIPTION:The City Council established the Environmental Advisory Board (EAB) to advise them on matters related to the environment. \nThe Environmental Advisory Board meets the second Thursday of every month from 5 p.m. to 7 p.m. in the Raleigh Municipal Building room 303.
URL:https://livableraleigh.com/event/environmental-advisory-board-meeting-3/
LOCATION:Raleigh Municipal Building\, 222 W. Hargett St.\, Raleigh\, NC\, 27601\, United States
CATEGORIES:Boards and Commissions,Environment & Sustainability
END:VEVENT
BEGIN:VEVENT
DTSTART;TZID=America/New_York:20230607T163000
DTEND;TZID=America/New_York:20230607T173000
DTSTAMP:20260420T094238
CREATED:20230513T003903Z
LAST-MODIFIED:20230513T003903Z
UID:29971-1686155400-1686159000@livableraleigh.com
SUMMARY:Sustainability\, Wildlife\, and Urban Trees Committee
DESCRIPTION:The Sustainability Wildlife and Urban Trees Committee a standing committee of the Parks\, Recreation and Greenway Advisory Board will meet in the Raleigh Municipal Building\, 222 W. Hargett Street\, Conference Room 303 at 4:30 p.m. on the first Wednesday of each month.
URL:https://livableraleigh.com/event/sustainability-wildlife-and-urban-trees-committee-6/
LOCATION:Raleigh Municipal Building\, 222 W. Hargett St.\, Raleigh\, NC\, 27601\, United States
CATEGORIES:Boards and Commissions
END:VEVENT
BEGIN:VEVENT
DTSTART;TZID=America/New_York:20230601T120000
DTEND;TZID=America/New_York:20230601T130000
DTSTAMP:20260420T094238
CREATED:20230504T004239Z
LAST-MODIFIED:20230504T004239Z
UID:29760-1685620800-1685624400@livableraleigh.com
SUMMARY:Art\, Education\, and Collections Committee
DESCRIPTION:Meetings are held virtually on the first Thursday of each month from noon to 1 p.m. For more information about how to join the meeting please contact Raleigh Arts at 919-996-3610. \nLearn more about the Art\, Education\, and Collections Committee
URL:https://livableraleigh.com/event/art-education-and-collections-committee-4/
LOCATION:Virtual Meeting
CATEGORIES:Boards and Commissions
END:VEVENT
BEGIN:VEVENT
DTSTART;TZID=America/New_York:20230530T163000
DTEND;TZID=America/New_York:20230530T180000
DTSTAMP:20260420T094238
CREATED:20230415T130720Z
LAST-MODIFIED:20230415T130720Z
UID:29327-1685464200-1685469600@livableraleigh.com
SUMMARY:Public Art and Design Board
DESCRIPTION:The Public Art and Design Board promotes and facilitates the inclusion of art into Raleigh’s public realm by establishing processes that create a connection between artists\, partners\, and communities to enhance the City’s vitality. The Public Art and Design Board serves as an advisory board for the public art program. \nLearn more about the Public Art and Design Board \nMeeting Details\nThe Public Art and Design Board will meet in person at the John Chavis Memorial Park Community Center located at 505 Martin Luther King Jr. Boulevard\, Raleigh NC 27601. Contact Raleigh Arts to request an item for the agenda. \nView agenda and past meeting minutes on BoardDocs
URL:https://livableraleigh.com/event/public-art-and-design-board-4/
LOCATION:John Chavis Community Center\, 505 Martin Luther King Jr. Blvd.\, Raleigh\, NC\, 27601\, United States
CATEGORIES:Boards and Commissions
END:VEVENT
BEGIN:VEVENT
DTSTART;TZID=America/New_York:20230523T090000
DTEND;TZID=America/New_York:20230523T110000
DTSTAMP:20260420T094238
CREATED:20230415T125835Z
LAST-MODIFIED:20230415T125835Z
UID:29313-1684832400-1684839600@livableraleigh.com
SUMMARY:Dorothea Dix Park Leadership Committee
DESCRIPTION:The Dix Park Leadership Committee exists to provide guidance to City staff\, the Conservancy\, and other partners on the implementation of the Dorothea Dix Park Master Plan. \nThe Dix Park Leadership Committee meeting will be held in-person at the Greg Poole\, Jr. All Faiths Chapel at Dix Park\, located at 1030 Richardson Drive\, Raleigh NC 27603. \nView Meeting Agendas and Minutes using the City’s paperless system.
URL:https://livableraleigh.com/event/dorothea-dix-park-leadership-committee-4/
LOCATION:All Faith’s Chapel at Dix Park\, 1030 Richardson Drive\, Raleigh\, NC\, 27603
CATEGORIES:Boards and Commissions
END:VEVENT
BEGIN:VEVENT
DTSTART;TZID=America/New_York:20230511T170000
DTEND;TZID=America/New_York:20230511T190000
DTSTAMP:20260420T094238
CREATED:20230415T124521Z
LAST-MODIFIED:20230415T124521Z
UID:29297-1683824400-1683831600@livableraleigh.com
SUMMARY:Environmental Advisory Board Meeting
DESCRIPTION:The City Council established the Environmental Advisory Board (EAB) to advise them on matters related to the environment. \nThe Environmental Advisory Board meets the second Thursday of every month from 5 p.m. to 7 p.m. in the Raleigh Municipal Building room 303.
URL:https://livableraleigh.com/event/environmental-advisory-board-meeting-2/
LOCATION:Raleigh Municipal Building\, 222 W. Hargett St.\, Raleigh\, NC\, 27601\, United States
CATEGORIES:Boards and Commissions,Environment & Sustainability
END:VEVENT
BEGIN:VEVENT
DTSTART;TZID=America/New_York:20230504T120000
DTEND;TZID=America/New_York:20230504T130000
DTSTAMP:20260420T094238
CREATED:20230410T120030Z
LAST-MODIFIED:20230410T120030Z
UID:29124-1683201600-1683205200@livableraleigh.com
SUMMARY:Art\, Education\, and Collections Committee
DESCRIPTION:Meetings are held virtually on the first Thursday of each month from noon to 1 p.m. For more information about how to join the meeting please contact Raleigh Arts at 919-996-3610. \nLearn more about the Art\, Education\, and Collections Committee
URL:https://livableraleigh.com/event/art-education-and-collections-committee-3/
LOCATION:Virtual Meeting
CATEGORIES:Boards and Commissions
END:VEVENT
BEGIN:VEVENT
DTSTART;TZID=America/New_York:20230503T163000
DTEND;TZID=America/New_York:20230503T173000
DTSTAMP:20260420T094238
CREATED:20230405T231106Z
LAST-MODIFIED:20230405T231106Z
UID:29019-1683131400-1683135000@livableraleigh.com
SUMMARY:Sustainability\, Wildlife\, and Urban Trees Committee
DESCRIPTION:The Sustainability Wildlife and Urban Trees Committee a standing committee of the Parks\, Recreation and Greenway Advisory Board will meet in the Raleigh Municipal Building\, 222 W. Hargett Street\, Conference Room 303 at 4:30 p.m. on the first Wednesday of each month.
URL:https://livableraleigh.com/event/sustainability-wildlife-and-urban-trees-committee-5/
LOCATION:Raleigh Municipal Building\, 222 W. Hargett St.\, Raleigh\, NC\, 27601\, United States
CATEGORIES:Boards and Commissions,Environment & Sustainability
END:VEVENT
BEGIN:VEVENT
DTSTART;TZID=America/New_York:20230425T163000
DTEND;TZID=America/New_York:20230425T180000
DTSTAMP:20260420T094238
CREATED:20230318T131041Z
LAST-MODIFIED:20230318T131041Z
UID:28765-1682440200-1682445600@livableraleigh.com
SUMMARY:Public Art and Design Board
DESCRIPTION:The Public Art and Design Board promotes and facilitates the inclusion of art into Raleigh’s public realm by establishing processes that create a connection between artists\, partners\, and communities to enhance the City’s vitality. The Public Art and Design Board serves as an advisory board for the public art program. \nLearn more about the Public Art and Design Board \nMeeting Details\nThe Public Art and Design Board will meet in person at the John Chavis Memorial Park Community Center located at 505 Martin Luther King Jr. Boulevard\, Raleigh NC 27601. Contact Raleigh Arts to request an item for the agenda. \nView agenda and past meeting minutes on BoardDocs
URL:https://livableraleigh.com/event/public-art-and-design-board-3/
LOCATION:John Chavis Community Center\, 505 Martin Luther King Jr. Blvd.\, Raleigh\, NC\, 27601\, United States
CATEGORIES:Boards and Commissions
END:VEVENT
BEGIN:VEVENT
DTSTART;TZID=America/New_York:20230425T090000
DTEND;TZID=America/New_York:20230425T110000
DTSTAMP:20260420T094238
CREATED:20230324T133951Z
LAST-MODIFIED:20230324T133951Z
UID:28871-1682413200-1682420400@livableraleigh.com
SUMMARY:Dorothea Dix Park Leadership Committee
DESCRIPTION:The Dix Park Leadership Committee exists to provide guidance to City staff\, the Conservancy\, and other partners on the implementation of the Dorothea Dix Park Master Plan. \nThe Dix Park Leadership Committee meeting will be held in-person at the Greg Poole\, Jr. All Faiths Chapel at Dix Park\, located at 1030 Richardson Drive\, Raleigh NC 27603.
URL:https://livableraleigh.com/event/dorothea-dix-park-leadership-committee-3/
LOCATION:NC
CATEGORIES:Boards and Commissions
END:VEVENT
BEGIN:VEVENT
DTSTART;TZID=America/New_York:20230406T120000
DTEND;TZID=America/New_York:20230406T130000
DTSTAMP:20260420T094238
CREATED:20230309T235336Z
LAST-MODIFIED:20230309T235336Z
UID:28391-1680782400-1680786000@livableraleigh.com
SUMMARY:Art\, Education\, and Collections Committee
DESCRIPTION:Meetings are held virtually on the first Thursday of each month from noon to 1 p.m. For more information about how to join the meeting please contact Raleigh Arts at 919-996-3610. \nLearn more about the Art\, Education\, and Collections Committee
URL:https://livableraleigh.com/event/art-education-and-collections-committee-2/
LOCATION:Virtual Meeting
CATEGORIES:Boards and Commissions
END:VEVENT
BEGIN:VEVENT
DTSTART;TZID=America/New_York:20230405T163000
DTEND;TZID=America/New_York:20230405T173000
DTSTAMP:20260420T094238
CREATED:20230220T173354Z
LAST-MODIFIED:20230220T173354Z
UID:27822-1680712200-1680715800@livableraleigh.com
SUMMARY:Sustainability\, Wildlife\, and Urban Trees Committee
DESCRIPTION:The Sustainability Wildlife and Urban Trees Committee a standing committee of the Parks\, Recreation and Greenway Advisory Board will meet in the Raleigh Municipal Building\, 222 W. Hargett Street\, Conference Room 303 at 4:30 p.m. on the first Wednesday of each month.
URL:https://livableraleigh.com/event/sustainability-wildlife-and-urban-trees-committee-4/
LOCATION:Raleigh Municipal Building\, 222 W. Hargett St.\, Raleigh\, NC\, 27601\, United States
CATEGORIES:Boards and Commissions
END:VEVENT
BEGIN:VEVENT
DTSTART;TZID=America/New_York:20230328T163000
DTEND;TZID=America/New_York:20230328T180000
DTSTAMP:20260420T094238
CREATED:20230220T171529Z
LAST-MODIFIED:20230220T171529Z
UID:27808-1680021000-1680026400@livableraleigh.com
SUMMARY:Public Art and Design Board
DESCRIPTION:The Public Art and Design Board promotes and facilitates the inclusion of art into Raleigh’s public realm by establishing processes that create a connection between artists\, partners\, and communities to enhance the City’s vitality. The Public Art and Design Board serves as an advisory board for the public art program. \nLearn more about the Public Art and Design Board \nMeeting Details\nThe Public Art and Design Board will meet in person at the John Chavis Memorial Park Community Center located at 505 Martin Luther King Jr. Boulevard\, Raleigh NC 27601. Contact Raleigh Arts to request an item for the agenda. \nView agenda and past meeting minutes on BoardDocs
URL:https://livableraleigh.com/event/public-art-and-design-board-2/
LOCATION:John Chavis Community Center\, 505 Martin Luther King Jr. Blvd.\, Raleigh\, NC\, 27601\, United States
CATEGORIES:Boards and Commissions
END:VEVENT
BEGIN:VEVENT
DTSTART;TZID=America/New_York:20230328T090000
DTEND;TZID=America/New_York:20230328T110000
DTSTAMP:20260420T094238
CREATED:20230215T023021Z
LAST-MODIFIED:20230215T023021Z
UID:27572-1679994000-1680001200@livableraleigh.com
SUMMARY:Dorothea Dix Park Leadership Committee
DESCRIPTION:The Dix Park Leadership Committee exists to provide guidance to City staff\, the Conservancy\, and other partners on the implementation of the Dorothea Dix Park Master Plan. \nThe Dix Park Leadership Committee meeting will be held in-person at the Greg Poole\, Jr. All Faiths Chapel at Dix Park\, located at 1030 Richardson Drive\, Raleigh NC 27603. \nView Meeting Agendas and Minutes using the City’s paperless system.
URL:https://livableraleigh.com/event/dorothea-dix-park-leadership-committee-2/
LOCATION:All Faith’s Chapel at Dix Park\, 1030 Richardson Drive\, Raleigh\, NC\, 27603
CATEGORIES:Boards and Commissions
END:VEVENT
BEGIN:VEVENT
DTSTART;TZID=America/New_York:20230309T170000
DTEND;TZID=America/New_York:20230309T190000
DTSTAMP:20260420T094238
CREATED:20230215T011919Z
LAST-MODIFIED:20230215T011919Z
UID:27513-1678381200-1678388400@livableraleigh.com
SUMMARY:Environmental Advisory Board Meeting
DESCRIPTION:The City Council established the Environmental Advisory Board (EAB) to advise them on matters related to the environment. \nThe Environmental Advisory Board meets the second Thursday of every month from 5 p.m. to 7 p.m. in the Raleigh Municipal Building room 303.
URL:https://livableraleigh.com/event/environmental-advisory-board-meeting/
LOCATION:Raleigh Municipal Building\, 222 W. Hargett St.\, Raleigh\, NC\, 27601\, United States
CATEGORIES:Boards and Commissions,Environment & Sustainability
END:VEVENT
BEGIN:VEVENT
DTSTART;TZID=America/New_York:20230302T150000
DTEND;TZID=America/New_York:20230302T170000
DTSTAMP:20260420T094238
CREATED:20230215T004759Z
LAST-MODIFIED:20230225T151702Z
UID:27489-1677769200-1677776400@livableraleigh.com
SUMMARY:Stormwater Management Advisory Commission
DESCRIPTION:Serves as the official citizen advisory board to the Raleigh City Council on Stormwater policies. \n3 p.m.\nIn-Person Meeting\n2550 Operations Way\nRaleigh\, North Carolina\nWill be live-streamed via WEBEX \nThe registration link and agenda will be available a week before the meeting date. If you subscribe to this meeting series\, you will receive the registration link and updates such as news and workshops. \nThis commission meets the first Thursday of every month. Members discuss various stormwater needs and issues. Then\, provides recommendations to staff and reports to Raleigh City Council. \n\n1. Welcome\n\nA. Introductions \n\n\nB. Excused Absences \n\n\n\n\n\n2. Approval of Minutes from Previous Meeting\n\nA. Approval of Minutes from February 2\, 2023 \n\n\n\n\n\n3. Public Comment\n\nA. Public Comment – In person meeting \n\n\n\n\n\n4. Commission/Stormwater Staff Update on Matters of Importance\n\nA. Staff and Commission Updates \n\n\nB. Hot Priority Topics \n\n\nC. Notices Prior to Construction \n\n\n\n\n\n5. Drainage Assistance Projects Review\n\nA. One (1) Drainage project for review \n\n\n\n\n\n6. Capture It! Stormwater Arts Contest\n\nA. Voting on the finalists entries \n\n\n\n\n\n7. Election of Chair\, Vice-Chair and Planning Commission Liason\n\nA. Voting on chair\, vice-chair and planning liason \n\n\n\n\n\n8. Stormwater Program FY24 Budget Update\n\nA. Overview of the proposed FY24 budget \n\n\n\n\n\n9. Other Business\n\nA. Non Agenda Items \n\n\n\n\n\n10. Adjournment\n\nA. Adjourn Meeting
URL:https://livableraleigh.com/event/stormwater-management-advisory-commission-3/
LOCATION:Virtual Meeting
CATEGORIES:Boards and Commissions,Stormwater Management
END:VEVENT
BEGIN:VEVENT
DTSTART;TZID=America/New_York:20230302T120000
DTEND;TZID=America/New_York:20230302T130000
DTSTAMP:20260420T094238
CREATED:20230215T004602Z
LAST-MODIFIED:20230215T004602Z
UID:27487-1677758400-1677762000@livableraleigh.com
SUMMARY:Art\, Education\, and Collections Committee
DESCRIPTION:Meetings are held virtually on the first Thursday of each month from noon to 1 p.m. For more information about how to join the meeting please contact Raleigh Arts at 919-996-3610. \nLearn more about the Art\, Education\, and Collections Committee
URL:https://livableraleigh.com/event/art-education-and-collections-committee/
LOCATION:Virtual Meeting
CATEGORIES:Boards and Commissions
END:VEVENT
BEGIN:VEVENT
DTSTART;TZID=America/New_York:20230301T163000
DTEND;TZID=America/New_York:20230301T173000
DTSTAMP:20260420T094238
CREATED:20230215T004245Z
LAST-MODIFIED:20230215T004245Z
UID:27485-1677688200-1677691800@livableraleigh.com
SUMMARY:Sustainability\, Wildlife\, and Urban Trees Committee
DESCRIPTION:The Sustainability Wildlife and Urban Trees Committee a standing committee of the Parks\, Recreation and Greenway Advisory Board will meet in the Raleigh Municipal Building\, 222 W. Hargett Street\, Conference Room 303 at 4:30 p.m. on the first Wednesday of each month.
URL:https://livableraleigh.com/event/sustainability-wildlife-and-urban-trees-committee-3/
LOCATION:Raleigh Municipal Building\, 222 W. Hargett St.\, Raleigh\, NC\, 27601\, United States
CATEGORIES:Boards and Commissions
END:VEVENT
BEGIN:VEVENT
DTSTART;TZID=America/New_York:20230228T163000
DTEND;TZID=America/New_York:20230228T180000
DTSTAMP:20260420T094238
CREATED:20230215T002921Z
LAST-MODIFIED:20230215T002921Z
UID:27477-1677601800-1677607200@livableraleigh.com
SUMMARY:Public Art and Design Board
DESCRIPTION:The Public Art and Design Board promotes and facilitates the inclusion of art into Raleigh’s public realm by establishing processes that create a connection between artists\, partners\, and communities to enhance the City’s vitality. The Public Art and Design Board serves as an advisory board for the public art program. \nLearn more about the Public Art and Design Board \nMeeting Details\nThe Public Art and Design Board will meet in person at the John Chavis Memorial Park Community Center located at 505 Martin Luther King Jr. Boulevard\, Raleigh NC 27601. Contact Raleigh Arts to request an item for the agenda. \nView agenda and past meeting minutes on BoardDocs
URL:https://livableraleigh.com/event/public-art-and-design-board/
LOCATION:John Chavis Community Center\, 505 Martin Luther King Jr. Blvd.\, Raleigh\, NC\, 27601\, United States
CATEGORIES:Boards and Commissions
END:VEVENT
BEGIN:VEVENT
DTSTART;TZID=America/New_York:20230228T090000
DTEND;TZID=America/New_York:20230228T110000
DTSTAMP:20260420T094238
CREATED:20230215T001857Z
LAST-MODIFIED:20230215T001857Z
UID:27464-1677574800-1677582000@livableraleigh.com
SUMMARY:Dorothea Dix Park Leadership Committee
DESCRIPTION:The Dix Park Leadership Committee exists to provide guidance to City staff\, the Conservancy\, and other partners on the implementation of the Dorothea Dix Park Master Plan. \nThe Dix Park Leadership Committee meeting will be held in-person at the Greg Poole\, Jr. All Faiths Chapel at Dix Park\, located at 1030 Richardson Drive\, Raleigh NC 27603. \nView Meeting Agendas and Minutes using the City’s paperless system.
URL:https://livableraleigh.com/event/dorothea-dix-park-leadership-committee/
LOCATION:All Faith’s Chapel at Dix Park\, 1030 Richardson Drive\, Raleigh\, NC\, 27603
CATEGORIES:Boards and Commissions
END:VEVENT
BEGIN:VEVENT
DTSTART;TZID=America/New_York:20230201T163000
DTEND;TZID=America/New_York:20230201T173000
DTSTAMP:20260420T094238
CREATED:20230120T012720Z
LAST-MODIFIED:20230120T012720Z
UID:26885-1675269000-1675272600@livableraleigh.com
SUMMARY:Sustainability\, Wildlife\, and Urban Trees Committee
DESCRIPTION:The Sustainability Wildlife and Urban Trees Committee a standing committee of the Parks\, Recreation and Greenway Advisory Board will meet in the Raleigh Municipal Building\, 222 W. Hargett Street\, Conference Room 303 at 4:30 p.m. on the first Wednesday of each month.
URL:https://livableraleigh.com/event/sustainability-wildlife-and-urban-trees-committee/
LOCATION:Raleigh Municipal Building\, 222 W. Hargett St.\, Raleigh\, NC\, 27601\, United States
CATEGORIES:Boards and Commissions
END:VEVENT
END:VCALENDAR