BEGIN:VCALENDAR
VERSION:2.0
PRODID:-//Livable Raleigh - ECPv6.15.20//NONSGML v1.0//EN
CALSCALE:GREGORIAN
METHOD:PUBLISH
X-WR-CALNAME:Livable Raleigh
X-ORIGINAL-URL:https://livableraleigh.com
X-WR-CALDESC:Events for Livable Raleigh
REFRESH-INTERVAL;VALUE=DURATION:PT1H
X-Robots-Tag:noindex
X-PUBLISHED-TTL:PT1H
BEGIN:VTIMEZONE
TZID:America/New_York
BEGIN:DAYLIGHT
TZOFFSETFROM:-0500
TZOFFSETTO:-0400
TZNAME:EDT
DTSTART:20220313T070000
END:DAYLIGHT
BEGIN:STANDARD
TZOFFSETFROM:-0400
TZOFFSETTO:-0500
TZNAME:EST
DTSTART:20221106T060000
END:STANDARD
BEGIN:DAYLIGHT
TZOFFSETFROM:-0500
TZOFFSETTO:-0400
TZNAME:EDT
DTSTART:20230312T070000
END:DAYLIGHT
BEGIN:STANDARD
TZOFFSETFROM:-0400
TZOFFSETTO:-0500
TZNAME:EST
DTSTART:20231105T060000
END:STANDARD
BEGIN:DAYLIGHT
TZOFFSETFROM:-0500
TZOFFSETTO:-0400
TZNAME:EDT
DTSTART:20240310T070000
END:DAYLIGHT
BEGIN:STANDARD
TZOFFSETFROM:-0400
TZOFFSETTO:-0500
TZNAME:EST
DTSTART:20241103T060000
END:STANDARD
END:VTIMEZONE
BEGIN:VEVENT
DTSTART;TZID=America/New_York:20231009T130000
DTEND;TZID=America/New_York:20231009T150000
DTSTAMP:20260424T121629
CREATED:20230902T145231Z
LAST-MODIFIED:20230929T151253Z
UID:32385-1696856400-1696863600@livableraleigh.com
SUMMARY:Board of Adjustment
DESCRIPTION:The City of Raleigh Board of Adjustment will conduct a public meeting on Monday\, October 9\, 2023\, at 1 p.m. in the City Council Chamber at the Raleigh Municipal Building\, 222 West Hargett Street. \nFor more information please contact Keegan McDonald or visit the Board of Adjustmentwebpage. \n\n1. OLD BUSINESS\n\n\nA. BOA-0021-2023: 2938 Glenridge Drive\, 2301 Watkins Street\nThis Agenda Item Contains an Attachment.\n\nB. BOA-0023-2023: 9525 Waterwood Court\nThis Agenda Item Contains an Attachment.\n\nC. BOA-0027-2023: 2921 Claremont Road\nThis Agenda Item Contains an Attachment.\n\nD. BOA-0028-2023: 0 Claremont Road (PIN 1705745333)\nThis Agenda Item Contains an Attachment.\n\n\n\n\n\n2. NEW BUSINESS\n\n\nA. BOA-0029-2023: 3408 Dell Drive\nThis Agenda Item Contains an Attachment.\n\nB. BOA-0030-2023: 5100 Forestville Road\nThis Agenda Item Contains an Attachment.\n\nC. BOA-0031-2023: 9508 Swepstone Lane\nThis Agenda Item Contains an Attachment.\n\nD. BOA-0032-2023: 1013 S. Wilmington Street\nThis Agenda Item Contains an Attachment.\n\nE. BOA-0033-2023: 210 Newton Road\nThis Agenda Item Contains an Attachment.\n\n\n\n\n\n3. REPORT OF THE BOARD’S ATTORNEY\n\n\n\n4. APPROVAL OF MINUTES\n\n\n\n5. ADJOURNMENT\n\nThe Raleigh Board of Adjustment is a quasi-judicial body that acts on appeals for variances\, special exceptions\, and interpretations in the zoning regulations. Its decisions are final but may be subject to court action. The Board consists of eight members: four regular members and two alternate members are appointed to two-year terms by the City Council and must reside within the City limits; one regular member and one alternate are appointed by Wake County Commissioners and must reside within the City’s extraterritorial jurisdiction. Established by City Code Section 24-48. \nBoard of Adjustment public meetings will be broadcast live on RTN 11 and on our live streaming webpage. To watch past meetings\, visit our video services page.
URL:https://livableraleigh.com/event/board-of-adjustment-9/
LOCATION:Raleigh Municipal Building\, 222 W. Hargett St.\, Raleigh\, NC\, 27601\, United States
CATEGORIES:Board of Adjustment
END:VEVENT
END:VCALENDAR