BEGIN:VCALENDAR
VERSION:2.0
PRODID:-//Livable Raleigh - ECPv6.15.20//NONSGML v1.0//EN
CALSCALE:GREGORIAN
METHOD:PUBLISH
X-ORIGINAL-URL:https://livableraleigh.com
X-WR-CALDESC:Events for Livable Raleigh
REFRESH-INTERVAL;VALUE=DURATION:PT1H
X-Robots-Tag:noindex
X-PUBLISHED-TTL:PT1H
BEGIN:VTIMEZONE
TZID:America/New_York
BEGIN:DAYLIGHT
TZOFFSETFROM:-0500
TZOFFSETTO:-0400
TZNAME:EDT
DTSTART:20230312T070000
END:DAYLIGHT
BEGIN:STANDARD
TZOFFSETFROM:-0400
TZOFFSETTO:-0500
TZNAME:EST
DTSTART:20231105T060000
END:STANDARD
BEGIN:DAYLIGHT
TZOFFSETFROM:-0500
TZOFFSETTO:-0400
TZNAME:EDT
DTSTART:20240310T070000
END:DAYLIGHT
BEGIN:STANDARD
TZOFFSETFROM:-0400
TZOFFSETTO:-0500
TZNAME:EST
DTSTART:20241103T060000
END:STANDARD
BEGIN:DAYLIGHT
TZOFFSETFROM:-0500
TZOFFSETTO:-0400
TZNAME:EDT
DTSTART:20250309T070000
END:DAYLIGHT
BEGIN:STANDARD
TZOFFSETFROM:-0400
TZOFFSETTO:-0500
TZNAME:EST
DTSTART:20251102T060000
END:STANDARD
END:VTIMEZONE
BEGIN:VEVENT
DTSTART;TZID=America/New_York:20240909T130000
DTEND;TZID=America/New_York:20240909T150000
DTSTAMP:20260420T064014
CREATED:20240803T013009Z
LAST-MODIFIED:20240830T103855Z
UID:39716-1725886800-1725894000@livableraleigh.com
SUMMARY:Board of Adjustment
DESCRIPTION:1. NEW BUSINESS\n\n\nA. BOA-0021-2024: 2701 S. Saunders St.\nThis Agenda Item Contains an Attachment.\n\nB. BOA-0040-2024: 2701 S. Saunders St.\nThis Agenda Item Contains an Attachment.\n\n\n\n\n\n2. REPORT OF THE BOARD’S ATTORNEY\n\n\n\n3. APPROVAL OF MINUTES\n\n\nA. Approval of Draft August 12\, 2024 Meeting Minutes\n\n\n\n\n\n\n4. ADJOURNMENT\n\nThe Raleigh Board of Adjustment is a quasi-judicial body that acts on appeals for variances\, special exceptions\, and interpretations in the zoning regulations. Its decisions are final but may be subject to court action. The Board consists of eight members: four regular members and two alternate members are appointed to two-year terms by the City Council and must reside within the City limits; one regular member and one alternate are appointed by Wake County Commissioners and must reside within the City’s extraterritorial jurisdiction. Established by City Code Section 24-48. \nBoard of Adjustment public meetings will be broadcast live on RTN 11 and on our live streaming webpage. To watch past meetings\, visit our video services page.
URL:https://livableraleigh.com/event/board-of-adjustment-20/
LOCATION:Raleigh Municipal Building\, 222 W. Hargett St.\, Raleigh\, NC\, 27601\, United States
CATEGORIES:Board of Adjustment
END:VEVENT
END:VCALENDAR