BEGIN:VCALENDAR
VERSION:2.0
PRODID:-//Livable Raleigh - ECPv6.15.20//NONSGML v1.0//EN
CALSCALE:GREGORIAN
METHOD:PUBLISH
X-ORIGINAL-URL:https://livableraleigh.com
X-WR-CALDESC:Events for Livable Raleigh
REFRESH-INTERVAL;VALUE=DURATION:PT1H
X-Robots-Tag:noindex
X-PUBLISHED-TTL:PT1H
BEGIN:VTIMEZONE
TZID:America/New_York
BEGIN:DAYLIGHT
TZOFFSETFROM:-0500
TZOFFSETTO:-0400
TZNAME:EDT
DTSTART:20230312T070000
END:DAYLIGHT
BEGIN:STANDARD
TZOFFSETFROM:-0400
TZOFFSETTO:-0500
TZNAME:EST
DTSTART:20231105T060000
END:STANDARD
BEGIN:DAYLIGHT
TZOFFSETFROM:-0500
TZOFFSETTO:-0400
TZNAME:EDT
DTSTART:20240310T070000
END:DAYLIGHT
BEGIN:STANDARD
TZOFFSETFROM:-0400
TZOFFSETTO:-0500
TZNAME:EST
DTSTART:20241103T060000
END:STANDARD
BEGIN:DAYLIGHT
TZOFFSETFROM:-0500
TZOFFSETTO:-0400
TZNAME:EDT
DTSTART:20250309T070000
END:DAYLIGHT
BEGIN:STANDARD
TZOFFSETFROM:-0400
TZOFFSETTO:-0500
TZNAME:EST
DTSTART:20251102T060000
END:STANDARD
END:VTIMEZONE
BEGIN:VEVENT
DTSTART;TZID=America/New_York:20240311T090000
DTEND;TZID=America/New_York:20240311T110000
DTSTAMP:20260423T133920
CREATED:20240202T204736Z
LAST-MODIFIED:20240301T190037Z
UID:36164-1710147600-1710154800@livableraleigh.com
SUMMARY:Board of Adjustment
DESCRIPTION:Public Meeting – March 11\, 2024\n\n\n\n\n\n\nThe City of Raleigh Board of Adjustment will conduct a public meeting on Monday\, March 11\, 2024\, at 9 a.m. in the City Council Chamber at the Raleigh Municipal Building\, 222 West Hargett Street. \nFor more information please contact Keegan McDonald or visit the Board of Adjustmentwebpage. \n\n1. Old Business\n\n\nA. BOA-0046-2023: 1620 Sunrise Avenue\nThis Agenda Item Contains an Attachment.\n\nB. BOA-0050-2023: 2504 Kenmore Drive\nThis Agenda Item Contains an Attachment.\n\n\n\n\n\n2. NEW BUSINESS\n\n\nA. BOA-0052-2023: 400 S Pettigrew Street\nThis Agenda Item Contains an Attachment.\n\nB. BOA-0001-2024: 9401 Glenwood Avenue\nThis Agenda Item Contains an Attachment.\n\nC. BOA-0002-2024: 5418 Chapel Hill Road\nThis Agenda Item Contains an Attachment.\n\nD. BOA-0003-2024: 4700 New Bern Avenue\nThis Agenda Item Contains an Attachment.\n\nE. BOA-0004-2024: 2051 Dunn Road\nThis Agenda Item Contains an Attachment.\n\nF. BOA-0005-2024: 1436 Rock Quarry Road\nThis Agenda Item Contains an Attachment.\n\nG. BOA-0006-2024: 3512 Constellation Drive\nThis Agenda Item Contains an Attachment.\n\n\n\n\n\n3. REPORT OF THE BOARD’S ATTORNEY\n\n\n\n4. APPROVAL OF MINUTES\n\n\nA. Approval of Draft February 12\, 2024 Meeting Minutes\n\n\n\n\n\n\n5. ADJOURNMENT\n\n\n\n\n\n\n\nThe Raleigh Board of Adjustment is a quasi-judicial body that acts on appeals for variances\, special exceptions\, and interpretations in the zoning regulations. Its decisions are final but may be subject to court action. The Board consists of eight members: four regular members and two alternate members are appointed to two-year terms by the City Council and must reside within the City limits; one regular member and one alternate are appointed by Wake County Commissioners and must reside within the City’s extraterritorial jurisdiction. Established by City Code Section 24-48. \nBoard of Adjustment public meetings will be broadcast live on RTN 11 and on our live streaming webpage. To watch past meetings\, visit our video services page.
URL:https://livableraleigh.com/event/board-of-adjustment-14/
LOCATION:Raleigh Municipal Building\, 222 W. Hargett St.\, Raleigh\, NC\, 27601\, United States
CATEGORIES:Board of Adjustment
END:VEVENT
END:VCALENDAR