BEGIN:VCALENDAR
VERSION:2.0
PRODID:-//Livable Raleigh - ECPv6.15.20//NONSGML v1.0//EN
CALSCALE:GREGORIAN
METHOD:PUBLISH
X-ORIGINAL-URL:https://livableraleigh.com
X-WR-CALDESC:Events for Livable Raleigh
REFRESH-INTERVAL;VALUE=DURATION:PT1H
X-Robots-Tag:noindex
X-PUBLISHED-TTL:PT1H
BEGIN:VTIMEZONE
TZID:America/New_York
BEGIN:DAYLIGHT
TZOFFSETFROM:-0500
TZOFFSETTO:-0400
TZNAME:EDT
DTSTART:20220313T070000
END:DAYLIGHT
BEGIN:STANDARD
TZOFFSETFROM:-0400
TZOFFSETTO:-0500
TZNAME:EST
DTSTART:20221106T060000
END:STANDARD
BEGIN:DAYLIGHT
TZOFFSETFROM:-0500
TZOFFSETTO:-0400
TZNAME:EDT
DTSTART:20230312T070000
END:DAYLIGHT
BEGIN:STANDARD
TZOFFSETFROM:-0400
TZOFFSETTO:-0500
TZNAME:EST
DTSTART:20231105T060000
END:STANDARD
BEGIN:DAYLIGHT
TZOFFSETFROM:-0500
TZOFFSETTO:-0400
TZNAME:EDT
DTSTART:20240310T070000
END:DAYLIGHT
BEGIN:STANDARD
TZOFFSETFROM:-0400
TZOFFSETTO:-0500
TZNAME:EST
DTSTART:20241103T060000
END:STANDARD
END:VTIMEZONE
BEGIN:VEVENT
DTSTART;TZID=America/New_York:20231023T120000
DTEND;TZID=America/New_York:20231023T130000
DTSTAMP:20260423T074818
CREATED:20230902T181022Z
LAST-MODIFIED:20230902T181022Z
UID:32432-1698062400-1698066000@livableraleigh.com
SUMMARY:BPAC Policy Committee
DESCRIPTION:The Policy Committee focuses on pedestrian-related issues such as sidewalk construction and maintenance\, crosswalk enforcement\, and pedestrian safety. \n\nMeeting Schedule: The forth Monday of every month at 12 p.m. unless otherwise specified\nMeeting Location: Raleigh Municipal Building\, Conference Room 419\nMembers: Joe Caruso (Chair)\, Kari Barsness\, Elizabeth Alley\n\nIf you are interested in viewing the meeting or making a public comment\, please contact Barbara.Godwin@raleighnc.gov.
URL:https://livableraleigh.com/event/bpac-policy-committee-5/
LOCATION:Raleigh Municipal Building\, 222 W. Hargett St.\, Raleigh\, NC\, 27601\, United States
CATEGORIES:Bicycle & Pedestrian Advisory Commission
END:VEVENT
BEGIN:VEVENT
DTSTART;TZID=America/New_York:20231016T180000
DTEND;TZID=America/New_York:20231016T200000
DTSTAMP:20260423T074818
CREATED:20230902T161107Z
LAST-MODIFIED:20230902T161107Z
UID:32410-1697479200-1697486400@livableraleigh.com
SUMMARY:Bicycle & Pedestrian Advisory Commission (BPAC)
DESCRIPTION:The Bicycle and Pedestrian Advisory Commission (BPAC) is an all-volunteer advisory body\, appointed by the Raleigh City Council. Members are responsible for making recommendations on the implementation of relevant programs\, policies\, regulations\, and funding priorities regarding walking and bicycling in Raleigh. \nMeets\nThe third Monday of every month\, unless otherwise specified.\n6 p.m.\nBPAC Agenda
URL:https://livableraleigh.com/event/bicycle-pedestrian-advisory-commission-bpac-8/
LOCATION:Raleigh Municipal Building\, 222 W. Hargett St.\, Raleigh\, NC\, 27601\, United States
CATEGORIES:Bicycle & Pedestrian Advisory Commission
END:VEVENT
BEGIN:VEVENT
DTSTART;TZID=America/New_York:20231012T140000
DTEND;TZID=America/New_York:20231012T150000
DTSTAMP:20260423T074818
CREATED:20230902T160758Z
LAST-MODIFIED:20230902T160758Z
UID:32404-1697119200-1697122800@livableraleigh.com
SUMMARY:BPAC Community Outreach Committee
DESCRIPTION:The Community Outreach Committee promotes and encourages public participation in bicycle- and pedestrian-related projects and initiatives. \n\nMeeting Schedule: The second Thursday of every month at 2 p.m. unless otherwise specified\nMeeting Location: Raleigh Municipal Building\, Conference Room 419\nMembers: Nick Neptune (Chair)\, Shakema McClean\, Brian Thomas\, Michael Thor\n\nIf you are interested in viewing the meeting or making a public comment\, please contact Barbara Godwin.
URL:https://livableraleigh.com/event/bpac-community-outreach-committee-4/
LOCATION:Raleigh Municipal Building\, 222 W. Hargett St.\, Raleigh\, NC\, 27601\, United States
CATEGORIES:Bicycle & Pedestrian Advisory Commission
END:VEVENT
BEGIN:VEVENT
DTSTART;TZID=America/New_York:20230926T170000
DTEND;TZID=America/New_York:20230926T190000
DTSTAMP:20260423T074818
CREATED:20230820T165434Z
LAST-MODIFIED:20230922T181349Z
UID:32083-1695747600-1695754800@livableraleigh.com
SUMMARY:BPAC Planning Committee -- Cancelled
DESCRIPTION:The Planning Committee focuses on bicycle-related issues such as bikeway design\, wayfinding\, and bicyclist safety. \n\nMeeting Schedule: The fourth Tuesday of every month at 5:15 p.m unless otherwise specified\nMeeting Location: Raleigh Municipal Building\, Conference Room 419\nMembers: Pierre Tong (Chair)\, Mary Jo Gellenbeck\, Celise Bravo-Taylor\, Tammy Stern\n\nIf you are interested in viewing the meeting or making a public comment\, please contact Barbara Godwin.
URL:https://livableraleigh.com/event/bpac-planning-committee-6/
LOCATION:Raleigh Municipal Building\, 222 W. Hargett St.\, Raleigh\, NC\, 27601\, United States
CATEGORIES:Bicycle & Pedestrian Advisory Commission
END:VEVENT
BEGIN:VEVENT
DTSTART;TZID=America/New_York:20230925T120000
DTEND;TZID=America/New_York:20230925T130000
DTSTAMP:20260423T074818
CREATED:20230923T143408Z
LAST-MODIFIED:20230923T143408Z
UID:33003-1695643200-1695646800@livableraleigh.com
SUMMARY:BPAC Policy Committee
DESCRIPTION:The Policy Committee focuses on pedestrian-related issues such as sidewalk construction and maintenance\, crosswalk enforcement\, and pedestrian safety. \n\nMeeting Schedule: The forth Monday of every month at 12 p.m. unless otherwise specified\nMeeting Location: Raleigh Municipal Building\, Conference Room 419\nMembers: Joe Caruso (Chair)\, Kari Barsness\, Elizabeth Alley\n\nIf you are interested in viewing the meeting or making a public comment\, please contact Barbara.Godwin@raleighnc.gov.
URL:https://livableraleigh.com/event/bpac-policy-committee-6/
LOCATION:Raleigh Municipal Building\, 222 W. Hargett St.\, Raleigh\, NC\, 27601\, United States
CATEGORIES:Bicycle & Pedestrian Advisory Commission
END:VEVENT
BEGIN:VEVENT
DTSTART;TZID=America/New_York:20230918T180000
DTEND;TZID=America/New_York:20230918T200000
DTSTAMP:20260423T074818
CREATED:20230820T143306Z
LAST-MODIFIED:20230820T143306Z
UID:32047-1695060000-1695067200@livableraleigh.com
SUMMARY:Bicycle & Pedestrian Advisory Commission (BPAC)
DESCRIPTION:The Bicycle and Pedestrian Advisory Commission (BPAC) is an all-volunteer advisory body\, appointed by the Raleigh City Council. Members are responsible for making recommendations on the implementation of relevant programs\, policies\, regulations\, and funding priorities regarding walking and bicycling in Raleigh. \nMeets\nThe third Monday of every month\, unless otherwise specified.\n6 p.m.\nBPAC Agenda
URL:https://livableraleigh.com/event/bicycle-pedestrian-advisory-commission-bpac-7/
LOCATION:Raleigh Municipal Building\, 222 W. Hargett St.\, Raleigh\, NC\, 27601\, United States
CATEGORIES:Bicycle & Pedestrian Advisory Commission
END:VEVENT
BEGIN:VEVENT
DTSTART;TZID=America/New_York:20230914T140000
DTEND;TZID=America/New_York:20230914T150000
DTSTAMP:20260423T074818
CREATED:20230820T135135Z
LAST-MODIFIED:20230914T122946Z
UID:32029-1694700000-1694703600@livableraleigh.com
SUMMARY:BPAC Community Outreach Committee -- CANCELLED
DESCRIPTION:The Community Outreach Committee promotes and encourages public participation in bicycle- and pedestrian-related projects and initiatives. \n\nMeeting Schedule: The second Thursday of every month at 2 p.m. unless otherwise specified\nMeeting Location: Raleigh Municipal Building\, Conference Room 419\nMembers: Nick Neptune (Chair)\, Shakema McClean\, Brian Thomas\, Michael Thor\n\nIf you are interested in viewing the meeting or making a public comment\, please contact Barbara Godwin.
URL:https://livableraleigh.com/event/bpac-community-outreach-committee-3/
LOCATION:Raleigh Municipal Building\, 222 W. Hargett St.\, Raleigh\, NC\, 27601\, United States
CATEGORIES:Bicycle & Pedestrian Advisory Commission
END:VEVENT
BEGIN:VEVENT
DTSTART;TZID=America/New_York:20230821T180000
DTEND;TZID=America/New_York:20230821T200000
DTSTAMP:20260423T074818
CREATED:20230820T123337Z
LAST-MODIFIED:20230820T123337Z
UID:31972-1692640800-1692648000@livableraleigh.com
SUMMARY:Bicycle & Pedestrian Advisory Commission (BPAC)
DESCRIPTION:The Bicycle and Pedestrian Advisory Commission (BPAC) is an all-volunteer advisory body\, appointed by the Raleigh City Council. Members are responsible for making recommendations on the implementation of relevant programs\, policies\, regulations\, and funding priorities regarding walking and bicycling in Raleigh. \nMeets\nThe third Monday of every month\, unless otherwise specified.\n6 p.m.\nBPAC Agenda
URL:https://livableraleigh.com/event/bicycle-pedestrian-advisory-commission-bpac-6/
LOCATION:Raleigh Municipal Building\, 222 W. Hargett St.\, Raleigh\, NC\, 27601\, United States
CATEGORIES:Bicycle & Pedestrian Advisory Commission
END:VEVENT
BEGIN:VEVENT
DTSTART;TZID=America/New_York:20230627T180000
DTEND;TZID=America/New_York:20230627T200000
DTSTAMP:20260423T074818
CREATED:20230603T121658Z
LAST-MODIFIED:20230603T121658Z
UID:30409-1687888800-1687896000@livableraleigh.com
SUMMARY:Bicycle & Pedestrian Advisory Commission (BPAC)
DESCRIPTION:The Bicycle and Pedestrian Advisory Commission (BPAC) is an all-volunteer advisory body\, appointed by the Raleigh City Council. Members are responsible for making recommendations on the implementation of relevant programs\, policies\, regulations\, and funding priorities regarding walking and bicycling in Raleigh. \nMeets\nThe third Monday of every month\, unless otherwise specified.\n6 p.m.\nBPAC Agenda
URL:https://livableraleigh.com/event/bicycle-pedestrian-advisory-commission-bpac-5/
LOCATION:Raleigh Municipal Building\, 222 W. Hargett St.\, Raleigh\, NC\, 27601\, United States
CATEGORIES:Bicycle & Pedestrian Advisory Commission
END:VEVENT
BEGIN:VEVENT
DTSTART;TZID=America/New_York:20230627T170000
DTEND;TZID=America/New_York:20230627T190000
DTSTAMP:20260423T074818
CREATED:20230521T013256Z
LAST-MODIFIED:20230621T145903Z
UID:30181-1687885200-1687892400@livableraleigh.com
SUMMARY:BPAC Planning Committee -- CANCELLED
DESCRIPTION:The Planning Committee focuses on bicycle-related issues such as bikeway design\, wayfinding\, and bicyclist safety. \n\nMeeting Schedule: The fourth Tuesday of every month at 5:15 p.m unless otherwise specified\nMeeting Location: Raleigh Municipal Building\, Conference Room 419\nMembers: Pierre Tong (Chair)\, Mary Jo Gellenbeck\, Celise Bravo-Taylor\, Tammy Stern\n\nIf you are interested in viewing the meeting or making a public comment\, please contact Barbara Godwin.
URL:https://livableraleigh.com/event/bpac-planning-committee-5/
LOCATION:Raleigh Municipal Building\, 222 W. Hargett St.\, Raleigh\, NC\, 27601\, United States
CATEGORIES:Bicycle & Pedestrian Advisory Commission
END:VEVENT
BEGIN:VEVENT
DTSTART;TZID=America/New_York:20230626T120000
DTEND;TZID=America/New_York:20230626T130000
DTSTAMP:20260423T074818
CREATED:20230521T011350Z
LAST-MODIFIED:20230521T011350Z
UID:30171-1687780800-1687784400@livableraleigh.com
SUMMARY:BPAC Policy Committee
DESCRIPTION:The Policy Committee focuses on pedestrian-related issues such as sidewalk construction and maintenance\, crosswalk enforcement\, and pedestrian safety. \n\nMeeting Schedule: The forth Monday of every month at 12 p.m. unless otherwise specified\nMeeting Location: Raleigh Municipal Building\, Conference Room 419\nMembers: Joe Caruso (Chair)\, Kari Barsness\, Elizabeth Alley\n\nIf you are interested in viewing the meeting or making a public comment\, please contact Barbara.Godwin@raleighnc.gov.
URL:https://livableraleigh.com/event/bpac-policy-committee-4/
LOCATION:Raleigh Municipal Building\, 222 W. Hargett St.\, Raleigh\, NC\, 27601\, United States
CATEGORIES:Bicycle & Pedestrian Advisory Commission
END:VEVENT
BEGIN:VEVENT
DTSTART;TZID=America/New_York:20230608T140000
DTEND;TZID=America/New_York:20230608T150000
DTSTAMP:20260423T074818
CREATED:20230520T130451Z
LAST-MODIFIED:20230608T134941Z
UID:30114-1686232800-1686236400@livableraleigh.com
SUMMARY:BPAC Community Outreach Committee - CANCELLED
DESCRIPTION:THIS MEETING HAS BEEN CANCELLED \nThe Community Outreach Committee promotes and encourages public participation in bicycle- and pedestrian-related projects and initiatives. \n\nMeeting Schedule: The second Thursday of every month at 2 p.m. unless otherwise specified\nMeeting Location: Raleigh Municipal Building\, Conference Room 419\nMembers: Nick Neptune (Chair)\, Shakema McClean\, Brian Thomas\, Michael Thor\n\nIf you are interested in viewing the meeting or making a public comment\, please contact Barbara Godwin.
URL:https://livableraleigh.com/event/bpac-community-outreach-committee-2/
LOCATION:Raleigh Municipal Building\, 222 W. Hargett St.\, Raleigh\, NC\, 27601\, United States
CATEGORIES:Bicycle & Pedestrian Advisory Commission
END:VEVENT
BEGIN:VEVENT
DTSTART;TZID=America/New_York:20230523T170000
DTEND;TZID=America/New_York:20230523T190000
DTSTAMP:20260423T074818
CREATED:20230429T165426Z
LAST-MODIFIED:20230429T165426Z
UID:29598-1684861200-1684868400@livableraleigh.com
SUMMARY:BPAC Planning Committee
DESCRIPTION:The Planning Committee focuses on bicycle-related issues such as bikeway design\, wayfinding\, and bicyclist safety. \n\nMeeting Schedule: The fourth Tuesday of every month at 5:15 p.m unless otherwise specified\nMeeting Location: Raleigh Municipal Building\, Conference Room 419\nMembers: Pierre Tong (Chair)\, Mary Jo Gellenbeck\, Celise Bravo-Taylor\, Tammy Stern\n\nIf you are interested in viewing the meeting or making a public comment\, please contact Barbara Godwin.
URL:https://livableraleigh.com/event/bpac-planning-committee-4/
LOCATION:Raleigh Municipal Building\, 222 W. Hargett St.\, Raleigh\, NC\, 27601\, United States
CATEGORIES:Bicycle & Pedestrian Advisory Commission
END:VEVENT
BEGIN:VEVENT
DTSTART;TZID=America/New_York:20230522T120000
DTEND;TZID=America/New_York:20230522T130000
DTSTAMP:20260423T074818
CREATED:20230429T165316Z
LAST-MODIFIED:20230522T133329Z
UID:29596-1684756800-1684760400@livableraleigh.com
SUMMARY:BPAC Policy Committee -- to be rescheduled
DESCRIPTION:The Policy Committee focuses on pedestrian-related issues such as sidewalk construction and maintenance\, crosswalk enforcement\, and pedestrian safety. \n\nMeeting Schedule: The forth Monday of every month at 12 p.m. unless otherwise specified\nMeeting Location: Raleigh Municipal Building\, Conference Room 419\nMembers: Joe Caruso (Chair)\, Kari Barsness\, Elizabeth Alley\n\nIf you are interested in viewing the meeting or making a public comment\, please contact Barbara.Godwin@raleighnc.gov
URL:https://livableraleigh.com/event/bpac-policy-committee-3/
LOCATION:Raleigh Municipal Building\, 222 W. Hargett St.\, Raleigh\, NC\, 27601\, United States
CATEGORIES:Bicycle & Pedestrian Advisory Commission
END:VEVENT
BEGIN:VEVENT
DTSTART;TZID=America/New_York:20230519T090000
DTEND;TZID=America/New_York:20230519T120000
DTSTAMP:20260423T074818
CREATED:20230429T165143Z
LAST-MODIFIED:20230429T165143Z
UID:29593-1684486800-1684497600@livableraleigh.com
SUMMARY:Bicycle & Pedestrian Advisory Commission (BPAC) Annual Retreat
DESCRIPTION:The Bicycle and Pedestrian Advisory Commission (BPAC) is an all-volunteer advisory body\, appointed by the Raleigh City Council. Members are responsible for making recommendations on the implementation of relevant programs\, policies\, regulations\, and funding priorities regarding walking and bicycling in Raleigh. \nMeets\nThe third Monday of every month\, unless otherwise specified.\n6 p.m.\nBPAC Agenda
URL:https://livableraleigh.com/event/bicycle-pedestrian-advisory-commission-bpac-annual-retreat/
LOCATION:Dix Park Flower Cottage\, 210 Umstead Dr\, Raleigh\, NC\, 27603
CATEGORIES:Bicycle & Pedestrian Advisory Commission
END:VEVENT
BEGIN:VEVENT
DTSTART;TZID=America/New_York:20230511T140000
DTEND;TZID=America/New_York:20230511T150000
DTSTAMP:20260423T074818
CREATED:20230429T164719Z
LAST-MODIFIED:20230510T204607Z
UID:29589-1683813600-1683817200@livableraleigh.com
SUMMARY:BPAC Community Outreach Committee -- CANCELLED
DESCRIPTION:The Community Outreach Committee promotes and encourages public participation in bicycle- and pedestrian-related projects and initiatives. \n\nMeeting Schedule: The second Thursday of every month at 2 p.m. unless otherwise specified\nMeeting Location: Raleigh Municipal Building\, Conference Room 419\nMembers: Nick Neptune (Chair)\, Shakema McClean\, Brian Thomas\, Michael Thor\n\nIf you are interested in viewing the meeting or making a public comment\, please contact Barbara Godwin.
URL:https://livableraleigh.com/event/bpac-community-outreach-committee/
LOCATION:Raleigh Municipal Building\, 222 W. Hargett St.\, Raleigh\, NC\, 27601\, United States
CATEGORIES:Bicycle & Pedestrian Advisory Commission
END:VEVENT
BEGIN:VEVENT
DTSTART;TZID=America/New_York:20230425T170000
DTEND;TZID=America/New_York:20230425T183000
DTSTAMP:20260423T074818
CREATED:20230318T131539Z
LAST-MODIFIED:20230318T131539Z
UID:28769-1682442000-1682447400@livableraleigh.com
SUMMARY:BPAC Planning Committee
DESCRIPTION:The Planning Committee focuses on bicycle-related issues such as bikeway design\, wayfinding\, and bicyclist safety. \n\nMeeting Schedule: The fourth Tuesday of every month at 5:15 p.m unless otherwise specified\nMeeting Location: Raleigh Municipal Building\, Conference Room 419\nMembers: Pierre Tong (Chair)\, Mary Jo Gellenbeck\, Celise Bravo-Taylor\, Tammy Stern\n\nIf you are interested in viewing the meeting or making a public comment\, please contact Fontaine Burruss.
URL:https://livableraleigh.com/event/bpac-planning-committee-3/
LOCATION:Raleigh Municipal Building\, 222 W. Hargett St.\, Raleigh\, NC\, 27601\, United States
CATEGORIES:Bicycle & Pedestrian Advisory Commission
END:VEVENT
BEGIN:VEVENT
DTSTART;TZID=America/New_York:20230424T120000
DTEND;TZID=America/New_York:20230424T133000
DTSTAMP:20260423T074818
CREATED:20230318T130754Z
LAST-MODIFIED:20230424T224325Z
UID:28763-1682337600-1682343000@livableraleigh.com
SUMMARY:BPAC Policy Committee -- canceled
DESCRIPTION:The Policy Committee focuses on pedestrian-related issues such as sidewalk construction and maintenance\, crosswalk enforcement\, and pedestrian safety. \n\nMeeting Schedule: The forth Monday of every month at 12 p.m. unless otherwise specified\nMeeting Location: Raleigh Municipal Building\, Conference Room 419\nMembers: Joe Caruso (Chair)\, Kari Barsness\, Elizabeth Alley\n\nIf you are interested in viewing the meeting or making a public comment\, please contact Barbara.Godwin@raleighnc.gov.
URL:https://livableraleigh.com/event/bpac-policy-committee-2/
LOCATION:Raleigh Municipal Building\, 222 W. Hargett St.\, Raleigh\, NC\, 27601\, United States
CATEGORIES:Bicycle & Pedestrian Advisory Commission
END:VEVENT
BEGIN:VEVENT
DTSTART;TZID=America/New_York:20230417T180000
DTEND;TZID=America/New_York:20230417T200000
DTSTAMP:20260423T074818
CREATED:20230310T002844Z
LAST-MODIFIED:20230310T002844Z
UID:28418-1681754400-1681761600@livableraleigh.com
SUMMARY:Bicycle & Pedestrian Advisory Commission (BPAC)
DESCRIPTION:The Bicycle and Pedestrian Advisory Commission (BPAC) is an all-volunteer advisory body\, appointed by the Raleigh City Council. Members are responsible for making recommendations on the implementation of relevant programs\, policies\, regulations\, and funding priorities regarding walking and bicycling in Raleigh. \nMeets\nThe third Monday of every month\, unless otherwise specified.\n6 p.m.\nBPAC Agenda
URL:https://livableraleigh.com/event/bicycle-pedestrian-advisory-commission-bpac-4/
LOCATION:Raleigh Municipal Building\, 222 W. Hargett St.\, Raleigh\, NC\, 27601\, United States
CATEGORIES:Bicycle & Pedestrian Advisory Commission
END:VEVENT
BEGIN:VEVENT
DTSTART;TZID=America/New_York:20230413T140000
DTEND;TZID=America/New_York:20230413T153000
DTSTAMP:20260423T074818
CREATED:20230310T002348Z
LAST-MODIFIED:20230311T135209Z
UID:28410-1681394400-1681399800@livableraleigh.com
SUMMARY:Community Outreach Committee
DESCRIPTION:The Community Outreach Committee promotes and encourages public participation in bicycle- and pedestrian-related projects and initiatives. \n\nMeeting Schedule: The second Thursday of every month at 2 p.m. unless otherwise specified\nMeeting Location: Raleigh Municipal Building\, Conference Room 419\nMembers: Nick Neptune (Chair)\, Shakema McClean\, Brian Thomas\, Michael Thor\n\nIf you are interested in viewing the meeting or making a public comment\, please contact Barbara Godwin.
URL:https://livableraleigh.com/event/community-outreach-committee-2/
LOCATION:Raleigh Municipal Building\, 222 W. Hargett St.\, Raleigh\, NC\, 27601\, United States
CATEGORIES:Bicycle & Pedestrian Advisory Commission
END:VEVENT
BEGIN:VEVENT
DTSTART;TZID=America/New_York:20230328T170000
DTEND;TZID=America/New_York:20230328T190000
DTSTAMP:20260423T074818
CREATED:20230226T140428Z
LAST-MODIFIED:20230226T140428Z
UID:28018-1680022800-1680030000@livableraleigh.com
SUMMARY:BPAC Planning Committee
DESCRIPTION:The Planning Committee focuses on bicycle-related issues such as bikeway design\, wayfinding\, and bicyclist safety. \n\nMeeting Schedule: The fourth Tuesday of every month at 5:15 p.m unless otherwise specified\nMeeting Location: Raleigh Municipal Building\, Conference Room 419\nMembers: Pierre Tong (Chair)\, Mary Jo Gellenbeck\, Celise Bravo-Taylor\, Tammy Stern\n\nIf you are interested in viewing the meeting or making a public comment\, please contact Fontaine Burruss.
URL:https://livableraleigh.com/event/bpac-planning-committee-2/
LOCATION:Raleigh Municipal Building\, 222 W. Hargett St.\, Raleigh\, NC\, 27601\, United States
CATEGORIES:Bicycle & Pedestrian Advisory Commission
END:VEVENT
BEGIN:VEVENT
DTSTART;TZID=America/New_York:20230327T120000
DTEND;TZID=America/New_York:20230327T133000
DTSTAMP:20260423T074818
CREATED:20230226T140328Z
LAST-MODIFIED:20230226T140328Z
UID:28016-1679918400-1679923800@livableraleigh.com
SUMMARY:BPAC Policy Committee
DESCRIPTION:The Policy Committee focuses on pedestrian-related issues such as sidewalk construction and maintenance\, crosswalk enforcement\, and pedestrian safety. \n\nMeeting Schedule: The forth Monday of every month at 12 p.m. unless otherwise specified\nMeeting Location: Raleigh Municipal Building\, Conference Room 419\nMembers: Joe Caruso (Chair)\, Kari Barsness\, Elizabeth Alley\n\nIf you are interested in viewing the meeting or making a public comment\, please contact Barbara.Godwin@raleighnc.gov.
URL:https://livableraleigh.com/event/bpac-policy-committee/
LOCATION:Raleigh Municipal Building\, 222 W. Hargett St.\, Raleigh\, NC\, 27601\, United States
CATEGORIES:Bicycle & Pedestrian Advisory Commission
END:VEVENT
BEGIN:VEVENT
DTSTART;TZID=America/New_York:20230320T180000
DTEND;TZID=America/New_York:20230320T200000
DTSTAMP:20260423T074818
CREATED:20230226T140050Z
LAST-MODIFIED:20230226T140050Z
UID:28014-1679335200-1679342400@livableraleigh.com
SUMMARY:Bicycle & Pedestrian Advisory Commission (BPAC)
DESCRIPTION:The Bicycle and Pedestrian Advisory Commission (BPAC) is an all-volunteer advisory body\, appointed by the Raleigh City Council. Members are responsible for making recommendations on the implementation of relevant programs\, policies\, regulations\, and funding priorities regarding walking and bicycling in Raleigh. \nMeets\nThe third Monday of every month\, unless otherwise specified.\n6 p.m.\nBPAC Agenda
URL:https://livableraleigh.com/event/bicycle-pedestrian-advisory-commission-bpac-3/
LOCATION:Raleigh Municipal Building\, 222 W. Hargett St.\, Raleigh\, NC\, 27601\, United States
CATEGORIES:Bicycle & Pedestrian Advisory Commission
END:VEVENT
BEGIN:VEVENT
DTSTART;TZID=America/New_York:20230306T171500
DTEND;TZID=America/New_York:20230306T181500
DTSTAMP:20260423T074818
CREATED:20230227T172407Z
LAST-MODIFIED:20230227T172407Z
UID:28047-1678122900-1678126500@livableraleigh.com
SUMMARY:BPAC Bike Lane Sweeper Committee
DESCRIPTION:View as a web page \n \n \n  \nBike Lane Sweeper Pilot Committee\n \nThe Bike Lane Sweeper Pilot Committee is a sub-committee of BPAC\, currently meeting on an ad-hoc basis. \nThe committee’s objective is to select streets that will participate in a pilot program for the new bike lane sweeper equipment\, purchased to keep bike lanes clear of debris. \nNext Meeting: Monday\, March 6 at 5:15 p.m.\, Raleigh Municipal Building\, Conf. Room 419 \nIf you have any questions\, please contact Barbara.Godwin@raleighnc.gov. \n 
URL:https://livableraleigh.com/event/bpac-bike-lane-sweeper-committee/
LOCATION:Raleigh Municipal Building\, 222 W. Hargett St.\, Raleigh\, NC\, 27601\, United States
CATEGORIES:Bicycle & Pedestrian Advisory Commission
END:VEVENT
BEGIN:VEVENT
DTSTART;TZID=America/New_York:20230228T170000
DTEND;TZID=America/New_York:20230228T183000
DTSTAMP:20260423T074818
CREATED:20230215T003107Z
LAST-MODIFIED:20230215T003107Z
UID:27479-1677603600-1677609000@livableraleigh.com
SUMMARY:BPAC Planning Committee
DESCRIPTION:The Planning Committee focuses on bicycle-related issues such as bikeway design\, wayfinding\, and bicyclist safety. \n\nMeeting Schedule: The fourth Tuesday of every month at 5:15 p.m unless otherwise specified\nMeeting Location: Raleigh Municipal Building\, Conference Room 419\nMembers: Pierre Tong (Chair)\, Mary Jo Gellenbeck\, Celise Bravo-Taylor\, Tammy Stern\n\nIf you are interested in viewing the meeting or making a public comment\, please contact Fontaine Burruss.
URL:https://livableraleigh.com/event/bpac-planning-committee/
LOCATION:Raleigh Municipal Building\, 222 W. Hargett St.\, Raleigh\, NC\, 27601\, United States
CATEGORIES:Bicycle & Pedestrian Advisory Commission
END:VEVENT
BEGIN:VEVENT
DTSTART;TZID=America/New_York:20230220T180000
DTEND;TZID=America/New_York:20230220T200000
DTSTAMP:20260423T074818
CREATED:20230120T023117Z
LAST-MODIFIED:20230120T023117Z
UID:26920-1676916000-1676923200@livableraleigh.com
SUMMARY:Bicycle & Pedestrian Advisory Commission (BPAC)
DESCRIPTION:The Bicycle and Pedestrian Advisory Commission (BPAC) is an all-volunteer advisory body\, appointed by the Raleigh City Council. Members are responsible for making recommendations on the implementation of relevant programs\, policies\, regulations\, and funding priorities regarding walking and bicycling in Raleigh. \nMeets\nThe third Monday of every month\, unless otherwise specified.\n6 p.m.
URL:https://livableraleigh.com/event/bicycle-pedestrian-advisory-commission-bpac-2/
LOCATION:NC
CATEGORIES:Bicycle & Pedestrian Advisory Commission
END:VEVENT
BEGIN:VEVENT
DTSTART;TZID=America/New_York:20230123T180000
DTEND;TZID=America/New_York:20230123T200000
DTSTAMP:20260423T074818
CREATED:20230120T010312Z
LAST-MODIFIED:20230120T010312Z
UID:26867-1674496800-1674504000@livableraleigh.com
SUMMARY:Bicycle & Pedestrian Advisory Commission (BPAC)
DESCRIPTION:The Bicycle and Pedestrian Advisory Commission (BPAC) is an all-volunteer advisory body\, appointed by the Raleigh City Council. Members are responsible for making recommendations on the implementation of relevant programs\, policies\, regulations\, and funding priorities regarding walking and bicycling in Raleigh. \nMeets\nThe third Monday of every month\, unless otherwise specified.\n6 p.m.
URL:https://livableraleigh.com/event/bicycle-pedestrian-advisory-commission-bpac/
LOCATION:NC
CATEGORIES:Bicycle & Pedestrian Advisory Commission
END:VEVENT
END:VCALENDAR