BEGIN:VCALENDAR
VERSION:2.0
PRODID:-//Livable Raleigh - ECPv6.15.20//NONSGML v1.0//EN
CALSCALE:GREGORIAN
METHOD:PUBLISH
X-WR-CALNAME:Livable Raleigh
X-ORIGINAL-URL:https://livableraleigh.com
X-WR-CALDESC:Events for Livable Raleigh
REFRESH-INTERVAL;VALUE=DURATION:PT1H
X-Robots-Tag:noindex
X-PUBLISHED-TTL:PT1H
BEGIN:VTIMEZONE
TZID:America/New_York
BEGIN:DAYLIGHT
TZOFFSETFROM:-0500
TZOFFSETTO:-0400
TZNAME:EDT
DTSTART:20240310T070000
END:DAYLIGHT
BEGIN:STANDARD
TZOFFSETFROM:-0400
TZOFFSETTO:-0500
TZNAME:EST
DTSTART:20241103T060000
END:STANDARD
BEGIN:DAYLIGHT
TZOFFSETFROM:-0500
TZOFFSETTO:-0400
TZNAME:EDT
DTSTART:20250309T070000
END:DAYLIGHT
BEGIN:STANDARD
TZOFFSETFROM:-0400
TZOFFSETTO:-0500
TZNAME:EST
DTSTART:20251102T060000
END:STANDARD
BEGIN:DAYLIGHT
TZOFFSETFROM:-0500
TZOFFSETTO:-0400
TZNAME:EDT
DTSTART:20260308T070000
END:DAYLIGHT
BEGIN:STANDARD
TZOFFSETFROM:-0400
TZOFFSETTO:-0500
TZNAME:EST
DTSTART:20261101T060000
END:STANDARD
END:VTIMEZONE
BEGIN:VEVENT
DTSTART;TZID=America/New_York:20251009T140000
DTEND;TZID=America/New_York:20251009T150000
DTSTAMP:20260419T160917
CREATED:20250911T003958Z
LAST-MODIFIED:20251003T152339Z
UID:48088-1760018400-1760022000@livableraleigh.com
SUMMARY:BPAC Community Outreach Committee - cancelled
DESCRIPTION:The Community Outreach Committee promotes and encourages public participation in bicycle- and pedestrian-related projects and initiatives. \n\nMeeting Schedule: The second Thursday of every month at 2 p.m. unless otherwise specified\nMeeting Location: Raleigh Municipal Building\, Conference Room 419\nMembers:  Brian Thomas (Chair)\, Nick Neptune\,  Michael Thor\n\nIf you are interested in viewing the meeting or making a public comment\, please contact Barbara Godwin.
URL:https://livableraleigh.com/event/bpac-community-outreach-committee-19/
LOCATION:Raleigh Municipal Building\, 222 W. Hargett St.\, Raleigh\, NC\, 27601\, United States
CATEGORIES:Bicycle & Pedestrian Advisory Commission
END:VEVENT
BEGIN:VEVENT
DTSTART;TZID=America/New_York:20251020T180000
DTEND;TZID=America/New_York:20251020T203000
DTSTAMP:20260419T160917
CREATED:20250912T154434Z
LAST-MODIFIED:20251017T223254Z
UID:48148-1760983200-1760992200@livableraleigh.com
SUMMARY:Bicycle & Pedestrian Advisory Commission (BPAC) -- cancelled
DESCRIPTION:The Bicycle and Pedestrian Advisory Commission (BPAC) is an all-volunteer advisory body\, appointed by the Raleigh City Council. Members are responsible for making recommendations on the implementation of relevant programs\, policies\, regulations\, and funding priorities regarding walking and bicycling in Raleigh. \nMeets\nThe third Monday of every month\, unless otherwise specified.\n6 p.m.\nBPAC Agenda
URL:https://livableraleigh.com/event/bicycle-pedestrian-advisory-commission-bpac-25/
LOCATION:Raleigh Municipal Building\, 222 W. Hargett St.\, Raleigh\, NC\, 27601\, United States
CATEGORIES:Bicycle & Pedestrian Advisory Commission
END:VEVENT
BEGIN:VEVENT
DTSTART;TZID=America/New_York:20251028T160000
DTEND;TZID=America/New_York:20251028T170000
DTSTAMP:20260419T160917
CREATED:20250912T161321Z
LAST-MODIFIED:20251028T200944Z
UID:48188-1761667200-1761670800@livableraleigh.com
SUMMARY:BPAC Policy Committee -- cancelled
DESCRIPTION:The Policy Committee focuses on pedestrian-related issues such as sidewalk construction and maintenance\, crosswalk enforcement\, and pedestrian safety. \n\nMeeting Schedule: The forth Tuesday of every month at 4 p.m. unless otherwise specified\nMeeting Location: Raleigh Municipal Building\, Conference Room 419\nMembers: Joe Caruso (Chair)\, Kari Barsness\, Elizabeth Alley\, Alex Rotenberry\n\nIf you are interested in viewing the meeting or making a public comment\, please contact Barbara.Godwin@raleighnc.gov.
URL:https://livableraleigh.com/event/bpac-policy-committee-19/
LOCATION:Raleigh Municipal Building\, 222 W. Hargett St.\, Raleigh\, NC\, 27601\, United States
CATEGORIES:Bicycle & Pedestrian Advisory Commission
END:VEVENT
BEGIN:VEVENT
DTSTART;TZID=America/New_York:20251028T170000
DTEND;TZID=America/New_York:20251028T190000
DTSTAMP:20260419T160917
CREATED:20250912T161534Z
LAST-MODIFIED:20251028T201034Z
UID:48192-1761670800-1761678000@livableraleigh.com
SUMMARY:BPAC Planning Committee -- cancelled
DESCRIPTION:The Planning Committee focuses on bicycle-related issues such as bikeway design\, wayfinding\, and bicyclist safety. \n\nMeeting Schedule: The fourth Tuesday of every month at 5:15 p.m unless otherwise specified\nMeeting Location: Raleigh Municipal Building\, Conference Room 419\nMembers: Pierre Tong (Chair)\, Mary Jo Gellenbeck\, Celise Bravo-Taylor\, Tammy Stern\n\nIf you are interested in viewing the meeting or making a public comment\, please contact Barbara Godwin.
URL:https://livableraleigh.com/event/bpac-planning-committee-24/
LOCATION:Raleigh Municipal Building\, 222 W. Hargett St.\, Raleigh\, NC\, 27601\, United States
CATEGORIES:Bicycle & Pedestrian Advisory Commission
END:VEVENT
END:VCALENDAR