BEGIN:VCALENDAR
VERSION:2.0
PRODID:-//Livable Raleigh - ECPv6.15.20//NONSGML v1.0//EN
CALSCALE:GREGORIAN
METHOD:PUBLISH
X-ORIGINAL-URL:https://livableraleigh.com
X-WR-CALDESC:Events for Livable Raleigh
REFRESH-INTERVAL;VALUE=DURATION:PT1H
X-Robots-Tag:noindex
X-PUBLISHED-TTL:PT1H
BEGIN:VTIMEZONE
TZID:America/New_York
BEGIN:DAYLIGHT
TZOFFSETFROM:-0500
TZOFFSETTO:-0400
TZNAME:EDT
DTSTART:20240310T070000
END:DAYLIGHT
BEGIN:STANDARD
TZOFFSETFROM:-0400
TZOFFSETTO:-0500
TZNAME:EST
DTSTART:20241103T060000
END:STANDARD
BEGIN:DAYLIGHT
TZOFFSETFROM:-0500
TZOFFSETTO:-0400
TZNAME:EDT
DTSTART:20250309T070000
END:DAYLIGHT
BEGIN:STANDARD
TZOFFSETFROM:-0400
TZOFFSETTO:-0500
TZNAME:EST
DTSTART:20251102T060000
END:STANDARD
BEGIN:DAYLIGHT
TZOFFSETFROM:-0500
TZOFFSETTO:-0400
TZNAME:EDT
DTSTART:20260308T070000
END:DAYLIGHT
BEGIN:STANDARD
TZOFFSETFROM:-0400
TZOFFSETTO:-0500
TZNAME:EST
DTSTART:20261101T060000
END:STANDARD
END:VTIMEZONE
BEGIN:VEVENT
DTSTART;TZID=America/New_York:20250911T140000
DTEND;TZID=America/New_York:20250911T150000
DTSTAMP:20260419T150538
CREATED:20250830T190758Z
LAST-MODIFIED:20250830T190758Z
UID:47628-1757599200-1757602800@livableraleigh.com
SUMMARY:BPAC Community Outreach Committee
DESCRIPTION:The Community Outreach Committee promotes and encourages public participation in bicycle- and pedestrian-related projects and initiatives. \n\nMeeting Schedule: The second Thursday of every month at 2 p.m. unless otherwise specified\nMeeting Location: Raleigh Municipal Building\, Conference Room 419\nMembers:  Brian Thomas (Chair)\, Nick Neptune\,  Michael Thor\n\nIf you are interested in viewing the meeting or making a public comment\, please contact Barbara Godwin.
URL:https://livableraleigh.com/event/bpac-community-outreach-committee-18/
LOCATION:Raleigh Municipal Building\, 222 W. Hargett St.\, Raleigh\, NC\, 27601\, United States
CATEGORIES:Bicycle & Pedestrian Advisory Commission
END:VEVENT
BEGIN:VEVENT
DTSTART;TZID=America/New_York:20250915T180000
DTEND;TZID=America/New_York:20250915T203000
DTSTAMP:20260419T150538
CREATED:20250830T190934Z
LAST-MODIFIED:20250830T190934Z
UID:47630-1757959200-1757968200@livableraleigh.com
SUMMARY:Bicycle & Pedestrian Advisory Commission (BPAC)
DESCRIPTION:The Bicycle and Pedestrian Advisory Commission (BPAC) is an all-volunteer advisory body\, appointed by the Raleigh City Council. Members are responsible for making recommendations on the implementation of relevant programs\, policies\, regulations\, and funding priorities regarding walking and bicycling in Raleigh. \nMeets\nThe third Monday of every month\, unless otherwise specified.\n6 p.m.\nBPAC Agenda
URL:https://livableraleigh.com/event/bicycle-pedestrian-advisory-commission-bpac-24/
LOCATION:Raleigh Municipal Building\, 222 W. Hargett St.\, Raleigh\, NC\, 27601\, United States
CATEGORIES:Bicycle & Pedestrian Advisory Commission
END:VEVENT
BEGIN:VEVENT
DTSTART;TZID=America/New_York:20250923T160000
DTEND;TZID=America/New_York:20250923T170000
DTSTAMP:20260419T150538
CREATED:20250830T192327Z
LAST-MODIFIED:20250922T134631Z
UID:47643-1758643200-1758646800@livableraleigh.com
SUMMARY:BPAC Policy Committee -- CANCELED
DESCRIPTION:The Policy Committee focuses on pedestrian-related issues such as sidewalk construction and maintenance\, crosswalk enforcement\, and pedestrian safety. \n\nMeeting Schedule: The forth Tuesday of every month at 4 p.m. unless otherwise specified\nMeeting Location: Raleigh Municipal Building\, Conference Room 419\nMembers: Joe Caruso (Chair)\, Kari Barsness\, Elizabeth Alley\, Alex Rotenberry\n\nIf you are interested in viewing the meeting or making a public comment\, please contact Barbara.Godwin@raleighnc.gov.
URL:https://livableraleigh.com/event/bpac-policy-committee-18/
LOCATION:Raleigh Municipal Building\, 222 W. Hargett St.\, Raleigh\, NC\, 27601\, United States
CATEGORIES:Bicycle & Pedestrian Advisory Commission
END:VEVENT
BEGIN:VEVENT
DTSTART;TZID=America/New_York:20250923T170000
DTEND;TZID=America/New_York:20250923T190000
DTSTAMP:20260419T150538
CREATED:20250830T192447Z
LAST-MODIFIED:20250922T134833Z
UID:47645-1758646800-1758654000@livableraleigh.com
SUMMARY:BPAC Planning Committee -- CANCELED
DESCRIPTION:The Planning Committee focuses on bicycle-related issues such as bikeway design\, wayfinding\, and bicyclist safety. \n\nMeeting Schedule: The fourth Tuesday of every month at 5:15 p.m unless otherwise specified\nMeeting Location: Raleigh Municipal Building\, Conference Room 419\nMembers: Pierre Tong (Chair)\, Mary Jo Gellenbeck\, Celise Bravo-Taylor\, Tammy Stern\n\nIf you are interested in viewing the meeting or making a public comment\, please contact Barbara Godwin.
URL:https://livableraleigh.com/event/bpac-planning-committee-23/
LOCATION:Raleigh Municipal Building\, 222 W. Hargett St.\, Raleigh\, NC\, 27601\, United States
CATEGORIES:Bicycle & Pedestrian Advisory Commission
END:VEVENT
END:VCALENDAR