BEGIN:VCALENDAR
VERSION:2.0
PRODID:-//Livable Raleigh - ECPv6.15.20//NONSGML v1.0//EN
CALSCALE:GREGORIAN
METHOD:PUBLISH
X-WR-CALNAME:Livable Raleigh
X-ORIGINAL-URL:https://livableraleigh.com
X-WR-CALDESC:Events for Livable Raleigh
REFRESH-INTERVAL;VALUE=DURATION:PT1H
X-Robots-Tag:noindex
X-PUBLISHED-TTL:PT1H
BEGIN:VTIMEZONE
TZID:America/New_York
BEGIN:DAYLIGHT
TZOFFSETFROM:-0500
TZOFFSETTO:-0400
TZNAME:EDT
DTSTART:20250309T070000
END:DAYLIGHT
BEGIN:STANDARD
TZOFFSETFROM:-0400
TZOFFSETTO:-0500
TZNAME:EST
DTSTART:20251102T060000
END:STANDARD
BEGIN:DAYLIGHT
TZOFFSETFROM:-0500
TZOFFSETTO:-0400
TZNAME:EDT
DTSTART:20260308T070000
END:DAYLIGHT
BEGIN:STANDARD
TZOFFSETFROM:-0400
TZOFFSETTO:-0500
TZNAME:EST
DTSTART:20261101T060000
END:STANDARD
BEGIN:DAYLIGHT
TZOFFSETFROM:-0500
TZOFFSETTO:-0400
TZNAME:EDT
DTSTART:20270314T070000
END:DAYLIGHT
BEGIN:STANDARD
TZOFFSETFROM:-0400
TZOFFSETTO:-0500
TZNAME:EST
DTSTART:20271107T060000
END:STANDARD
END:VTIMEZONE
BEGIN:VEVENT
DTSTART;TZID=America/New_York:20260528T160000
DTEND;TZID=America/New_York:20260528T180000
DTSTAMP:20260421T075836
CREATED:20260404T164559Z
LAST-MODIFIED:20260404T164559Z
UID:53263-1779984000-1779991200@livableraleigh.com
SUMMARY:Planning Commission Committee of the Whole
DESCRIPTION:The Committee of the Whole is an informal special meeting of the full Planning Commission\, held to facilitate further discussions on specific referral items. The Planning Commission bylaws state that rezoning requests that are deemed inconsistent with the Comprehensive Plan and future land use map are automatically referred to the Committee of the Whole. Additionally\, requests for Planned Development or Campus District are also automatically referred to this Committee. \nThe committee typically meets on the fourth Thursday of the month at 4 p.m. The meetings are held at the Raleigh Municipal Building (RMB)\, located at 222 West Hargett Street\, in the Council Chamber or in conference room 305. Upcoming meeting agendas for the Planning Commission can be found on our City Council\, Boards and Commissions Agendas and Minutes page.
URL:https://livableraleigh.com/event/planning-commission-committee-of-the-whole-41/
LOCATION:Raleigh Municipal Building\, 222 W. Hargett St.\, Raleigh\, NC\, 27601\, United States
CATEGORIES:Planning Commission
END:VEVENT
BEGIN:VEVENT
DTSTART;TZID=America/New_York:20260528T170000
DTEND;TZID=America/New_York:20260528T200000
DTSTAMP:20260421T075836
CREATED:20260404T164712Z
LAST-MODIFIED:20260404T164712Z
UID:53265-1779987600-1779998400@livableraleigh.com
SUMMARY:RHDC Certificate of Appropriateness Committee
DESCRIPTION:RHDC Certificate of Appropriateness Committee public meetings are held in the Raleigh Municipal Building\, City Council Chamber. A broadcast is available via the following methods: the city’s website\, the city’s YouTube Channel\, or Channel RTN-11. \nAgenda and Participation\nVisit the Certificate of Appropriateness webpage for additional information on how to participate. Upcoming meeting agendas for the RHDC COA can be found on our City Council\, Boards and Commissions Agendas and Minutes page. \nPLEASE NOTE: Applications should be submitted using the city’s online Permit and Development Portal. If you have any questions about the application process or about the meeting date\, time\, etc.\, please contact staff at historicpreservation@raleighnc.gov.
URL:https://livableraleigh.com/event/rhdc-certificate-of-appropriateness-committee-40/
LOCATION:Raleigh Municipal Building\, 222 W. Hargett St.\, Raleigh\, NC\, 27601\, United States
CATEGORIES:Historic Development Commission,Virtual
END:VEVENT
END:VCALENDAR