BEGIN:VCALENDAR
VERSION:2.0
PRODID:-//Livable Raleigh - ECPv6.15.20//NONSGML v1.0//EN
CALSCALE:GREGORIAN
METHOD:PUBLISH
X-WR-CALNAME:Livable Raleigh
X-ORIGINAL-URL:https://livableraleigh.com
X-WR-CALDESC:Events for Livable Raleigh
REFRESH-INTERVAL;VALUE=DURATION:PT1H
X-Robots-Tag:noindex
X-PUBLISHED-TTL:PT1H
BEGIN:VTIMEZONE
TZID:America/New_York
BEGIN:DAYLIGHT
TZOFFSETFROM:-0500
TZOFFSETTO:-0400
TZNAME:EDT
DTSTART:20250309T070000
END:DAYLIGHT
BEGIN:STANDARD
TZOFFSETFROM:-0400
TZOFFSETTO:-0500
TZNAME:EST
DTSTART:20251102T060000
END:STANDARD
BEGIN:DAYLIGHT
TZOFFSETFROM:-0500
TZOFFSETTO:-0400
TZNAME:EDT
DTSTART:20260308T070000
END:DAYLIGHT
BEGIN:STANDARD
TZOFFSETFROM:-0400
TZOFFSETTO:-0500
TZNAME:EST
DTSTART:20261101T060000
END:STANDARD
BEGIN:DAYLIGHT
TZOFFSETFROM:-0500
TZOFFSETTO:-0400
TZNAME:EDT
DTSTART:20270314T070000
END:DAYLIGHT
BEGIN:STANDARD
TZOFFSETFROM:-0400
TZOFFSETTO:-0500
TZNAME:EST
DTSTART:20271107T060000
END:STANDARD
END:VTIMEZONE
BEGIN:VEVENT
DTSTART;TZID=America/New_York:20260514T153000
DTEND;TZID=America/New_York:20260514T170000
DTSTAMP:20260421T064548
CREATED:20260404T160758Z
LAST-MODIFIED:20260404T160758Z
UID:53207-1778772600-1778778000@livableraleigh.com
SUMMARY:Raleigh Transit Authority
DESCRIPTION:This meeting of the Raleigh Transit Authority will be held at 3:30 p.m. and the Public Comment begins at 4 p.m. For more information and to view the agenda\, please visit Raleigh Transit Authority. \nIf you’d like to submit a comment for the upcoming virtual meeting\, please email GoRaleigh@raleighnc.gov. \nThe meeting may be viewed live via RTN 11\, the City’s live stream page\, and YouTube
URL:https://livableraleigh.com/event/raleigh-transit-authority-37/
LOCATION:Raleigh Municipal Building\, 222 W. Hargett St.\, Raleigh\, NC\, 27601\, United States
CATEGORIES:Transit Authority,Virtual
END:VEVENT
BEGIN:VEVENT
DTSTART;TZID=America/New_York:20260514T160000
DTEND;TZID=America/New_York:20260514T180000
DTSTAMP:20260421T064548
CREATED:20260404T160915Z
LAST-MODIFIED:20260404T160915Z
UID:53209-1778774400-1778781600@livableraleigh.com
SUMMARY:Environmental Advisory Board Meeting
DESCRIPTION:The Environmental Advisory Board gives the City Council advice on matters related to environmental quality and promotes environmental protection standards and policies to the public.
URL:https://livableraleigh.com/event/environmental-advisory-board-meeting-21/
LOCATION:Raleigh Municipal Building\, 222 W. Hargett St.\, Raleigh\, NC\, 27601\, United States
CATEGORIES:Environment & Sustainability
END:VEVENT
BEGIN:VEVENT
DTSTART;TZID=America/New_York:20260514T160000
DTEND;TZID=America/New_York:20260514T190000
DTSTAMP:20260421T064548
CREATED:20260404T161028Z
LAST-MODIFIED:20260404T161028Z
UID:53211-1778774400-1778785200@livableraleigh.com
SUMMARY:Night at the Enviro Art Museum!
DESCRIPTION:Celebrate student creativity and storytelling at this year’s Night at the Enviro Art Museum! We will showcase artwork from the Capture It! Arts Contest and Trashion Art Contest. The gallery will be on display at Pullen Arts Center from May 1-31\, 2026. \nNight at the Enviro Art Museum Details\nWhen: Thursday\, May 14 from 4-7pm \nWhere: Pullen Arts Center\, 105 Pullen Rd\, Raleigh\, NC 27607 \nArtwork: Students in grades 8-12 created compelling artwork and videos related to water quality and how pollution impacts our Raleigh lakes and streams. \n\n\n\nRelated Links
URL:https://livableraleigh.com/event/night-at-the-enviro-art-museum/
LOCATION:Pullen Arts Center\, 105 Pullen Rd.\, Raleigh\, NC\, 27607\, United States
CATEGORIES:Arts & Entertainment
END:VEVENT
BEGIN:VEVENT
DTSTART;TZID=America/New_York:20260514T180000
DTEND;TZID=America/New_York:20260514T193000
DTSTAMP:20260421T064548
CREATED:20260404T161233Z
LAST-MODIFIED:20260404T161233Z
UID:53213-1778781600-1778787000@livableraleigh.com
SUMMARY:Human Relations Commission Meeting
DESCRIPTION:The Human Relations Commission works to promote human dignity\, equal opportunity and harmony among Raleigh residents. View the meeting agenda on Boarddocs. \nDate: Thursday\, May 14\nTime: 6 p.m. to 7:30 p.m.\nLocation: Raleigh Pathways Center\n900 S. Wilmington Street\nRaleigh\, NC 27601 \nFor more information\, visit Human Relations Commission.
URL:https://livableraleigh.com/event/human-relations-commission-meeting-20/
LOCATION:Raleigh Pathways Center\, 900 S. Wilmington Street
CATEGORIES:Human Relations
END:VEVENT
END:VCALENDAR