BEGIN:VCALENDAR
VERSION:2.0
PRODID:-//Livable Raleigh - ECPv6.15.20//NONSGML v1.0//EN
CALSCALE:GREGORIAN
METHOD:PUBLISH
X-WR-CALNAME:Livable Raleigh
X-ORIGINAL-URL:https://livableraleigh.com
X-WR-CALDESC:Events for Livable Raleigh
REFRESH-INTERVAL;VALUE=DURATION:PT1H
X-Robots-Tag:noindex
X-PUBLISHED-TTL:PT1H
BEGIN:VTIMEZONE
TZID:America/New_York
BEGIN:DAYLIGHT
TZOFFSETFROM:-0500
TZOFFSETTO:-0400
TZNAME:EDT
DTSTART:20250309T070000
END:DAYLIGHT
BEGIN:STANDARD
TZOFFSETFROM:-0400
TZOFFSETTO:-0500
TZNAME:EST
DTSTART:20251102T060000
END:STANDARD
BEGIN:DAYLIGHT
TZOFFSETFROM:-0500
TZOFFSETTO:-0400
TZNAME:EDT
DTSTART:20260308T070000
END:DAYLIGHT
BEGIN:STANDARD
TZOFFSETFROM:-0400
TZOFFSETTO:-0500
TZNAME:EST
DTSTART:20261101T060000
END:STANDARD
BEGIN:DAYLIGHT
TZOFFSETFROM:-0500
TZOFFSETTO:-0400
TZNAME:EDT
DTSTART:20270314T070000
END:DAYLIGHT
BEGIN:STANDARD
TZOFFSETFROM:-0400
TZOFFSETTO:-0500
TZNAME:EST
DTSTART:20271107T060000
END:STANDARD
END:VTIMEZONE
BEGIN:VEVENT
DTSTART;TZID=America/New_York:20260513T083000
DTEND;TZID=America/New_York:20260513T103000
DTSTAMP:20260423T114346
CREATED:20260404T160157Z
LAST-MODIFIED:20260404T160157Z
UID:53200-1778661000-1778668200@livableraleigh.com
SUMMARY:Raleigh Historic Development Commission
DESCRIPTION:The Commission typically meets on the second Wednesday of each month at 8:30 a.m. Upcoming meeting agendas for the RHDC can be found on our City Council\, Boards and Commissions Agendas and Minutes page. \nRaleigh Historic Development Commission public meetings will be broadcast live on RTN 11 and on our live streaming webpage. To watch past meetings\, visit our video services page. \nAgenda and Participation\nVisit the RHDC webpage for additional information on how to participate in person or by voicemail comment.
URL:https://livableraleigh.com/event/raleigh-historic-development-commission-17/
LOCATION:Raleigh Municipal Building\, 222 W. Hargett St.\, Raleigh\, NC\, 27601\, United States
CATEGORIES:Historic Development Commission,Virtual
END:VEVENT
BEGIN:VEVENT
DTSTART;TZID=America/New_York:20260513T120000
DTEND;TZID=America/New_York:20260513T133000
DTSTAMP:20260423T114346
CREATED:20260404T160314Z
LAST-MODIFIED:20260404T160314Z
UID:53203-1778673600-1778679000@livableraleigh.com
SUMMARY:Substance Use Advisory Commission Meeting
DESCRIPTION:The Substance Use Advisory Commission advocates for a healthy community by promoting best practices for the prevention\, intervention\, and treatment of alcohol\, tobacco\, and other drug use. View the agenda and minutes on BoardDocs. \nFor more information\, visit Substance Use Advisory Commission.
URL:https://livableraleigh.com/event/substance-use-advisory-commission-meeting-25/
LOCATION:Raleigh Pathways Center\, 900 S. Wilmington Street
CATEGORIES:Substance Use Advisory Commission
END:VEVENT
BEGIN:VEVENT
DTSTART;TZID=America/New_York:20260513T160000
DTEND;TZID=America/New_York:20260513T180000
DTSTAMP:20260423T114346
CREATED:20260404T160515Z
LAST-MODIFIED:20260404T160515Z
UID:53205-1778688000-1778695200@livableraleigh.com
SUMMARY:Reflecting Raleigh Technical Team - Transportation
DESCRIPTION:Technical Teams are topic-based teams of subject-matter experts who meet to provide guidance and develop policy recommendations for the City’s Next Comprehensive Plan. Five teams will be organized by key topics included in the next plan: \n\nLand Use\nTransportation\nHousing and Neighborhoods\nNatural Resources\nInfrastructure and Services\n\nEach Technical Team will include: \n\nCity staff\nRepresentatives from City boards and commissions\nTechnical experts from the Raleigh community
URL:https://livableraleigh.com/event/reflecting-raleigh-technical-team-transportation-5/
LOCATION:One Exchange Plaza\, 1 Exchange Plaza\, Raleigh\, NY\, 27601
CATEGORIES:Community and Workshops
END:VEVENT
BEGIN:VEVENT
DTSTART;TZID=America/New_York:20260513T180000
DTEND;TZID=America/New_York:20260513T200000
DTSTAMP:20260423T114346
CREATED:20260421T222029Z
LAST-MODIFIED:20260421T222029Z
UID:53618-1778695200-1778702400@livableraleigh.com
SUMMARY:District E Community Meeting with Councilor Jones
DESCRIPTION:District E Community Meeting will be May 13 from 6-8pm at La Cucina Italian restaurant.
URL:https://livableraleigh.com/event/district-e-community-meeting-with-councilor-jones-2/
LOCATION:La Cucina Italiana\, 6552 Glenwood Avenue
CATEGORIES:Council District Meeting,Engagement Filter
END:VEVENT
END:VCALENDAR