BEGIN:VCALENDAR
VERSION:2.0
PRODID:-//Livable Raleigh - ECPv6.15.20//NONSGML v1.0//EN
CALSCALE:GREGORIAN
METHOD:PUBLISH
X-WR-CALNAME:Livable Raleigh
X-ORIGINAL-URL:https://livableraleigh.com
X-WR-CALDESC:Events for Livable Raleigh
REFRESH-INTERVAL;VALUE=DURATION:PT1H
X-Robots-Tag:noindex
X-PUBLISHED-TTL:PT1H
BEGIN:VTIMEZONE
TZID:America/New_York
BEGIN:DAYLIGHT
TZOFFSETFROM:-0500
TZOFFSETTO:-0400
TZNAME:EDT
DTSTART:20250309T070000
END:DAYLIGHT
BEGIN:STANDARD
TZOFFSETFROM:-0400
TZOFFSETTO:-0500
TZNAME:EST
DTSTART:20251102T060000
END:STANDARD
BEGIN:DAYLIGHT
TZOFFSETFROM:-0500
TZOFFSETTO:-0400
TZNAME:EDT
DTSTART:20260308T070000
END:DAYLIGHT
BEGIN:STANDARD
TZOFFSETFROM:-0400
TZOFFSETTO:-0500
TZNAME:EST
DTSTART:20261101T060000
END:STANDARD
BEGIN:DAYLIGHT
TZOFFSETFROM:-0500
TZOFFSETTO:-0400
TZNAME:EDT
DTSTART:20270314T070000
END:DAYLIGHT
BEGIN:STANDARD
TZOFFSETFROM:-0400
TZOFFSETTO:-0500
TZNAME:EST
DTSTART:20271107T060000
END:STANDARD
END:VTIMEZONE
BEGIN:VEVENT
DTSTART;TZID=America/New_York:20260509T140000
DTEND;TZID=America/New_York:20260509T150000
DTSTAMP:20260421T064545
CREATED:20260404T133529Z
LAST-MODIFIED:20260404T133529Z
UID:53186-1778335200-1778338800@livableraleigh.com
SUMMARY:Dr. M.T. Pope House Presents: Black Joy in the Springtime
DESCRIPTION:Music played a central role in American family life during the 19th and early 20th centuries\, long before the advent of television and cellphones.\nAfrican American households embraced music as a powerful means of self-expression.  Through gospel\, jazz\, blues\, and classical music\, African Americans found a way to share their stories\, joys\, and sorrows. ‘Black Joy in the Springtime’ beautifully highlights this rich musical heritage at one of Raleigh’s historic African American homes. Enjoy a delightful musical performance by Shenette Swann. \nDetails\nLocation: Pope House Museum\nDate: Saturday\, May 9\nTime: 2 – 3 p.m.\nAges: All\nCost: Free
URL:https://livableraleigh.com/event/dr-m-t-pope-house-presents-black-joy-in-the-springtime/
LOCATION:Pope House Museum\, 511 S Wilmington Street\, Raleigh\, NC\, 27601
CATEGORIES:Parks & Rec
END:VEVENT
BEGIN:VEVENT
DTSTART;TZID=America/New_York:20260509T183000
DTEND;TZID=America/New_York:20260509T203000
DTSTAMP:20260421T064545
CREATED:20260418T183410Z
LAST-MODIFIED:20260418T183410Z
UID:53473-1778351400-1778358600@livableraleigh.com
SUMMARY:REFUGE Film Screening and Panel
DESCRIPTION:Join us for a screening of the 2023 documentary REFUGE.\nThe film follows a former white nationalist leader as he begins to confront his beliefs after connecting with a Muslim refugee doctor and the community in Clarkston\, Georgia. Through their experiences\, REFUGE looks at the roots of hate and what it can take to move past it. \nThe screening will be followed by a discussion with local and national experts on how people and communities work through division\, build trust\, and find common ground. \nLearn more about the REFUGE Film Screening and Panel \n\n \n\n\n\n\n\n\n\n\n\nDetails\nLocation: City of Raleigh Museum\nDate: Thursday\, May 7\nTime: 6:30 – 8:30 p.m.\nAges: All\nCost: Free\nRegister for Tickets via Eventbrite
URL:https://livableraleigh.com/event/refuge-film-screening-and-panel/
LOCATION:City of Raleigh Museum\, 220 Fayetteville St\, Raleigh\, NC\, 27601
CATEGORIES:Parks & Rec
END:VEVENT
END:VCALENDAR