BEGIN:VCALENDAR
VERSION:2.0
PRODID:-//Livable Raleigh - ECPv6.15.20//NONSGML v1.0//EN
CALSCALE:GREGORIAN
METHOD:PUBLISH
X-ORIGINAL-URL:https://livableraleigh.com
X-WR-CALDESC:Events for Livable Raleigh
REFRESH-INTERVAL;VALUE=DURATION:PT1H
X-Robots-Tag:noindex
X-PUBLISHED-TTL:PT1H
BEGIN:VTIMEZONE
TZID:America/New_York
BEGIN:DAYLIGHT
TZOFFSETFROM:-0500
TZOFFSETTO:-0400
TZNAME:EDT
DTSTART:20250309T070000
END:DAYLIGHT
BEGIN:STANDARD
TZOFFSETFROM:-0400
TZOFFSETTO:-0500
TZNAME:EST
DTSTART:20251102T060000
END:STANDARD
BEGIN:DAYLIGHT
TZOFFSETFROM:-0500
TZOFFSETTO:-0400
TZNAME:EDT
DTSTART:20260308T070000
END:DAYLIGHT
BEGIN:STANDARD
TZOFFSETFROM:-0400
TZOFFSETTO:-0500
TZNAME:EST
DTSTART:20261101T060000
END:STANDARD
BEGIN:DAYLIGHT
TZOFFSETFROM:-0500
TZOFFSETTO:-0400
TZNAME:EDT
DTSTART:20270314T070000
END:DAYLIGHT
BEGIN:STANDARD
TZOFFSETFROM:-0400
TZOFFSETTO:-0500
TZNAME:EST
DTSTART:20271107T060000
END:STANDARD
END:VTIMEZONE
BEGIN:VEVENT
DTSTART;TZID=America/New_York:20260507T120000
DTEND;TZID=America/New_York:20260507T130000
DTSTAMP:20260423T073044
CREATED:20260410T173001Z
LAST-MODIFIED:20260410T173001Z
UID:53377-1778155200-1778158800@livableraleigh.com
SUMMARY:Art\, Education\, and Collections Committee
DESCRIPTION:The Art\, Education\, and Collections Committee encourages and oversees temporary public art projects\, community art programs\, and arts education initiatives. They are charged with review and approval of acquisitions to the Municipal Art Collection\, community-initiated public art projects\, and donations of artwork to the City. \nMeetings\n\nMeetings are held on the first Thursday of each month from noon. to 1 p.m.\nFor more information about how to join the meeting please contact Raleigh Arts at 919-996-3610
URL:https://livableraleigh.com/event/art-education-and-collections-committee-24/
LOCATION:Office of Raleigh Arts\, 127 W. Hargett Street\, Room 408\, Raleigh\, NC\, 27601
CATEGORIES:Arts Commission
END:VEVENT
BEGIN:VEVENT
DTSTART;TZID=America/New_York:20260507T150000
DTEND;TZID=America/New_York:20260507T170000
DTSTAMP:20260423T073044
CREATED:20260404T133035Z
LAST-MODIFIED:20260404T133035Z
UID:53180-1778166000-1778173200@livableraleigh.com
SUMMARY:Stormwater Management Advisory Commission
DESCRIPTION:The registration link and agenda will be available a week before the meeting date. If you subscribe to this meeting series\, you will receive the registration link and updates such as news and workshops. \nThis commission meets the first Thursday of every month. Members discuss various stormwater needs and issues. Then\, provides recommendations to staff and reports to Raleigh City Council. \nIf you would like to speak at this meeting during public comment\, please email us.
URL:https://livableraleigh.com/event/stormwater-management-advisory-commission-40/
LOCATION:Raleigh Transportation Field Services Building\, 2550 Operations Way\, Raleigh\, 27604
CATEGORIES:Stormwater Management
END:VEVENT
BEGIN:VEVENT
DTSTART;TZID=America/New_York:20260507T163000
DTEND;TZID=America/New_York:20260507T183000
DTSTAMP:20260423T073044
CREATED:20260404T133145Z
LAST-MODIFIED:20260404T133145Z
UID:53182-1778171400-1778178600@livableraleigh.com
SUMMARY:Design Review Commission
DESCRIPTION:The Commission typically meets on the first and third Thursday of each month at 4:30 p.m. Upcoming meeting agendas for the Design Review Commission can be found on our City Council\, Boards and Commissions Agendas and Minutes page. Design Review Commission public meetings will be broadcast live on RTN 11 and on our live streaming webpage. To watch past meetings\, visit our video services page.
URL:https://livableraleigh.com/event/design-review-commission-46/
LOCATION:Raleigh Municipal Building\, 222 W. Hargett St.\, Raleigh\, NC\, 27601\, United States
CATEGORIES:Design Review Commission,Virtual
END:VEVENT
BEGIN:VEVENT
DTSTART;TZID=America/New_York:20260507T180000
DTEND;TZID=America/New_York:20260507T190000
DTSTAMP:20260423T073044
CREATED:20260404T133330Z
LAST-MODIFIED:20260404T133330Z
UID:53184-1778176800-1778180400@livableraleigh.com
SUMMARY:Parks Committee
DESCRIPTION:The committee is responsible for the study of issues related to park facilities\, features\, developments\, and modifications. The committee prepares recommendations and proposals for the Parks\, Recreation and Greenway Advisory Board based on in-depth review and study of park-related issues and concerns. \nThe Parks Committee a standing committee of the Parks\, Recreation and Greenway Advisory Board will meet in the Raleigh Municipal Building\, 222 W. Hargett Street\, Conference Room 303 at 6:00 pm.
URL:https://livableraleigh.com/event/parks-committee-33/
LOCATION:Raleigh Municipal Building\, 222 W. Hargett St.\, Raleigh\, NC\, 27601\, United States
CATEGORIES:Parks
END:VEVENT
END:VCALENDAR