BEGIN:VCALENDAR
VERSION:2.0
PRODID:-//Livable Raleigh - ECPv6.15.20//NONSGML v1.0//EN
CALSCALE:GREGORIAN
METHOD:PUBLISH
X-WR-CALNAME:Livable Raleigh
X-ORIGINAL-URL:https://livableraleigh.com
X-WR-CALDESC:Events for Livable Raleigh
REFRESH-INTERVAL;VALUE=DURATION:PT1H
X-Robots-Tag:noindex
X-PUBLISHED-TTL:PT1H
BEGIN:VTIMEZONE
TZID:America/New_York
BEGIN:DAYLIGHT
TZOFFSETFROM:-0500
TZOFFSETTO:-0400
TZNAME:EDT
DTSTART:20250309T070000
END:DAYLIGHT
BEGIN:STANDARD
TZOFFSETFROM:-0400
TZOFFSETTO:-0500
TZNAME:EST
DTSTART:20251102T060000
END:STANDARD
BEGIN:DAYLIGHT
TZOFFSETFROM:-0500
TZOFFSETTO:-0400
TZNAME:EDT
DTSTART:20260308T070000
END:DAYLIGHT
BEGIN:STANDARD
TZOFFSETFROM:-0400
TZOFFSETTO:-0500
TZNAME:EST
DTSTART:20261101T060000
END:STANDARD
BEGIN:DAYLIGHT
TZOFFSETFROM:-0500
TZOFFSETTO:-0400
TZNAME:EDT
DTSTART:20270314T070000
END:DAYLIGHT
BEGIN:STANDARD
TZOFFSETFROM:-0400
TZOFFSETTO:-0500
TZNAME:EST
DTSTART:20271107T060000
END:STANDARD
END:VTIMEZONE
BEGIN:VEVENT
DTSTART;TZID=America/New_York:20260506T083000
DTEND;TZID=America/New_York:20260506T100000
DTSTAMP:20260423T060946
CREATED:20260404T123258Z
LAST-MODIFIED:20260404T123259Z
UID:53170-1778056200-1778061600@livableraleigh.com
SUMMARY:RHDC Research Committee
DESCRIPTION:The Research Committee meets on the first Wednesday of the month at 8:30 a.m. in Conference Room 809\, One Exchange Plaza building. Upcoming meeting agendas for the RHDC Research Committee can be found on our City Council\, Boards and Commissions Agendas and Minutes page.
URL:https://livableraleigh.com/event/rhdc-research-committee-49/
LOCATION:One Exchange Plaza\, 1 Exchange Plaza\, Raleigh\, NY\, 27601
CATEGORIES:Historic Development Commission
END:VEVENT
BEGIN:VEVENT
DTSTART;TZID=America/New_York:20260506T100000
DTEND;TZID=America/New_York:20260506T113000
DTSTAMP:20260423T060946
CREATED:20260404T123421Z
LAST-MODIFIED:20260404T123421Z
UID:53172-1778061600-1778067000@livableraleigh.com
SUMMARY:Outreach at North Regional Library
DESCRIPTION:May 6\n10 a.m. to 11:30 a.m.\n7009 Harps Mill Rd\, Raleigh\, NC 27615\n\nWant to learn more about City services without the hassle of traveling downtown? Now you can! Raleigh’s Community Engagement Team is visiting neighborhoods across the city\, bringing resources directly to residents. Residents will have the opportunity to: \n\nLearn about projects impacting your community;\nSign up for activities and classes\, including our FREE English Language programs;\nGet assistance navigating our website and services; and\,\nMuch more!\n\nView Community Engagement event calendar
URL:https://livableraleigh.com/event/outreach-at-north-regional-library-13/
LOCATION:North Regional Library\, 7009 Harps Mill Road\, Raleigh\, NC\, 27615
CATEGORIES:Community Engagement
END:VEVENT
BEGIN:VEVENT
DTSTART;TZID=America/New_York:20260506T160000
DTEND;TZID=America/New_York:20260506T180000
DTSTAMP:20260423T060946
CREATED:20260404T132623Z
LAST-MODIFIED:20260404T132623Z
UID:53176-1778083200-1778090400@livableraleigh.com
SUMMARY:Celebrate Bike Month at Chavis with Oaks and Spokes
DESCRIPTION:Get ready to ride\, roll\, and have a blast! Join Oaks & Spokes\, Wake County Safe Routes to School\, and John Chavis Memorial Park for an exciting Community Bike Rodeo and Traffic Garden Event.\nThis fun-filled afterschool celebration brings together active movement\, safe streets\, Bike Month\, and Bike & Roll to School Day. \nAt the Kids Bike Rodeo\, children will build confidence on two wheels while learning important bike safety skills. They’ll zoom through an obstacle course and explore a Traffic Garden\, a child-sized streetscape where kids can practice road safety through hands-on play and imagination. \nDetails\nLocation: John Chavis Memorial Park\nAges: All\nCost: Free\nNo Registration is Required
URL:https://livableraleigh.com/event/celebrate-bike-month-at-chavis-with-oaks-and-spokes/
LOCATION:John Chavis Community Center\, 505 Martin Luther King Jr. Blvd.\, Raleigh\, NC\, 27601\, United States
CATEGORIES:Parks & Rec
END:VEVENT
BEGIN:VEVENT
DTSTART;TZID=America/New_York:20260506T163000
DTEND;TZID=America/New_York:20260506T173000
DTSTAMP:20260423T060946
CREATED:20260404T132816Z
LAST-MODIFIED:20260404T132816Z
UID:53178-1778085000-1778088600@livableraleigh.com
SUMMARY:Sustainability\, Wildlife and Urban Trees Committee
DESCRIPTION:The Sustainability Wildlife and Urban Trees Committee a standing committee of the Parks\, Recreation and Greenway Advisory Board will meet in the Raleigh Municipal Building\, 222 W. Hargett Street\, Conference Room 305 at 4:30 p.m. on the first Wednesday of each month.
URL:https://livableraleigh.com/event/sustainability-wildlife-and-urban-trees-committee-38/
LOCATION:Raleigh Municipal Building\, 222 W. Hargett St.\, Raleigh\, NC\, 27601\, United States
CATEGORIES:Boards and Commissions
END:VEVENT
BEGIN:VEVENT
DTSTART;TZID=America/New_York:20260506T183000
DTEND;TZID=America/New_York:20260506T203000
DTSTAMP:20260423T060946
CREATED:20260418T183230Z
LAST-MODIFIED:20260418T183230Z
UID:53471-1778092200-1778099400@livableraleigh.com
SUMMARY:Dig into Urban Agriculture: A Guide to Permits and Planning Webinar
DESCRIPTION:Are you interested in starting an urban farm\, community garden\, or other agriculture-based project in Raleigh? This free webinar is designed for recreational gardeners\, community garden organizers\, and anyone curious about urban agriculture. \nAttendees will walk away knowing: \n\nWhich permits are required for different types of urban agriculture projects?\n\n\n\n\nHow to plan your project within city guidelines.\n\n\n\n\nWhere to find resources and support.
URL:https://livableraleigh.com/event/dig-into-urban-agriculture-a-guide-to-permits-and-planning-webinar/
LOCATION:Virtual
CATEGORIES:Environment & Sustainability,Virtual
END:VEVENT
END:VCALENDAR