BEGIN:VCALENDAR
VERSION:2.0
PRODID:-//Livable Raleigh - ECPv6.15.20//NONSGML v1.0//EN
CALSCALE:GREGORIAN
METHOD:PUBLISH
X-WR-CALNAME:Livable Raleigh
X-ORIGINAL-URL:https://livableraleigh.com
X-WR-CALDESC:Events for Livable Raleigh
REFRESH-INTERVAL;VALUE=DURATION:PT1H
X-Robots-Tag:noindex
X-PUBLISHED-TTL:PT1H
BEGIN:VTIMEZONE
TZID:America/New_York
BEGIN:DAYLIGHT
TZOFFSETFROM:-0500
TZOFFSETTO:-0400
TZNAME:EDT
DTSTART:20250309T070000
END:DAYLIGHT
BEGIN:STANDARD
TZOFFSETFROM:-0400
TZOFFSETTO:-0500
TZNAME:EST
DTSTART:20251102T060000
END:STANDARD
BEGIN:DAYLIGHT
TZOFFSETFROM:-0500
TZOFFSETTO:-0400
TZNAME:EDT
DTSTART:20260308T070000
END:DAYLIGHT
BEGIN:STANDARD
TZOFFSETFROM:-0400
TZOFFSETTO:-0500
TZNAME:EST
DTSTART:20261101T060000
END:STANDARD
BEGIN:DAYLIGHT
TZOFFSETFROM:-0500
TZOFFSETTO:-0400
TZNAME:EDT
DTSTART:20270314T070000
END:DAYLIGHT
BEGIN:STANDARD
TZOFFSETFROM:-0400
TZOFFSETTO:-0500
TZNAME:EST
DTSTART:20271107T060000
END:STANDARD
END:VTIMEZONE
BEGIN:VEVENT
DTSTART;TZID=America/New_York:20260424T083000
DTEND;TZID=America/New_York:20260424T140000
DTSTAMP:20260424T011011
CREATED:20260301T125903Z
LAST-MODIFIED:20260301T125903Z
UID:52052-1777019400-1777039200@livableraleigh.com
SUMMARY:Annual Heirloom Plant Sale
DESCRIPTION:Celebrate Earth Day at Mordecai Historic Park and get your herb\, vegetable\, and flower gardens started for the season!\nHeirloom varieties of plants will be on sale at great prices. All plants are started from seed by the Mordecai Historic Park gardeners. Plants will include tomatoes\, peppers\, squash\, herbs\, and much more. \nGardeners will be on hand to answer questions and provide more information about the garden and grounds at Mordecai Historic Park! For questions or more information\, please call 919-996-4364. \nLocation: Mordecai Historic Park\nAges: All ages\nCost: $3 – $5 per plant
URL:https://livableraleigh.com/event/annual-heirloom-plant-sale/
LOCATION:Mordecai Historic Park\, 1 Mimosa St\, Raleigh\, NC\, 27604
CATEGORIES:Parks & Rec
END:VEVENT
BEGIN:VEVENT
DTSTART;TZID=America/New_York:20260424T170000
DTEND;TZID=America/New_York:20260424T193000
DTSTAMP:20260424T011011
CREATED:20260313T204121Z
LAST-MODIFIED:20260313T204121Z
UID:52683-1777050000-1777059000@livableraleigh.com
SUMMARY:School of Rock Performance
DESCRIPTION:Join us for an evening of free music and fun as students from the School of Rock in Raleigh\, Wake Forest\, Cary\, and Holly Springs perform at the Pullen Park event stage.\nBring your own chairs or blanket to enjoy this outdoor concert showcasing talented young local musicians playing a variety of music\, perfect for all ages. \nVisit the “musical petting zoo”\, where you can learn about and try real instruments with guidance from musicians! \nLocation: Pullen Park Amusements\nAges: All\nCost: Free
URL:https://livableraleigh.com/event/school-of-rock-performance/
LOCATION:Pullen Park Amusements\, 520 Ashe Ave.\, Raleigh\, NC\, 27606
CATEGORIES:Parks & Rec
END:VEVENT
BEGIN:VEVENT
DTSTART;TZID=America/New_York:20260424T170000
DTEND;TZID=America/New_York:20260424T220000
DTSTAMP:20260424T011011
CREATED:20260331T181156Z
LAST-MODIFIED:20260331T181156Z
UID:53093-1777050000-1777068000@livableraleigh.com
SUMMARY:Raleigh’s Earth Day celebration
DESCRIPTION:Raleigh’s Earth Day celebration is Friday\, April 24 from 5-10 pm at Dix Park. Explore earth-conscious vendors\, hear live performances\, meet local environmental leaders\, and enjoy a family-friendly outdoor movie. Learn new low-waste practices and practical ways to care for our planet.
URL:https://livableraleigh.com/event/raleighs-earth-day-celebration/
LOCATION:DIX Park\, 1030 Richardson Dr\, Raleigh\, NC\, 27603
CATEGORIES:Engagement Filter,Festivals & Special Events
END:VEVENT
END:VCALENDAR