BEGIN:VCALENDAR
VERSION:2.0
PRODID:-//Livable Raleigh - ECPv6.15.20//NONSGML v1.0//EN
CALSCALE:GREGORIAN
METHOD:PUBLISH
X-WR-CALNAME:Livable Raleigh
X-ORIGINAL-URL:https://livableraleigh.com
X-WR-CALDESC:Events for Livable Raleigh
REFRESH-INTERVAL;VALUE=DURATION:PT1H
X-Robots-Tag:noindex
X-PUBLISHED-TTL:PT1H
BEGIN:VTIMEZONE
TZID:America/New_York
BEGIN:DAYLIGHT
TZOFFSETFROM:-0500
TZOFFSETTO:-0400
TZNAME:EDT
DTSTART:20250309T070000
END:DAYLIGHT
BEGIN:STANDARD
TZOFFSETFROM:-0400
TZOFFSETTO:-0500
TZNAME:EST
DTSTART:20251102T060000
END:STANDARD
BEGIN:DAYLIGHT
TZOFFSETFROM:-0500
TZOFFSETTO:-0400
TZNAME:EDT
DTSTART:20260308T070000
END:DAYLIGHT
BEGIN:STANDARD
TZOFFSETFROM:-0400
TZOFFSETTO:-0500
TZNAME:EST
DTSTART:20261101T060000
END:STANDARD
BEGIN:DAYLIGHT
TZOFFSETFROM:-0500
TZOFFSETTO:-0400
TZNAME:EDT
DTSTART:20270314T070000
END:DAYLIGHT
BEGIN:STANDARD
TZOFFSETFROM:-0400
TZOFFSETTO:-0500
TZNAME:EST
DTSTART:20271107T060000
END:STANDARD
END:VTIMEZONE
BEGIN:VEVENT
DTSTART;TZID=America/New_York:20260423T093000
DTEND;TZID=America/New_York:20260423T113000
DTSTAMP:20260423T012550
CREATED:20260313T203954Z
LAST-MODIFIED:20260313T203954Z
UID:52681-1776936600-1776943800@livableraleigh.com
SUMMARY:Recycling Tours at Sonoco
DESCRIPTION:Raleigh residents can take a behind-the-scenes tour of the City’s recycling partner Sonoco Recycling located at 111 South Rogers Lane in Raleigh. \nJoin the Solid Waste Services Communications team to see first-hand how recyclables get sorted\, processed\, and prepared. It’s an excellent opportunity to learn about the process of recycling right here in our community! \n09:30 AM – 09:45 AM\nArrival at Solid Waste Services Wilders Grove Facility\nBus will depart at 9:45 a.m. for Sonoco Recycling. \n10:00 AM – 10:30 AM\nSolid Waste Services Recycling in Raleigh Presentation\nMembers of the Solid Waste Services communications team will give an overview of how recycling works in the city of Raleigh. \n10:30 AM – 11:00 AM\nSonoco Facility Tour \n11:00 AM – 11:15 AM\nBus return to Solid Waste Service Wilders Grove
URL:https://livableraleigh.com/event/recycling-tours-at-sonoco/
LOCATION:Wilder’s Grove Solid Waste Services\, 630 Beacon Lake Dr\, Raleigh\, NC\, 27610
CATEGORIES:Environment & Sustainability
END:VEVENT
BEGIN:VEVENT
DTSTART;TZID=America/New_York:20260423T143000
DTEND;TZID=America/New_York:20260423T160000
DTSTAMP:20260423T012550
CREATED:20260301T124944Z
LAST-MODIFIED:20260301T124944Z
UID:52044-1776954600-1776960000@livableraleigh.com
SUMMARY:HUB Certification Info Session and Registering as a City Vendor (Virtual)
DESCRIPTION:Date: Thursday\, April 23\nTime: 2:30-4 p.m.\nLocation: Virtual\nRegister on Microsoft Teams (use desktop computer for best results) \nAre you a construction\, contracting or services business that wants to work on government projects? Join us for a virtual info session and learn how to apply for certification as a Historically Underutilized Business with the North Carolina Department of Administration (HUB/NCDOA). \nBenefits include greater access to government contracts and business opportunities\, exclusive listing on our online directory of HUB/DBE certified businesses\, and opportunities for business development and professional growth. \nTo be eligible\, your business must owned and controlled by 51 percent or more of the following minority groups: \n\nBlack Americans;\nHispanic Americans;\nPacific-Asian Americans;\nAmerican Indians;\nFemales;\nDisabled – A person with disability as defined in G.S. 168-1 or G.S. 168A-3; or\,\nDisadvantaged – A person who is socially and economically disadvantaged as defined in 15 U.S.C. § 637.\n\nRegister today on Microsoft Teams! \nFor more information\, visit Business Engagement and Opportunities Program (BEOP).
URL:https://livableraleigh.com/event/hub-certification-info-session-and-registering-as-a-city-vendor-virtual/
LOCATION:Virtual Meeting
CATEGORIES:Community and Workshops,Virtual
END:VEVENT
BEGIN:VEVENT
DTSTART;TZID=America/New_York:20260423T160000
DTEND;TZID=America/New_York:20260423T180000
DTSTAMP:20260423T012550
CREATED:20260301T125058Z
LAST-MODIFIED:20260417T232707Z
UID:52046-1776960000-1776967200@livableraleigh.com
SUMMARY:Planning Commission Committee of the Whole
DESCRIPTION:Public Meeting – April 23\, 2026\n\nThe City of Raleigh Planning Commission Committee of the Whole will conduct a public meeting on Thursday\, April 23 at 4 p.m. at the Raleigh Municipal Building (RMB)\, located at 222 West Hargett Street in conference room 305. \nFor more information about the meetings\, please contact Bynum Walter or visit the Planning Commission webpage. \n\n\n\nA.\n\nCall to Order\n\n\n\n\n\n\n\n\n\n\n\n\n\n\n\n\n\n\n\n\n\n\n\nB.\n\nNew Business\n\n\n\n\n\n\n\n\n\n\n\n\n\n\n\n\n\n\n\n\n\n\n\nB.1\n\nRezoning Z-48-25: Lake Boone Trail and Blue Ridge Road\, at the intersection of Lake Boone Trail and Blue Ridge Road (District E)\n\n\n\n\n \n\n\n\n\n\n\n\n\n\n\n\n\n\n\n\n\n\n\nJacob Hunt\, Planning and Development\n.\nThis is a request to establish a Campus Master Plan for Rex Hospital.\n.\nThe deadline for Planning Commission action is June 16\, 2026.\n\n\n\n\n\n\n\n\n\n\n\nC.\n\nOther Business\n\n\n\n\n\n\n\n\n\n\n\n\n\n\n\n\n\n\n\n\n\n\n\nD.\n\nAdjournment\n\n\n\n\n\n\n\n\nThe Committee of the Whole is an informal special meeting of the full Planning Commission\, held to facilitate further discussions on specific referral items. The Planning Commission bylaws state that rezoning requests that are deemed inconsistent with the Comprehensive Plan and future land use map are automatically referred to the Committee of the Whole. Additionally\, requests for Planned Development or Campus District are also automatically referred to this Committee. \nThe committee typically meets on the fourth Thursday of the month at 4 p.m. The meetings are held at the Raleigh Municipal Building (RMB)\, located at 222 West Hargett Street\, in the Council Chamber or in conference room 305. Upcoming meeting agendas for the Planning Commission can be found on our City Council\, Boards and Commissions Agendas and Minutes page.
URL:https://livableraleigh.com/event/planning-commission-committee-of-the-whole-40/
LOCATION:Raleigh Municipal Building\, 222 W. Hargett St.\, Raleigh\, NC\, 27601\, United States
CATEGORIES:Planning Commission
END:VEVENT
BEGIN:VEVENT
DTSTART;TZID=America/New_York:20260423T160000
DTEND;TZID=America/New_York:20260423T183000
DTSTAMP:20260423T012550
CREATED:20260320T151502Z
LAST-MODIFIED:20260320T151502Z
UID:52866-1776960000-1776969000@livableraleigh.com
SUMMARY:Marsh Creek Watershed Public Meeting
DESCRIPTION:Meeting Details\nWe are hosting a public meeting to share updates on the Marsh Creek Watershed Study. In this meeting\, we will share our results and recommended stormwater improvement projects that will reduce flooding\, improve water quality\, and protect the community. Parks staff will also provide information about the Marsh Creek Greenway project. \n\n \nWhat’s a Watershed?\nA watershed is an area of land where rainwater collects and flows or drains to a larger body of water. That can be a lake\, stream\, river\, or ocean. The Marsh Creek Watershed is located Northeast Raleigh. \nThe goal is to identify ways to improve the watershed by: \n\nReducing flooding impacts\nRenewing stormwater pipes and infrastructure that is in poor condition\nImproving water quality\nRepairing streambanks
URL:https://livableraleigh.com/event/marsh-creek-watershed-public-meeting/
LOCATION:Green Rd Community Center\, 4201 Green Rd\, Raleigh\, NC\, 27604
CATEGORIES:Open Houses and Public Hearings
END:VEVENT
BEGIN:VEVENT
DTSTART;TZID=America/New_York:20260423T170000
DTEND;TZID=America/New_York:20260423T200000
DTSTAMP:20260423T012550
CREATED:20260301T125644Z
LAST-MODIFIED:20260301T125644Z
UID:52048-1776963600-1776974400@livableraleigh.com
SUMMARY:RHDC Certificate of Appropriateness Committee
DESCRIPTION:RHDC Certificate of Appropriateness Committee public meetings are held in the Raleigh Municipal Building\, City Council Chamber. A broadcast is available via the following methods: the city’s website\, the city’s YouTube Channel\, or Channel RTN-11. \nAgenda and Participation\nVisit the Certificate of Appropriateness webpage for additional information on how to participate. Upcoming meeting agendas for the RHDC COA can be found on our City Council\, Boards and Commissions Agendas and Minutes page. \nPLEASE NOTE: Applications should be submitted using the city’s online Permit and Development Portal. If you have any questions about the application process or about the meeting date\, time\, etc.\, please contact staff at historicpreservation@raleighnc.gov.
URL:https://livableraleigh.com/event/rhdc-certificate-of-appropriateness-committee-39/
LOCATION:Raleigh Municipal Building\, 222 W. Hargett St.\, Raleigh\, NC\, 27601\, United States
CATEGORIES:Historic Development Commission,Virtual
END:VEVENT
BEGIN:VEVENT
DTSTART;TZID=America/New_York:20260423T173000
DTEND;TZID=America/New_York:20260423T183000
DTSTAMP:20260423T012550
CREATED:20260421T220208Z
LAST-MODIFIED:20260421T220208Z
UID:53614-1776965400-1776969000@livableraleigh.com
SUMMARY:Mordecai CAC
DESCRIPTION:Please join us this Thursday\n\n\nThursday\, April 23:  CAC meeting with free Trophy Pizza!\n\n\n5:30-6:30pm\n\n\n1426 Wake Forest Rd. (the “small church” – former Christ the King location)\n\n\nAgenda:\n\n\nUpdate from District C Council member Corey Branch\n\n\nUpdate on Seaboard Station from Mosiah Lloyd\, Hoffman Development\n\n\nCommunity Announcements\n\n\nPolice Report\n\n\nFree Pizza\n\n\n\nThis meeting is in person only.
URL:https://livableraleigh.com/event/mordecai-cac-8/
LOCATION:Christ the King Church\, 1426 Wake Forest Rd.\, Raleigh
CATEGORIES:CAC,Engagement Filter
END:VEVENT
BEGIN:VEVENT
DTSTART;TZID=America/New_York:20260423T180000
DTEND;TZID=America/New_York:20260423T210000
DTSTAMP:20260423T012550
CREATED:20260301T125758Z
LAST-MODIFIED:20260301T125758Z
UID:52050-1776967200-1776978000@livableraleigh.com
SUMMARY:Mental Health Check In
DESCRIPTION:Join us for Mental Health Check-In: Food\, Feelings & Connection\, a preventative wellness conversation centered on how food impacts our overall well-being beyond diet culture and restriction.Empty heading\nGlobally\, food is recognized as medicine\, culture\, and a cornerstone of community. This check-in invites us to begin approaching it in the same way\, examining how our relationship with food shapes our well-being across multiple dimensions. \nGuided by an interdisciplinary panel of professionals and community leaders\, this conversation will explore:Empty heading\n\nFood as Comfort — Without Guilt\nFood as Preventative Care\nNourishment vs. Restriction\nFood\, Culture & Connection\n\nThis experience reflects a grassroots approach to wellness—neighbors\, professionals\, and organizers working side by side to ensure our community has access to holistic\, non-clinical support. Food and drinks will be available for purchase. \nHosted by Let’s Get Social Raleigh Foundation INC and John P. Top Green African American Cultural Center \nLocation: John P. “Top” Greene African American Cultural Center\nAges: All\nCost: Free\nNo Registration Required
URL:https://livableraleigh.com/event/mental-health-check-in-2/
LOCATION:John P. (Top) Greene\, 401 MLK Jr Blvd\, Raleigh
CATEGORIES:Parks & Rec
END:VEVENT
END:VCALENDAR