BEGIN:VCALENDAR
VERSION:2.0
PRODID:-//Livable Raleigh - ECPv6.15.20//NONSGML v1.0//EN
CALSCALE:GREGORIAN
METHOD:PUBLISH
X-ORIGINAL-URL:https://livableraleigh.com
X-WR-CALDESC:Events for Livable Raleigh
REFRESH-INTERVAL;VALUE=DURATION:PT1H
X-Robots-Tag:noindex
X-PUBLISHED-TTL:PT1H
BEGIN:VTIMEZONE
TZID:America/New_York
BEGIN:DAYLIGHT
TZOFFSETFROM:-0500
TZOFFSETTO:-0400
TZNAME:EDT
DTSTART:20240310T070000
END:DAYLIGHT
BEGIN:STANDARD
TZOFFSETFROM:-0400
TZOFFSETTO:-0500
TZNAME:EST
DTSTART:20241103T060000
END:STANDARD
BEGIN:DAYLIGHT
TZOFFSETFROM:-0500
TZOFFSETTO:-0400
TZNAME:EDT
DTSTART:20250309T070000
END:DAYLIGHT
BEGIN:STANDARD
TZOFFSETFROM:-0400
TZOFFSETTO:-0500
TZNAME:EST
DTSTART:20251102T060000
END:STANDARD
BEGIN:DAYLIGHT
TZOFFSETFROM:-0500
TZOFFSETTO:-0400
TZNAME:EDT
DTSTART:20260308T070000
END:DAYLIGHT
BEGIN:STANDARD
TZOFFSETFROM:-0400
TZOFFSETTO:-0500
TZNAME:EST
DTSTART:20261101T060000
END:STANDARD
END:VTIMEZONE
BEGIN:VEVENT
DTSTART;TZID=America/New_York:20250623T090000
DTEND;TZID=America/New_York:20250623T170000
DTSTAMP:20260424T121034
CREATED:20250502T165408Z
LAST-MODIFIED:20250502T165408Z
UID:45149-1750669200-1750698000@livableraleigh.com
SUMMARY:26th Annual Raleigh Small Business Conference and Expo
DESCRIPTION:The City of Raleigh’s Minority and Women-Owned Business Enterprise (MWBE) Program strives to increase opportunities for historically underutilized businesses and promotes diversity and inclusion in City contracting. \nThe City and Wake County Public School System are excited to announce the 26th Annual Small Business Expo this June. At the expo\, you will connect with local and state procurement and primary contractors looking for certified minority and women-owned businesses\, learn about resources available to you\, and attend workshops. \nStay tuned for updates on registration! \nRaleigh’s Community Engagement Team will be on site from 1:30 p.m. – 4:30 p.m.
URL:https://livableraleigh.com/event/26th-annual-raleigh-small-business-conference-and-expo/
LOCATION:McKimmon Center\, NCSU McKimmon Center 1101 Gorman Street\, Raleigh\, NC\, 27606\, United States
CATEGORIES:Community and Workshops
END:VEVENT
BEGIN:VEVENT
DTSTART;TZID=America/New_York:20250623T130000
DTEND;TZID=America/New_York:20250623T140000
DTSTAMP:20260424T121034
CREATED:20250502T165519Z
LAST-MODIFIED:20250607T001029Z
UID:45151-1750683600-1750687200@livableraleigh.com
SUMMARY:Community Engagement Board - Policy Subcommittee Meeting - CANCELLED
DESCRIPTION:Please join us for the Community Engagement Board Policy Subcommittee meeting.
URL:https://livableraleigh.com/event/community-engagement-board-policy-subcommittee-meeting-5/
LOCATION:Raleigh Pathways Center\, 900 S. Wilmington Street
CATEGORIES:Community Engagement Board
END:VEVENT
BEGIN:VEVENT
DTSTART;TZID=America/New_York:20250623T163000
DTEND;TZID=America/New_York:20250623T183000
DTSTAMP:20260424T121034
CREATED:20250610T174713Z
LAST-MODIFIED:20250610T174713Z
UID:46056-1750696200-1750703400@livableraleigh.com
SUMMARY:Sidewalk Sessions
DESCRIPTION:Staff is hosting 2 “Sidewalk Sessions” at Eastgate Park on June 17th and June 23rd. These sessions are informal opportunities for residents to drop by and meet members of the project team\, ask questions\, share ideas\, and learn more about the Quail Hollow Green Street Project.\n\n\nThe June 17th session will be held from 4-6 pm adjacent to the community center.\n\n\nThe June 23rd session will be be held from 4:30-6:30 adjacent to the community center.\n\n\n\nPlease see this link for more details:\n\nhttps://raleighnc.gov/transportation/events/sidewalk-sessions-raleigh-transportation-eastgate-park
URL:https://livableraleigh.com/event/sidewalk-sessions/
LOCATION:Eastgate Park\, 4200 Quail Hollow Dr\,\, Raleigh\, NC\, 27609
CATEGORIES:Community and Workshops,Engagement Filter
END:VEVENT
BEGIN:VEVENT
DTSTART;TZID=America/New_York:20250623T183000
DTEND;TZID=America/New_York:20250623T200000
DTSTAMP:20260424T121034
CREATED:20250604T010946Z
LAST-MODIFIED:20250604T010946Z
UID:45907-1750703400-1750708800@livableraleigh.com
SUMMARY:Councilor Branch District C Meeting
DESCRIPTION:
URL:https://livableraleigh.com/event/councilor-branch-district-c-meeting-2/
LOCATION:Roberts Park Community Center\, 1300 E. Martin St\, Raleigh\, NC\, 27610
CATEGORIES:Council District Meeting,Engagement Filter
END:VEVENT
BEGIN:VEVENT
DTSTART;TZID=America/New_York:20250623T190000
DTEND;TZID=America/New_York:20250623T210000
DTSTAMP:20260424T121034
CREATED:20250610T100714Z
LAST-MODIFIED:20250610T100714Z
UID:46054-1750705200-1750712400@livableraleigh.com
SUMMARY:Hybrid Midtown Citizens Advisory Council Meeting
DESCRIPTION:Agenda \n\n\n\n\n\nHybrid Midtown Citizens Advisory Council Meeting \n\n\nMonday\, June 23\, 2025\, 7:00-9:00 pm \n\n\nEastgate Park Community Center \n\n\n4200 Quail Hollow Drive \n\n\n  \n\n\n\n\n\n1)   7:00     Call to Order and Welcome to Midtown CAC \n\n\n\n\n\n2)   7:05     Review and Approval of May 2025 Minutes\n \n\n\n3)   7:10     Sergeant Garcia\, Raleigh Police Department \n\n\n                  Activity and Crime Stats Report for Midtown \n\n\n                  Question and Answer \n\n\n\n\n\n4)   7:30     Update on Ask Raleigh\, the proposed replacement for SeeClikFix. \n\n\n                  Karen Ray\, Raleigh Customer Experience Manager \n\n\n                  Office of the City Manager \n\n\n\n\n\n5)   8:00     Quail Hollow Green Street Improvements \n\n\n                  Barbara Godwin\, Bicycle + Pedestrian Program Manager \n\n\n                  Raleigh Transportation Department \n\n\n\n\n\n6)   8:30     City Council Updates \n\n\n                  Mitchell Silver\, District A \n\n\n                  Christina Jones\, District E \n\n\n\n\n\n7)   8:50     Old / New Business\, Announcements\, Remarks \n\n\n\n\n\n8)   9:00     Adjournment \n\n\n\n\n\nIn Person Location: \n\n\n                  Eastgate Park Community Center \n\n\n                  4200 Quail Hollow Drive \n\n\n                  Raleigh\, NC 27609 \n\n\n\n\n\nZoom Meeting Link: \n\n\nAvailable by Request \n\n\n\n\n\nVisit our Midtown CAC Facebook page: \n\n\n https://www.facebook.com/MidtownCAC
URL:https://livableraleigh.com/event/hybrid-midtown-citizens-advisory-council-meeting-6/
LOCATION:Eastgate Park\, 4200 Quail Hollow Dr\,\, Raleigh\, NC\, 27609
CATEGORIES:CAC,Engagement Filter
END:VEVENT
END:VCALENDAR