BEGIN:VCALENDAR
VERSION:2.0
PRODID:-//Livable Raleigh - ECPv6.15.20//NONSGML v1.0//EN
CALSCALE:GREGORIAN
METHOD:PUBLISH
X-ORIGINAL-URL:https://livableraleigh.com
X-WR-CALDESC:Events for Livable Raleigh
REFRESH-INTERVAL;VALUE=DURATION:PT1H
X-Robots-Tag:noindex
X-PUBLISHED-TTL:PT1H
BEGIN:VTIMEZONE
TZID:America/New_York
BEGIN:DAYLIGHT
TZOFFSETFROM:-0500
TZOFFSETTO:-0400
TZNAME:EDT
DTSTART:20240310T070000
END:DAYLIGHT
BEGIN:STANDARD
TZOFFSETFROM:-0400
TZOFFSETTO:-0500
TZNAME:EST
DTSTART:20241103T060000
END:STANDARD
BEGIN:DAYLIGHT
TZOFFSETFROM:-0500
TZOFFSETTO:-0400
TZNAME:EDT
DTSTART:20250309T070000
END:DAYLIGHT
BEGIN:STANDARD
TZOFFSETFROM:-0400
TZOFFSETTO:-0500
TZNAME:EST
DTSTART:20251102T060000
END:STANDARD
BEGIN:DAYLIGHT
TZOFFSETFROM:-0500
TZOFFSETTO:-0400
TZNAME:EDT
DTSTART:20260308T070000
END:DAYLIGHT
BEGIN:STANDARD
TZOFFSETFROM:-0400
TZOFFSETTO:-0500
TZNAME:EST
DTSTART:20261101T060000
END:STANDARD
END:VTIMEZONE
BEGIN:VEVENT
DTSTART;TZID=America/New_York:20250416T083000
DTEND;TZID=America/New_York:20250416T213000
DTSTAMP:20260424T060244
CREATED:20250410T162028Z
LAST-MODIFIED:20250414T182559Z
UID:44719-1744792200-1744839000@livableraleigh.com
SUMMARY:RHDC Research Committee
DESCRIPTION:Public Meeting – April 16\, 2025\n\n\n\nThe Research Committee of the Raleigh Historic Development Commission will conduct a public meeting on Wednesday\, April 16 at 8:30 a.m. at One Exchange Plaza\, Suite 301\, Nash conference room. \nFor questions about the meeting\, please contact historicpreservation@raleighnc.gov \n\n1. Call to Order\n\n\nA. Call to Order and Welcome\n\n\n\n\n\n\n2. New Business\n\n\nA. RHDC Work Plan – Preserving Black Churches Project\nThis Agenda Item Contains an Attachment.\n\n\n\n\n\n3. Public Comment\n\n\nA. This is an opportunity for the public to comment on items or issues that are not otherwise on the agenda. Please limit comments to 3 minutes per speaker.\n\n\n\n\n\n\n4. Pending Business\n\n\nA. Items not being discussed\n\n\n\n\n\n\n5. Adjournment\n\n\n\n\nThe Research Committee meets on the first Wednesday of the month at 8:30 a.m. in Nash Conference Room\, Suite 300 of the One Exchange Plaza building. Meeting agendas are added to the BoardDocsagenda management portal.
URL:https://livableraleigh.com/event/rhdc-research-committee-32/
LOCATION:One Exchange Plaza\, 1 Exchange Plaza\, Raleigh\, NY\, 27601
CATEGORIES:Engagement Filter,Historic Development Commission
END:VEVENT
BEGIN:VEVENT
DTSTART;TZID=America/New_York:20250416T100000
DTEND;TZID=America/New_York:20250416T180000
DTSTAMP:20260424T060244
CREATED:20250321T161736Z
LAST-MODIFIED:20250321T161736Z
UID:44311-1744797600-1744826400@livableraleigh.com
SUMMARY:Game On!
DESCRIPTION:Enjoy a fun variety of giant lawn games\, board games and MOORE! \nAvailable activities for Game On! include: \nSoccer balls\nHula hoops\nJenga\nChess (giant and regular)\nCornhole\nFrisbee\nBoard and card games\n(Please see Parks staff for game availability.)
URL:https://livableraleigh.com/event/game-on-9/
LOCATION:Moore Square\, 200 S. Blount St.\, Raleigh\, NC\, 27601
CATEGORIES:Parks & Rec
END:VEVENT
BEGIN:VEVENT
DTSTART;TZID=America/New_York:20250416T173000
DTEND;TZID=America/New_York:20250416T183000
DTSTAMP:20260424T060244
CREATED:20250302T021922Z
LAST-MODIFIED:20250302T021922Z
UID:43911-1744824600-1744828200@livableraleigh.com
SUMMARY:Fair Housing Hearing Board Meeting
DESCRIPTION:The Fair Housing Hearing Board works to improve public awareness of the City’s Fair Housing Ordinance\, which prohibits discrimination in housing opportunities on the basis of race\, color\, religion\, family status\, disability\, national origin or sex. \nLocation\nRaleigh Pathways Center\n900 S. Wilmington Street\nRaleigh\, NC 27601 \nAgenda\nView agenda and minutes on BoardDocs
URL:https://livableraleigh.com/event/fair-housing-hearing-board-meeting-17/
LOCATION:Raleigh Pathways Center\, 900 S. Wilmington Street
CATEGORIES:Boards and Commissions
END:VEVENT
BEGIN:VEVENT
DTSTART;TZID=America/New_York:20250416T180000
DTEND;TZID=America/New_York:20250416T200000
DTSTAMP:20260424T060244
CREATED:20250320T202456Z
LAST-MODIFIED:20250320T202456Z
UID:44281-1744826400-1744833600@livableraleigh.com
SUMMARY:Councilor Jones District E Meeting
DESCRIPTION:
URL:https://livableraleigh.com/event/councilor-jones-district-e-meeting-3/
LOCATION:La Cucina Italiana\, 6552 Glenwood Avenue
CATEGORIES:Council District Meeting,Engagement Filter
END:VEVENT
BEGIN:VEVENT
DTSTART;TZID=America/New_York:20250416T183000
DTEND;TZID=America/New_York:20250416T203000
DTSTAMP:20260424T060244
CREATED:20250320T202723Z
LAST-MODIFIED:20250320T202723Z
UID:44283-1744828200-1744835400@livableraleigh.com
SUMMARY:Councilor Branch's District C Town Hall
DESCRIPTION:
URL:https://livableraleigh.com/event/councilor-branchs-district-c-town-hall/
LOCATION:Barwell Road Community Center\, 5857 Barwell Park Dr\, Raleigh\, NC\, 27610\, United States
CATEGORIES:Council District Meeting,Engagement Filter
END:VEVENT
END:VCALENDAR