BEGIN:VCALENDAR
VERSION:2.0
PRODID:-//Livable Raleigh - ECPv6.15.20//NONSGML v1.0//EN
CALSCALE:GREGORIAN
METHOD:PUBLISH
X-ORIGINAL-URL:https://livableraleigh.com
X-WR-CALDESC:Events for Livable Raleigh
REFRESH-INTERVAL;VALUE=DURATION:PT1H
X-Robots-Tag:noindex
X-PUBLISHED-TTL:PT1H
BEGIN:VTIMEZONE
TZID:America/New_York
BEGIN:DAYLIGHT
TZOFFSETFROM:-0500
TZOFFSETTO:-0400
TZNAME:EDT
DTSTART:20240310T070000
END:DAYLIGHT
BEGIN:STANDARD
TZOFFSETFROM:-0400
TZOFFSETTO:-0500
TZNAME:EST
DTSTART:20241103T060000
END:STANDARD
BEGIN:DAYLIGHT
TZOFFSETFROM:-0500
TZOFFSETTO:-0400
TZNAME:EDT
DTSTART:20250309T070000
END:DAYLIGHT
BEGIN:STANDARD
TZOFFSETFROM:-0400
TZOFFSETTO:-0500
TZNAME:EST
DTSTART:20251102T060000
END:STANDARD
BEGIN:DAYLIGHT
TZOFFSETFROM:-0500
TZOFFSETTO:-0400
TZNAME:EDT
DTSTART:20260308T070000
END:DAYLIGHT
BEGIN:STANDARD
TZOFFSETFROM:-0400
TZOFFSETTO:-0500
TZNAME:EST
DTSTART:20261101T060000
END:STANDARD
END:VTIMEZONE
BEGIN:VEVENT
DTSTART;TZID=America/New_York:20250317T100000
DTEND;TZID=America/New_York:20250317T120000
DTSTAMP:20260424T121032
CREATED:20250308T190511Z
LAST-MODIFIED:20250308T190511Z
UID:44083-1742205600-1742212800@livableraleigh.com
SUMMARY:Survivor Unmasking Brain Injury Workshop
DESCRIPTION:Unmasking Brain Injury Workshop\n\nEach year\, an estimated 1.7 million people sustain a traumatic brain injury (TBI)\, and about 5.3 million Americans are living with a TBI-related disability. To raise awareness and support those impacted\, Raleigh Parks Specialized Recreation and Inclusion Services is partnering with the Brain Injury Association of North Carolina to host an Unmasking Brain Injury Workshop at Sertoma Arts Center on March 17th from 10 AM to 12 PM. \nParticipants will create their own masks at the workshop. Masks and art supplies will be provided for all participants. \nIf you know someone in your community who might be interested in participating\, please feel free to share the registration link below. The workshop is free to attend\, and caregivers are welcome!  \nRegistration Link: BIANCunmaskingworkshop \nUnmasking Brain Injury Initiative\nThe Unmasking Brain Injury initiative was inspired by a National Geographic article featuring masks created by soldiers with Post-Traumatic Stress Disorder (PTSD). A provider in North Carolina\, recognized the potential of this project for individuals with brain injuries\, and thus an awareness and advocacy movement was born! This project aims to promote awareness of the prevalence of brain injury and gives survivors a voice to share their experiences. It encourages them to educate others on what it’s like to live with a brain injury and highlights the importance of dignity\, respect\, and the opportunity for individuals living with brain injury-related disabilities to contribute meaningfully to their communities. \nEvent Details\n\nDate: Monday\, March 17th\, from 10 a.m. to 12 p.m.\nLocation: Sertoma Arts Center\, 1400 Millbrook Road\, Raleigh\, NC 27612\nCost: Free and open to public\nRegistration Link: BIANCunmaskingworkshop
URL:https://livableraleigh.com/event/survivor-unmasking-brain-injury-workshop/
LOCATION:Sertoma Arts Center\, 1400 Millbrook Road\, Raleigh\, NC\, 27612\, United States
CATEGORIES:Community and Workshops
END:VEVENT
BEGIN:VEVENT
DTSTART;TZID=America/New_York:20250317T180000
DTEND;TZID=America/New_York:20250317T190000
DTSTAMP:20260424T121032
CREATED:20250304T143019Z
LAST-MODIFIED:20250304T143019Z
UID:43981-1742234400-1742238000@livableraleigh.com
SUMMARY:Neighborhood Rezoning Meeting: 8125 Leesville Road
DESCRIPTION:Mar. 17\n6:00 p.m.\nOptimist Park Community Center\, 5900 Whittier Dr\, Raleigh\, NC 27609\n8125 Leesville Rd\nPre-Submittal \nR-4 TO R-10 \n(Additional Information)\nETJ\nWorth Mills\nBurns
URL:https://livableraleigh.com/event/neighborhood-rezoning-meeting-8125-leesville-road/
LOCATION:Optimist Park Community Center\, 5900 Whittier Drive\, Raleigh\, 27609
CATEGORIES:Engagement Filter,Neighborhood Meeting (Zoning)
END:VEVENT
BEGIN:VEVENT
DTSTART;TZID=America/New_York:20250317T180000
DTEND;TZID=America/New_York:20250317T203000
DTSTAMP:20260424T121032
CREATED:20250202T184551Z
LAST-MODIFIED:20250202T184551Z
UID:43360-1742234400-1742243400@livableraleigh.com
SUMMARY:Bicycle & Pedestrian Advisory Commission (BPAC)
DESCRIPTION:The Bicycle and Pedestrian Advisory Commission (BPAC) is an all-volunteer advisory body\, appointed by the Raleigh City Council. Members are responsible for making recommendations on the implementation of relevant programs\, policies\, regulations\, and funding priorities regarding walking and bicycling in Raleigh. \nMeets\nThe third Monday of every month\, unless otherwise specified.\n6 p.m.\nBPAC Agenda
URL:https://livableraleigh.com/event/bicycle-pedestrian-advisory-commission-bpac-21/
LOCATION:Raleigh Municipal Building\, 222 W. Hargett St.\, Raleigh\, NC\, 27601\, United States
CATEGORIES:Bicycle & Pedestrian Advisory Commission
END:VEVENT
BEGIN:VEVENT
DTSTART;TZID=America/New_York:20250317T190000
DTEND;TZID=America/New_York:20250317T210000
DTSTAMP:20260424T121032
CREATED:20250315T173245Z
LAST-MODIFIED:20250315T173245Z
UID:44246-1742238000-1742245200@livableraleigh.com
SUMMARY:North CAC
DESCRIPTION:
URL:https://livableraleigh.com/event/north-cac-18/
LOCATION:Abbotts Creek Community Center\, 9950 Durant Rd\, Raleigh\, NC\, 27614
CATEGORIES:CAC
END:VEVENT
END:VCALENDAR