BEGIN:VCALENDAR
VERSION:2.0
PRODID:-//Livable Raleigh - ECPv6.15.20//NONSGML v1.0//EN
CALSCALE:GREGORIAN
METHOD:PUBLISH
X-WR-CALNAME:Livable Raleigh
X-ORIGINAL-URL:https://livableraleigh.com
X-WR-CALDESC:Events for Livable Raleigh
REFRESH-INTERVAL;VALUE=DURATION:PT1H
X-Robots-Tag:noindex
X-PUBLISHED-TTL:PT1H
BEGIN:VTIMEZONE
TZID:America/New_York
BEGIN:DAYLIGHT
TZOFFSETFROM:-0500
TZOFFSETTO:-0400
TZNAME:EDT
DTSTART:20240310T070000
END:DAYLIGHT
BEGIN:STANDARD
TZOFFSETFROM:-0400
TZOFFSETTO:-0500
TZNAME:EST
DTSTART:20241103T060000
END:STANDARD
BEGIN:DAYLIGHT
TZOFFSETFROM:-0500
TZOFFSETTO:-0400
TZNAME:EDT
DTSTART:20250309T070000
END:DAYLIGHT
BEGIN:STANDARD
TZOFFSETFROM:-0400
TZOFFSETTO:-0500
TZNAME:EST
DTSTART:20251102T060000
END:STANDARD
BEGIN:DAYLIGHT
TZOFFSETFROM:-0500
TZOFFSETTO:-0400
TZNAME:EDT
DTSTART:20260308T070000
END:DAYLIGHT
BEGIN:STANDARD
TZOFFSETFROM:-0400
TZOFFSETTO:-0500
TZNAME:EST
DTSTART:20261101T060000
END:STANDARD
END:VTIMEZONE
BEGIN:VEVENT
DTSTART;TZID=America/New_York:20250227T110000
DTEND;TZID=America/New_York:20250227T130000
DTSTAMP:20260424T024913
CREATED:20250220T134935Z
LAST-MODIFIED:20250220T134935Z
UID:43718-1740654000-1740661200@livableraleigh.com
SUMMARY:On-site Hours at the Former DMV Site
DESCRIPTION:This meeting was originally scheduled on Feb. 13 but due to weather it will now take place Feb. 27. \nRaleigh’s Community Engagement team will be at the Former DMV site. \nStop by and say hello to our team members. Learn more about the Former DMV site project and other city projects! \nThis event was originally scheduled for Feb. 13 but was postponed due to weather.
URL:https://livableraleigh.com/event/on-site-hours-at-the-former-dmv-site-8/
LOCATION:DMV Site\, 1100 New Bern Ave.\, Raleigh\, NC\, 27601
CATEGORIES:Community and Workshops,Engagement Filter
END:VEVENT
BEGIN:VEVENT
DTSTART;TZID=America/New_York:20250227T120000
DTEND;TZID=America/New_York:20250227T130000
DTSTAMP:20260424T024913
CREATED:20250125T133743Z
LAST-MODIFIED:20250219T235630Z
UID:43210-1740657600-1740661200@livableraleigh.com
SUMMARY:Lunchbox Lecture with Wanda Cox-Bailey
DESCRIPTION:The Lunchbox Lecture scheduled for tomorrow – Thursday\, Feb. 20 – has been postponed due to inclement weather. That talk by Wanda Cox-Bailey will take place next Thursday\, Feb. 27\, barring any other unforeseen issues!!! Please see this link for details:\nhttps://raleighnc.gov/parks-and-recreation/events/lunchbox-lecture-wanda-cox-bailey\nFeed your belly and your brain. Bring your lunch and listen to a lecture!\nEvery month will be a new topic. Lectures will run 30-40 minutes and begin shortly after noon to give people time to get settled. We can’t wait for you to join us! \nWanda Cox-Bailey\, a retired librarian and president of the Afro-American Historical and Genealogical Society Triangle Chapter\, is dedicated to preserving the memories and oral histories of the Southeast community. With over 30 years in Black children’s literature\, she emphasizes the need for Black children to see themselves in the books they read. Wanda is committed to preserving the culture and history of Raleigh’s disappearing African American neighborhoods\, believing that sharing this history through quality children’s books benefits everyone. \nLocation: City of Raleigh Museum\nAges: All\nCost: Free
URL:https://livableraleigh.com/event/lunchbox-lecture-with-wanda-cox-bailey/
LOCATION:City of Raleigh Museum\, 220 Fayetteville St\, Raleigh\, NC\, 27601
CATEGORIES:Parks & Rec
END:VEVENT
BEGIN:VEVENT
DTSTART;TZID=America/New_York:20250227T120000
DTEND;TZID=America/New_York:20250227T160000
DTSTAMP:20260424T024913
CREATED:20250205T210930Z
LAST-MODIFIED:20250205T210930Z
UID:43419-1740657600-1740672000@livableraleigh.com
SUMMARY:Public Art & Invasive Plant Removal Event
DESCRIPTION:Public Art & Invasive Plant Removal Event\n📅 Thursday\, February 27\, 2025\n⏰ 12:00 – 4:00 PM\n📍 River Cane Wetland Park site\n🔗 Sign Up Here\nThis unique two-part event combines hands-on invasive plant removal with a public art experience! Join public artist Austen Camille to explore the theme of “home” in nature through poetry\, with the chance to have your words included in a future artwork at the park.
URL:https://livableraleigh.com/event/public-art-invasive-plant-removal-event/
LOCATION:River Cane Wetland Park\, 4700 Kyle Dr.\, Raleigh\, NC\, 27616
CATEGORIES:Engagement Filter,Parks & Rec
END:VEVENT
BEGIN:VEVENT
DTSTART;TZID=America/New_York:20250227T140000
DTEND;TZID=America/New_York:20250227T163000
DTSTAMP:20260424T024913
CREATED:20250111T163757Z
LAST-MODIFIED:20250111T163757Z
UID:42999-1740664800-1740673800@livableraleigh.com
SUMMARY:Información sobre certificaciones para proyectos gubernamentales
DESCRIPTION:Aprende sobre certificaciones HUB (Empresas Históricamente Subutilizadas) y DBE (Empresas en Desventaja) \n¿Quién debería asistir a este taller? \n\nSi tienes una compañia de construccíon\nSi eres de le compañia por lo menos 51% y tienes el control diario de la misma y eres residente permanente o eres cuidadano americano\nSi eres hispano\, afroamericano\, asiático americano\, indígena estadounidense\, mujer blanca\n\n\n\n\n\n¡Descubre nuevas oportunidades para hacer crecer tu negocio! \n¡Regístrate ahora!
URL:https://livableraleigh.com/event/informacion-sobre-certificaciones-para-proyectos-gubernamentales/
LOCATION:John Chavis Community Center\, 505 Martin Luther King Jr. Blvd.\, Raleigh\, NC\, 27601\, United States
CATEGORIES:Community and Workshops,Engagement Filter
END:VEVENT
BEGIN:VEVENT
DTSTART;TZID=America/New_York:20250227T150000
DTEND;TZID=America/New_York:20250227T170000
DTSTAMP:20260424T024913
CREATED:20250218T213956Z
LAST-MODIFIED:20250221T220319Z
UID:43681-1740668400-1740675600@livableraleigh.com
SUMMARY:Transportation & Transit Committee
DESCRIPTION:A. MEETING CALLED TO THE ORDER BY THE CHAIR\n\n\n1. Item 24-01: NCDOT High Crash Intersections (1/7/25)\nThis Agenda Item Contains an Attachment.\n\n2. Item 24-02: Pedestrian Improvements at East Whitaker Mill Road and Atlantic Avenue (1/7/25)\nThis Agenda Item Contains an Attachment.\n\n\n\n\n\nB. PENDING ITEMS
URL:https://livableraleigh.com/event/transportation-transit-committee-2/
LOCATION:Raleigh Municipal Building\, 222 W. Hargett St.\, Raleigh\, NC\, 27601\, United States
CATEGORIES:Council Committee,Engagement Filter
END:VEVENT
BEGIN:VEVENT
DTSTART;TZID=America/New_York:20250227T150000
DTEND;TZID=America/New_York:20250227T180000
DTSTAMP:20260424T024913
CREATED:20250117T161353Z
LAST-MODIFIED:20250117T161353Z
UID:43100-1740668400-1740679200@livableraleigh.com
SUMMARY:Ask-A-Planner: Traffic and Transportation Solutions
DESCRIPTION:Have questions about traffic and transportation? Want to speak to someone one-on-one? Our staff will be available to provide answers about transportation\, traffic\, and the Next Comprehensive Plan at these following Ask-A-Planner events: \n\nFebruary 25\, 3-6 p.m. at Green Road Community Center.\n\n\n\n\nFebruary 27\, 3-6 p.m. at Carolina Pines Community Center.\n\n\n\n\nMarch 3\, 3-6 p.m. Virtual. Register to attend.
URL:https://livableraleigh.com/event/ask-a-planner-traffic-and-transportation-solutions-2/
LOCATION:Carolina Pines Community Center\, 2305 Lake Wheeler Road\, Raleigh\, NC\, 27603\, United States
CATEGORIES:Community Engagement
END:VEVENT
BEGIN:VEVENT
DTSTART;TZID=America/New_York:20250227T160000
DTEND;TZID=America/New_York:20250227T180000
DTSTAMP:20260424T024913
CREATED:20250111T163914Z
LAST-MODIFIED:20250111T163914Z
UID:43001-1740672000-1740679200@livableraleigh.com
SUMMARY:Planning Commission Committee of the Whole
DESCRIPTION:The Committee of the Whole is an informal special meeting of the full Planning Commission to have further discussions on specific referral items. The Planning Commission bylaws state that rezoning requests that are deemed inconsistent with the Comprehensive Plan and future land use map are automatically referred to the Committee of the Whole. Additionally\, requests for Planned Development or Campus District are also automatically referred to this Committee. \nThe committee typically meets on the fourth Thursday of the month at 4 p.m. The meetings are held at the Raleigh Municipal Building (RMB)\, located at 222 West Hargett Street in Room 305.
URL:https://livableraleigh.com/event/planning-commission-committee-of-the-whole-28/
LOCATION:Raleigh Municipal Building\, 222 W. Hargett St.\, Raleigh\, NC\, 27601\, United States
CATEGORIES:Planning Commission
END:VEVENT
BEGIN:VEVENT
DTSTART;TZID=America/New_York:20250227T170000
DTEND;TZID=America/New_York:20250227T180000
DTSTAMP:20260424T024913
CREATED:20250208T002314Z
LAST-MODIFIED:20250208T002314Z
UID:43505-1740675600-1740679200@livableraleigh.com
SUMMARY:Eastgate Park Dam Public Meeting
DESCRIPTION:Meeting Details\nRaleigh Stormwater is hosting a meeting for the Eastgate Park Dam Rehabilitation project. Staff will be sharing updates about the project and receiving feedback from the public. \nWhen: Thursday\, February 27 from 5:00-6:30pm \nWhere: Eastgate Community Center (4200 Qual Hollow Drive\, Raleigh\, 27609) \n\n \nBackground\nIn 2023\, the city completed a report that detailed the safety deficiencies found in the dam. The report did not identify any major safety concerns\, but did identify problems that need to be addressed to bring the dam back into compliance with NC Dam Safety. \nThe goal of this project is to bring the dam into compliance with NC Dam Safety by updating the primary spillway and banks of the dam. Learn more about the upcoming project.
URL:https://livableraleigh.com/event/eastgate-park-dam-public-meeting/
LOCATION:Eastgate Park\, 4200 Quail Hollow Dr\,\, Raleigh\, NC\, 27609
CATEGORIES:Open Houses and Public Hearings
END:VEVENT
BEGIN:VEVENT
DTSTART;TZID=America/New_York:20250227T170000
DTEND;TZID=America/New_York:20250227T200000
DTSTAMP:20260424T024913
CREATED:20250111T164013Z
LAST-MODIFIED:20250221T193703Z
UID:43003-1740675600-1740686400@livableraleigh.com
SUMMARY:RHDC Certificate of Appropriateness Committee
DESCRIPTION:A. Call to Order – Chair\n\n\n1. Roll Call\n\n\n2. Approval of Agenda\n\n\n3. Approval of Minutes: January 23\, 2025\n\n\n4. Minor Work Report\nThis Agenda Item Contains an Attachment.\n\n\n\n\n\nB. Evidentiary Hearings – Old Applications\n\n\n1. COA-0135-2024: 909 OBERLIN RD\nThis Agenda Item Contains an Attachment.\n\n2. COA-0153-2024: 305 KINSEY ST\nThis Agenda Item Contains an Attachment.\n\n3. COA-0136-2024: 415 N BOUNDARY ST\nThis Agenda Item Contains an Attachment.\n\n\n\n\n\nC. Evidentiary Hearings – New Applications\n\n\n1. COA-0006-2025: 603 N EAST ST\nThis Agenda Item Contains an Attachment.\n\n2. COA-0143-2024: 920 W LENOIR ST\nThis Agenda Item Contains an Attachment.\n\n3. COA-0003-2025: 516 N BLOUNT ST\nThis Agenda Item Contains an Attachment.\n\n\n\n\n\nD. Other Business\n\n\n1. Committee Discussion\n\n\n\n\n\n\nE. Adjourment\n\n\n1. Adjourn Meeting\n\n\n\nRHDC Certificate of Appropriateness Committee public meetings are held in the Raleigh Municipal Building\, City Council Chamber. A broadcast is available via the following methods: the city’s website; the city’s YouTube Channel or Channel RTN-11. \nAgenda and Participation\nVisit the Certificate of Appropriateness webpage for additional information and how to participate. Meeting agendas are added to the BoardDocs agenda management portal. \nPLEASE NOTE: Applications should be submitted using the city’s online Permit and Development Portal. If you have any questions about the application process or about the meeting date\, time\, etc.\, please contact staff at historicpreservation@raleighnc.gov.
URL:https://livableraleigh.com/event/rhdc-certificate-of-appropriateness-committee-27/
LOCATION:Raleigh Municipal Building\, 222 W. Hargett St.\, Raleigh\, NC\, 27601\, United States
CATEGORIES:Historic Development Commission
END:VEVENT
END:VCALENDAR