BEGIN:VCALENDAR
VERSION:2.0
PRODID:-//Livable Raleigh - ECPv6.15.20//NONSGML v1.0//EN
CALSCALE:GREGORIAN
METHOD:PUBLISH
X-ORIGINAL-URL:https://livableraleigh.com
X-WR-CALDESC:Events for Livable Raleigh
REFRESH-INTERVAL;VALUE=DURATION:PT1H
X-Robots-Tag:noindex
X-PUBLISHED-TTL:PT1H
BEGIN:VTIMEZONE
TZID:America/New_York
BEGIN:DAYLIGHT
TZOFFSETFROM:-0500
TZOFFSETTO:-0400
TZNAME:EDT
DTSTART:20240310T070000
END:DAYLIGHT
BEGIN:STANDARD
TZOFFSETFROM:-0400
TZOFFSETTO:-0500
TZNAME:EST
DTSTART:20241103T060000
END:STANDARD
BEGIN:DAYLIGHT
TZOFFSETFROM:-0500
TZOFFSETTO:-0400
TZNAME:EDT
DTSTART:20250309T070000
END:DAYLIGHT
BEGIN:STANDARD
TZOFFSETFROM:-0400
TZOFFSETTO:-0500
TZNAME:EST
DTSTART:20251102T060000
END:STANDARD
BEGIN:DAYLIGHT
TZOFFSETFROM:-0500
TZOFFSETTO:-0400
TZNAME:EDT
DTSTART:20260308T070000
END:DAYLIGHT
BEGIN:STANDARD
TZOFFSETFROM:-0400
TZOFFSETTO:-0500
TZNAME:EST
DTSTART:20261101T060000
END:STANDARD
END:VTIMEZONE
BEGIN:VEVENT
DTSTART;TZID=America/New_York:20250208T100000
DTEND;TZID=America/New_York:20250208T120000
DTSTAMP:20260424T024956
CREATED:20250121T231831Z
LAST-MODIFIED:20250204T184409Z
UID:43139-1739008800-1739016000@livableraleigh.com
SUMMARY:District B Office Hours with Councilor Patton
DESCRIPTION:Bedford Food and Drink
URL:https://livableraleigh.com/event/district-b-office-hours-with-councilor-patton/
LOCATION:Bedford Food & Drink\, 3607 Falls River Ave\, Raleigh\, NC\, 27614
CATEGORIES:Council District Meeting,Engagement Filter
END:VEVENT
BEGIN:VEVENT
DTSTART;TZID=America/New_York:20250208T110000
DTEND;TZID=America/New_York:20250208T140000
DTSTAMP:20260424T024956
CREATED:20250111T160638Z
LAST-MODIFIED:20250111T160638Z
UID:42976-1739012400-1739023200@livableraleigh.com
SUMMARY:Family Fun Day at the City of Raleigh Museum
DESCRIPTION:Get ready for an unforgettable adventure at our first Family Fun Day celebration at the museum!\nExperience the thrill of a scavenger hunt\, unleash your creativity with fun craft\, and discover a VERY special surprise that awaits you. Join us for a day filled with excitement and make lasting memories! \nLocation: City of Raleigh Museum\nAges: All\nCost: Free
URL:https://livableraleigh.com/event/family-fun-day-at-the-city-of-raleigh-museum-2/
LOCATION:City of Raleigh Museum\, 220 Fayetteville St\, Raleigh\, NC\, 27601
CATEGORIES:Parks & Rec
END:VEVENT
BEGIN:VEVENT
DTSTART;TZID=America/New_York:20250208T130000
DTEND;TZID=America/New_York:20250208T143000
DTSTAMP:20260424T024956
CREATED:20250121T211720Z
LAST-MODIFIED:20250121T211720Z
UID:43126-1739019600-1739025000@livableraleigh.com
SUMMARY:Black History Trolley Tour
DESCRIPTION:Black History Trolley Tour \nSat\, Feb 8th\, 2025 1 pm; 3:00 pm \nLOCATION \nMordecai Historic Park \n1 Mimosa Street\, Raleigh\, NC 27604 \nJoin the Historic Raleigh Trolley for this special edition of our popular Black history tour highlighting Oberlin Village. Tours will begin at Mordecai Historic Park and travel to Oberlin\, where passengers will disembark for a tour of the Historic Turner House and Oberlin Cemetery and learn about the neighborhood’s history of community and freedom. \nTours will take place Saturday\, February 8th at 1:00 pm and 3:00 pm and last an hour and a half. Registration is $15 and can be purchased online using RecLink. For more information\, please call the Mordecai Historic Park Visitor Center at 919-996-4364.
URL:https://livableraleigh.com/event/black-history-trolley-tour-3/
LOCATION:Mordecai Historic Park\, 1 Mimosa St\, Raleigh\, NC\, 27604
CATEGORIES:Engagement Filter,Parks Rec & Greenway Adv Board
END:VEVENT
BEGIN:VEVENT
DTSTART;TZID=America/New_York:20250208T150000
DTEND;TZID=America/New_York:20250208T163000
DTSTAMP:20260424T024956
CREATED:20250121T211808Z
LAST-MODIFIED:20250121T211808Z
UID:43128-1739026800-1739032200@livableraleigh.com
SUMMARY:Black History Trolley Tour
DESCRIPTION:Black History Trolley Tour \n\nSat\, Feb 8th\, 2025 1 pm; 3:00 pm \nLOCATION \nMordecai Historic Park \n1 Mimosa Street\, Raleigh\, NC 27604 \n\nJoin the Historic Raleigh Trolley for this special edition of our popular Black history tour highlighting Oberlin Village. Tours will begin at Mordecai Historic Park and travel to Oberlin\, where passengers will disembark for a tour of the Historic Turner House and Oberlin Cemetery and learn about the neighborhood’s history of community and freedom. \nTours will take place Saturday\, February 8th at 1:00 pm and 3:00 pm and last an hour and a half. Registration is $15 and can be purchased online using RecLink. For more information\, please call the Mordecai Historic Park Visitor Center at 919-996-4364.
URL:https://livableraleigh.com/event/black-history-trolley-tour-4/
LOCATION:Mordecai Historic Park\, 1 Mimosa St\, Raleigh\, NC\, 27604
CATEGORIES:Engagement Filter,Parks Rec & Greenway Adv Board
END:VEVENT
END:VCALENDAR