BEGIN:VCALENDAR
VERSION:2.0
PRODID:-//Livable Raleigh - ECPv6.15.20//NONSGML v1.0//EN
CALSCALE:GREGORIAN
METHOD:PUBLISH
X-WR-CALNAME:Livable Raleigh
X-ORIGINAL-URL:https://livableraleigh.com
X-WR-CALDESC:Events for Livable Raleigh
REFRESH-INTERVAL;VALUE=DURATION:PT1H
X-Robots-Tag:noindex
X-PUBLISHED-TTL:PT1H
BEGIN:VTIMEZONE
TZID:America/New_York
BEGIN:DAYLIGHT
TZOFFSETFROM:-0500
TZOFFSETTO:-0400
TZNAME:EDT
DTSTART:20240310T070000
END:DAYLIGHT
BEGIN:STANDARD
TZOFFSETFROM:-0400
TZOFFSETTO:-0500
TZNAME:EST
DTSTART:20241103T060000
END:STANDARD
BEGIN:DAYLIGHT
TZOFFSETFROM:-0500
TZOFFSETTO:-0400
TZNAME:EDT
DTSTART:20250309T070000
END:DAYLIGHT
BEGIN:STANDARD
TZOFFSETFROM:-0400
TZOFFSETTO:-0500
TZNAME:EST
DTSTART:20251102T060000
END:STANDARD
BEGIN:DAYLIGHT
TZOFFSETFROM:-0500
TZOFFSETTO:-0400
TZNAME:EDT
DTSTART:20260308T070000
END:DAYLIGHT
BEGIN:STANDARD
TZOFFSETFROM:-0400
TZOFFSETTO:-0500
TZNAME:EST
DTSTART:20261101T060000
END:STANDARD
END:VTIMEZONE
BEGIN:VEVENT
DTSTART;TZID=America/New_York:20250108T083000
DTEND;TZID=America/New_York:20250108T103000
DTSTAMP:20260424T114855
CREATED:20241230T182441Z
LAST-MODIFIED:20250102T155831Z
UID:42801-1736325000-1736332200@livableraleigh.com
SUMMARY:Raleigh Historic Development Commission -- cancelled
DESCRIPTION:
URL:https://livableraleigh.com/event/raleigh-historic-development-commission/
LOCATION:Raleigh Municipal Building\, 222 W. Hargett St.\, Raleigh\, NC\, 27601\, United States
CATEGORIES:Engagement Filter,Historic Development Commission
END:VEVENT
BEGIN:VEVENT
DTSTART;TZID=America/New_York:20250108T120000
DTEND;TZID=America/New_York:20250108T133000
DTSTAMP:20260424T114855
CREATED:20241128T144805Z
LAST-MODIFIED:20241128T144805Z
UID:42498-1736337600-1736343000@livableraleigh.com
SUMMARY:Substance Use Advisory Commission Meeting
DESCRIPTION:The Substance Use Advisory Commission advocates for a healthy community by promoting best practices for the prevention\, intervention\, and treatment of alcohol\, tobacco\, and other drug use. \nLocation\nRaleigh Pathways Center\n900 S. Wilmington Street\nRaleigh\, NC 27601 \nAgenda\nView agenda and minutes on BoardDocs
URL:https://livableraleigh.com/event/substance-use-advisory-commission-meeting-12/
LOCATION:Raleigh Pathways Center\, 900 S. Wilmington Street
CATEGORIES:Substance Use Advisory Commission
END:VEVENT
BEGIN:VEVENT
DTSTART;TZID=America/New_York:20250108T163000
DTEND;TZID=America/New_York:20250108T183000
DTSTAMP:20260424T114855
CREATED:20241128T144906Z
LAST-MODIFIED:20241128T144906Z
UID:42500-1736353800-1736361000@livableraleigh.com
SUMMARY:Community Engagement Board Meeting
DESCRIPTION:The Community Engagement Board helps to develop\, evaluate\, and implement the City of Raleigh’s community engagement efforts. \nThe committee will meet on Jan. 8\, 2025 at 4:30 p.m. at Sertoma Arts Center\, 1400 Millbrook Road. \nRegister to attend virtually.
URL:https://livableraleigh.com/event/community-engagement-board-meeting-12/
LOCATION:Sertoma Arts Center\, 1400 Millbrook Road\, Raleigh\, NC\, 27612\, United States
CATEGORIES:Community Engagement
END:VEVENT
BEGIN:VEVENT
DTSTART;TZID=America/New_York:20250108T163000
DTEND;TZID=America/New_York:20250108T193000
DTSTAMP:20260424T114855
CREATED:20241206T141941Z
LAST-MODIFIED:20241206T141941Z
UID:42633-1736353800-1736364600@livableraleigh.com
SUMMARY:Sustainability\, Wildlife\, and Urban Trees Committee
DESCRIPTION:The Sustainability Wildlife and Urban Trees Committee a standing committee of the Parks\, Recreation and Greenway Advisory Board will meet in the Raleigh Municipal Building\, 222 W. Hargett Street\, Conference Room 303 at 4:30 p.m. on the first Wednesday of each month.
URL:https://livableraleigh.com/event/sustainability-wildlife-and-urban-trees-committee-24/
LOCATION:Raleigh Municipal Building\, 222 W. Hargett St.\, Raleigh\, NC\, 27601\, United States
CATEGORIES:Boards and Commissions
END:VEVENT
BEGIN:VEVENT
DTSTART;TZID=America/New_York:20250108T180000
DTEND;TZID=America/New_York:20250108T193000
DTSTAMP:20260424T114855
CREATED:20241128T145009Z
LAST-MODIFIED:20241128T145009Z
UID:42502-1736359200-1736364600@livableraleigh.com
SUMMARY:City Budget Listening Session - District E
DESCRIPTION:The City of Raleigh wants to hear from you! \nThe Budget and Management Services Department is hosting eight listening sessions to hear how residents want their tax dollars spent. Your input is critical to creating an equitable City budget. \nJoin us at the Laurel Hills Community Center for a City budget listening session on Wednesday\, Jan. 8 from 6 p.m. to 7:30 p.m. \nRegister online. \nIf you speak a different language and need interpretation\, let us know in the sign up form\, and we’ll provide an interpreter free of charge. \nLearn more about our budget listening sessions.
URL:https://livableraleigh.com/event/city-budget-listening-session-district-e/
LOCATION:Laurel Hills Community Center\, 3808 Edwards Mill Road\, 27612
CATEGORIES:Community Engagement
END:VEVENT
BEGIN:VEVENT
DTSTART;TZID=America/New_York:20250108T190000
DTEND;TZID=America/New_York:20250108T200000
DTSTAMP:20260424T114855
CREATED:20241222T211908Z
LAST-MODIFIED:20241222T211908Z
UID:42771-1736362800-1736366400@livableraleigh.com
SUMMARY:Second Neighborhood meeting on Z-38-24\, 1400 Edwards Mill Road
DESCRIPTION:Neighboring Property Owners and Residents:\nYou are invited to attend a second neighborhood meeting on\nJanuary 8\, 2025\, from 7:00-8:00pm\nat the Raleigh Marriott Crabtree Valley located at\n4500 Marriott Drive\, Raleigh\, NC 27612.\nThe purpose of the meeting is to discuss Z-38-24\, the requested rezoning of a parcel of land located at 1400 Edwards Mill Road (PIN: 0784270312) (the “Site”). The Site is currently zoned Commercial Mixed Use – 12 Stories – w/ Conditions (CX-12-CU) and this proposal would rezone the Site to Planned Development (PD). During the meeting\, the applicant will describe the nature of the request\, provide updates since the first neighborhood meeting\, and field any questions from the public. \nAfter the Rezoning Application has been filed\, but prior to review by the Planning Commission\,\nthe City of Raleigh requires that a second neighborhood meeting be held for all residents and\nproperty owners within 1\,000 feet of the area requested for rezoning. After the meeting\, a report\nwill be submitted to the Raleigh Planning and Development Department. Any other person\nattending the meeting can submit written comments about the meeting\, but to be included in the\nPlanning Commission agenda packet\, written comments must be received at least 10 days prior to the date of the Planning Commission meeting where the case is being considered. Information about the rezoning process is available online; visit www.raleighnc.gov and search for “Rezoning Process.” If you would like to submit written comments or questions after the meeting\, please participate in the applicable rezoning case at www.publicinput.com/rezoning. If you have further questions about the rezoning process\, or would like to submit written comments after the meeting\,please contact: \nMatthew Burns \nRaleigh Planning & Development \n(919) 996-4641 \nmatthew.burns@raleighnc.gov \nIf you have any questions about this request\, please contact Jamie Schwedler at \n(919) 835-4529 \nor via email at jamieschwedler@parkerpoe.com. \n\n\n— \n \n\nWest Raleigh Community Advocacy Council (CAC) \nhttps://www.facebook.com/WestRalCAC\nChair Peyote Perryman
URL:https://livableraleigh.com/event/second-neighborhood-meeting-on-z-38-24-1400-edwards-mill-road/
LOCATION:Raleigh Marriott Crabtree\, 4500 Marriott Drive\, Raleigh
CATEGORIES:Engagement Filter,Neighborhood Meeting (Zoning)
END:VEVENT
END:VCALENDAR