BEGIN:VCALENDAR
VERSION:2.0
PRODID:-//Livable Raleigh - ECPv6.15.20//NONSGML v1.0//EN
CALSCALE:GREGORIAN
METHOD:PUBLISH
X-WR-CALNAME:Livable Raleigh
X-ORIGINAL-URL:https://livableraleigh.com
X-WR-CALDESC:Events for Livable Raleigh
REFRESH-INTERVAL;VALUE=DURATION:PT1H
X-Robots-Tag:noindex
X-PUBLISHED-TTL:PT1H
BEGIN:VTIMEZONE
TZID:America/New_York
BEGIN:DAYLIGHT
TZOFFSETFROM:-0500
TZOFFSETTO:-0400
TZNAME:EDT
DTSTART:20230312T070000
END:DAYLIGHT
BEGIN:STANDARD
TZOFFSETFROM:-0400
TZOFFSETTO:-0500
TZNAME:EST
DTSTART:20231105T060000
END:STANDARD
BEGIN:DAYLIGHT
TZOFFSETFROM:-0500
TZOFFSETTO:-0400
TZNAME:EDT
DTSTART:20240310T070000
END:DAYLIGHT
BEGIN:STANDARD
TZOFFSETFROM:-0400
TZOFFSETTO:-0500
TZNAME:EST
DTSTART:20241103T060000
END:STANDARD
BEGIN:DAYLIGHT
TZOFFSETFROM:-0500
TZOFFSETTO:-0400
TZNAME:EDT
DTSTART:20250309T070000
END:DAYLIGHT
BEGIN:STANDARD
TZOFFSETFROM:-0400
TZOFFSETTO:-0500
TZNAME:EST
DTSTART:20251102T060000
END:STANDARD
END:VTIMEZONE
BEGIN:VEVENT
DTSTART;TZID=America/New_York:20241208T120000
DTEND;TZID=America/New_York:20241208T160000
DTSTAMP:20260422T181017
CREATED:20241103T151624Z
LAST-MODIFIED:20241103T151624Z
UID:42209-1733659200-1733673600@livableraleigh.com
SUMMARY:Floravita Exhibition Closing Reception | SEEK Raleigh
DESCRIPTION:The Grid Project will host an Opening for the Floravita Exhibition on Sunday\, December 8th\, from 12 – 4 pm. \n\n  \n\n\nFloravita\n  \nFloravita\, curated by Pete Sack of The Grid Project\, is an exhibition about the balance between living and letting go. Artists Alia El-Bermani\, Skillet Gilmore\, Oami Powers\, and Sally Van Gorder explore how the fading of one life isn’t an ending; it’s part of an ongoing\, interconnected rhythm—a dance of life and nature. Read more about the exhibition and The Grid Project. \nLocation: Birdland\, 706 Mountford Ave\, Raleigh NCExhibition dates: November 2-December 8\, 2024
URL:https://livableraleigh.com/event/floravita-exhibition-closing-reception-seek-raleigh/
LOCATION:Birdland\, 706 Mountford Avenue\, Raleigh\, NC\, 27603
CATEGORIES:Arts & Entertainment
END:VEVENT
END:VCALENDAR