BEGIN:VCALENDAR
VERSION:2.0
PRODID:-//Livable Raleigh - ECPv6.15.20//NONSGML v1.0//EN
CALSCALE:GREGORIAN
METHOD:PUBLISH
X-WR-CALNAME:Livable Raleigh
X-ORIGINAL-URL:https://livableraleigh.com
X-WR-CALDESC:Events for Livable Raleigh
REFRESH-INTERVAL;VALUE=DURATION:PT1H
X-Robots-Tag:noindex
X-PUBLISHED-TTL:PT1H
BEGIN:VTIMEZONE
TZID:America/New_York
BEGIN:DAYLIGHT
TZOFFSETFROM:-0500
TZOFFSETTO:-0400
TZNAME:EDT
DTSTART:20230312T070000
END:DAYLIGHT
BEGIN:STANDARD
TZOFFSETFROM:-0400
TZOFFSETTO:-0500
TZNAME:EST
DTSTART:20231105T060000
END:STANDARD
BEGIN:DAYLIGHT
TZOFFSETFROM:-0500
TZOFFSETTO:-0400
TZNAME:EDT
DTSTART:20240310T070000
END:DAYLIGHT
BEGIN:STANDARD
TZOFFSETFROM:-0400
TZOFFSETTO:-0500
TZNAME:EST
DTSTART:20241103T060000
END:STANDARD
BEGIN:DAYLIGHT
TZOFFSETFROM:-0500
TZOFFSETTO:-0400
TZNAME:EDT
DTSTART:20250309T070000
END:DAYLIGHT
BEGIN:STANDARD
TZOFFSETFROM:-0400
TZOFFSETTO:-0500
TZNAME:EST
DTSTART:20251102T060000
END:STANDARD
END:VTIMEZONE
BEGIN:VEVENT
DTSTART;TZID=America/New_York:20241107T120000
DTEND;TZID=America/New_York:20241107T130000
DTSTAMP:20260422T180943
CREATED:20241006T010812Z
LAST-MODIFIED:20241006T010812Z
UID:41468-1730980800-1730984400@livableraleigh.com
SUMMARY:Art\, Education\, and Collections Committee
DESCRIPTION:Meetings are held virtually on the first Thursday of each month from noon to 1 p.m. unless listed otherwise on the calendar. \nFor more information about how to join the meeting\, please contact Raleigh Arts at 919-996-3610. \n\n \n\nLearn more about the Art\, Education\, and Collections Committee
URL:https://livableraleigh.com/event/art-education-and-collections-committee-22/
LOCATION:Virtual Meeting
CATEGORIES:Boards and Commissions
END:VEVENT
BEGIN:VEVENT
DTSTART;TZID=America/New_York:20241107T140000
DTEND;TZID=America/New_York:20241107T153000
DTSTAMP:20260422T180943
CREATED:20241102T144529Z
LAST-MODIFIED:20241102T144529Z
UID:42175-1730988000-1730993400@livableraleigh.com
SUMMARY:Raleigh Transit Authority Marketing Committee Meeting
DESCRIPTION:This committee formulates an annual marketing program for Transit Authority approval and monitors program execution by staff. \nMembers: \nLeo SuarezByron LeakJennifer Truman \nFor more information and to view the agenda\, please visit Raleigh Transit Authority.
URL:https://livableraleigh.com/event/raleigh-transit-authority-marketing-committee-meeting-11/
LOCATION:Raleigh Union Station\, 510 West Martin Street\, Suite 200\, Raleigh\, NC\, 27601
CATEGORIES:Transit Authority
END:VEVENT
BEGIN:VEVENT
DTSTART;TZID=America/New_York:20241107T150000
DTEND;TZID=America/New_York:20241107T170000
DTSTAMP:20260422T180943
CREATED:20241006T010920Z
LAST-MODIFIED:20241104T204751Z
UID:41470-1730991600-1730998800@livableraleigh.com
SUMMARY:Stormwater Management Advisory Commission
DESCRIPTION:The Stormwater Management Advisory Commission (SMAC) will meet Thursday\, November 7 at 3:00 p.m. at the Raleigh Transportation Field Services Building (2550 Operations Way Raleigh\, NC 27604) to discuss upcoming stormwater projects\, programs\, and more. \nThe meeting will be held in-person and streamed live. \n\n\n\n\n\n\n\n\n\n\n\n\n\n\n\n\nRegister for the upcoming SMAC meeting!\n\n\n\n\n\n\n\n\n1. Welcome\n\n\nA. Introductions\n\n\nB. Excused Absences\n\n\n\n\n\n\n2. Approval of Minutes from Previous Meeting\n\n\nA. Approval of Minutes from October 3\, 2024\n\n\n\n\n\n\n3. Public Comment\n\n\nA. Public Comment – In person meeting\n\n\n\n\n\n\n4. Commission/Stormwater Staff Update on Matters of Importance\n\n\nA. Staff and Commission Updates\n\n\nB. High Priority Topics\n\n\nC. Notices Prior to Construction\n\n\n\n\n\n\n5. Modified Consent Agenda for Raleigh Rainwater Rewards Projects\n\n\nA. One Application Requesting City Contribution\n\n\n\n\n\n\n6. Review of Drainage Assistance and Stream Stabilization Programs\n\n\nA. Drainage Assistance and Stream Stabilization Programs Updates\n\n\n\n\n\n\n7. Stormwater Asset Management Program Updates – Part 2\n\n\nA. Priority Strategic Introduction of the Asset Management Program\n\n\n\n\n\n\n8. Review of Preliminary Topics for Upcoming Meeting(s)\n\n\nA. Preliminary Topics for December 2024 – March 2025 SMAC Meetings\n\n\n\n\n\n\n9. Other Business\n\n\nA. Non Agenda Items\n\n\n\n\n\n\n10. Adjournment\n\n\nA. Adjourn Meeting\n\n\n\nThe registration link and agenda will be available a week before the meeting date. If you subscribe to this meeting series\, you will receive the registration link and updates such as news and workshops. \nThis commission meets the first Thursday of every month. Members discuss various stormwater needs and issues. Then\, provides recommendations to staff and reports to Raleigh City Council. \nIf you would like to speak at this meeting during public comment\, please email us.
URL:https://livableraleigh.com/event/stormwater-management-advisory-commission-20/
LOCATION:Raleigh Transportation Field Services Building\, 2550 Operations Way\, Raleigh\, 27604
CATEGORIES:Stormwater Management
END:VEVENT
BEGIN:VEVENT
DTSTART;TZID=America/New_York:20241107T163000
DTEND;TZID=America/New_York:20241107T183000
DTSTAMP:20260422T180943
CREATED:20241006T011028Z
LAST-MODIFIED:20241025T194027Z
UID:41472-1730997000-1731004200@livableraleigh.com
SUMMARY:Design Review Commission
DESCRIPTION:Public Meeting – November 7\, 2024\n\n\n\n\n\n\nThe City of Raleigh Design Review Commission will conduct a public meeting on Thursday\, November 7 at 4:30 p.m. at the Raleigh Municipal Building\, 222 West Hargett Street in conference room 305. \n\n\n\n\n\n\nFor more information about the meeting\, please contact Kasey Evans or visit the Design Review Commission webpage. \nThe Commission typically meets on the first and third Thursday of each month at 4:30 p.m. Meeting agendas are added to the BoardDocs agenda management portal. Design Review Commission public meetings will be broadcast live on RTN 11 and on our live streaming webpage. To watch past meetings\, visit our video services page. \n\nA. Design Alternates – None\n\n\n\nB. Approval of Minutes\n\n\n1. Review October 3\, 2024 Meeting Minutes\n\n\n\n\n\n\nC. Report of the Commission’s Attorney\n\n\n\nD. Report of the Chair and/or Vice Chair\n\n\n\nE. Other Business\n\n\n1. Comprehensive Plan Presentation\n\n\n2. 2025 Planning\n\n\n\n\n\n\nF. Adjournment
URL:https://livableraleigh.com/event/design-review-commission-11/
LOCATION:Raleigh Municipal Building\, 222 W. Hargett St.\, Raleigh\, NC\, 27601\, United States
CATEGORIES:Design Review Commission
END:VEVENT
BEGIN:VEVENT
DTSTART;TZID=America/New_York:20241107T180000
DTEND;TZID=America/New_York:20241107T190000
DTSTAMP:20260422T180943
CREATED:20241006T011159Z
LAST-MODIFIED:20241006T011247Z
UID:41474-1731002400-1731006000@livableraleigh.com
SUMMARY:Parks Committee
DESCRIPTION:The committee is responsible for the study of issues related to park facilities\, features\, developments\, and modifications. The committee prepares recommendations and proposals for the Parks\, Recreation and Greenway Advisory Board based on in-depth review and study of park-related issues and concerns. \nThe Parks Committee a standing committee of the Parks\, Recreation and Greenway Advisory Board will meet in the Raleigh Municipal Building\, 222 W. Hargett Street\, Conference Room 303 at 6:00 pm.
URL:https://livableraleigh.com/event/parks-committee-17/
LOCATION:Raleigh Municipal Building\, 222 W. Hargett St.\, Raleigh\, NC\, 27601\, United States
CATEGORIES:Parks
END:VEVENT
BEGIN:VEVENT
DTSTART;TZID=America/New_York:20241107T180000
DTEND;TZID=America/New_York:20241107T190000
DTSTAMP:20260422T180943
CREATED:20241026T013405Z
LAST-MODIFIED:20241026T013405Z
UID:41995-1731002400-1731006000@livableraleigh.com
SUMMARY:Raleigh Convention Center Expansion Meeting
DESCRIPTION:The Raleigh Convention Center is expanding. Learn what’s driving the need for expansion and see the first set of plans. Share thoughts on three external design options and give ideas on the plaza/green space. \nThis meeting is hosted by the Raleigh Convention Center as a check-in during the multi-year process to expand RCC. This is an opportunity to understand the kinds of events that use the facility\, and to see how the expansion will look for visitors to downtown
URL:https://livableraleigh.com/event/raleigh-convention-center-expansion-meeting-2/
LOCATION:Raleigh Convention Center\, 500 South Salisbury Street\, Raleigh\, NC\, 27601
CATEGORIES:Engagement Filter,Other
END:VEVENT
BEGIN:VEVENT
DTSTART;TZID=America/New_York:20241107T180000
DTEND;TZID=America/New_York:20241107T190000
DTSTAMP:20260422T180943
CREATED:20241106T200948Z
LAST-MODIFIED:20241106T200948Z
UID:42259-1731002400-1731006000@livableraleigh.com
SUMMARY:Neighborhood Rezoning Meeting: 326 Chapanoke Road
DESCRIPTION:Nov. 7. 6 p.m.\nSanderford Road Neighborhood Center\, 2623 Sanderford Rd\, Raleigh\, NC 27610\n326 Chapanoke Rd\nPost-Submittal \nIX-3-PL w/TOD TO CX-5-CU \n(Additional Information)\nD\nJamie Schwedler
URL:https://livableraleigh.com/event/neighborhood-rezoning-meeting-326-chapanoke-road-2/
LOCATION:Sanderford Road Community Center\, 2623 Sanderford Rd\, Raleigh\, NC\, 27610
CATEGORIES:Engagement Filter,Neighborhood Meeting (Zoning)
END:VEVENT
BEGIN:VEVENT
DTSTART;TZID=America/New_York:20241107T181500
DTEND;TZID=America/New_York:20241107T191500
DTSTAMP:20260422T180943
CREATED:20241023T150103Z
LAST-MODIFIED:20241023T150508Z
UID:41912-1731003300-1731006900@livableraleigh.com
SUMMARY:Neighborhood Rezoning Meeting: 9000 & 9004 Litchford Road
DESCRIPTION:Nov 76:15 p.m.\nAbbotts Creek Community Center CC Classroom\, 9950 Durant Rd\, Raleigh\, NC 27614\n9000 & 9004 Litchford Rd\nPost-Submittal \nR-1 to R-10-CU \n(Additional Information)\nETJ\nJennifer Ashton 
URL:https://livableraleigh.com/event/neighborhood-rezoning-meeting-9000-9004-litchford-road-2/
LOCATION:Abbotts Creek Community Center\, 9950 Durant Rd\, Raleigh\, NC\, 27614
CATEGORIES:Engagement Filter,Neighborhood Meeting (Zoning)
END:VEVENT
END:VCALENDAR